BEGIN:VCALENDAR
VERSION:2.0
PRODID:-//Hal Sports - ECPv6.15.18//NONSGML v1.0//EN
CALSCALE:GREGORIAN
METHOD:PUBLISH
X-ORIGINAL-URL:https://halsports.net
X-WR-CALDESC:Events for Hal Sports
REFRESH-INTERVAL;VALUE=DURATION:PT1H
X-Robots-Tag:noindex
X-PUBLISHED-TTL:PT1H
BEGIN:VTIMEZONE
TZID:America/Denver
BEGIN:DAYLIGHT
TZOFFSETFROM:-0700
TZOFFSETTO:-0600
TZNAME:MDT
DTSTART:20220313T090000
END:DAYLIGHT
BEGIN:STANDARD
TZOFFSETFROM:-0600
TZOFFSETTO:-0700
TZNAME:MST
DTSTART:20221106T080000
END:STANDARD
BEGIN:DAYLIGHT
TZOFFSETFROM:-0700
TZOFFSETTO:-0600
TZNAME:MDT
DTSTART:20230312T090000
END:DAYLIGHT
BEGIN:STANDARD
TZOFFSETFROM:-0600
TZOFFSETTO:-0700
TZNAME:MST
DTSTART:20231105T080000
END:STANDARD
BEGIN:DAYLIGHT
TZOFFSETFROM:-0700
TZOFFSETTO:-0600
TZNAME:MDT
DTSTART:20240310T090000
END:DAYLIGHT
BEGIN:STANDARD
TZOFFSETFROM:-0600
TZOFFSETTO:-0700
TZNAME:MST
DTSTART:20241103T080000
END:STANDARD
END:VTIMEZONE
BEGIN:VTIMEZONE
TZID:UTC
BEGIN:STANDARD
TZOFFSETFROM:+0000
TZOFFSETTO:+0000
TZNAME:UTC
DTSTART:20160101T000000
END:STANDARD
END:VTIMEZONE
BEGIN:VEVENT
DTSTART;TZID=America/Denver:20230129T073000
DTEND;TZID=America/Denver:20230129T133000
DTSTAMP:20260421T151306
CREATED:20221030T205405Z
LAST-MODIFIED:20230130T174445Z
UID:10000615-1674977400-1674999000@halsports.net
SUMMARY:Mile High Stair Climb
DESCRIPTION:
URL:https://halsports.net/event/mile-high-stair-climb/
LOCATION:Republic Plaza Building
CATEGORIES:Stair Climb
ATTACH;FMTTYPE=image/png:https://halsports.net/wp-content/uploads/2022/10/MHSC_logo.png
END:VEVENT
BEGIN:VEVENT
DTSTART;TZID=UTC:20200301T080000
DTEND;TZID=UTC:20200301T120000
DTSTAMP:20260421T151306
CREATED:20191121T214942Z
LAST-MODIFIED:20191121T214942Z
UID:10000423-1583049600-1583064000@halsports.net
SUMMARY:Fight for Air Climb - Denver 2020
DESCRIPTION:https://results.sporthive.com/events/6613934909227043840
URL:https://halsports.net/event/fight-for-air-climb-run-the-republic-2020/
LOCATION:Republic Plaza Building
CATEGORIES:Feature Event,Stair Climb
ATTACH;FMTTYPE=image/png:https://halsports.net/wp-content/uploads/2018/01/ALA-Fight-for-Air.png
END:VEVENT
BEGIN:VEVENT
DTSTART;TZID=UTC:20190303T070000
DTEND;TZID=UTC:20190303T130000
DTSTAMP:20260421T151306
CREATED:20190122T073437Z
LAST-MODIFIED:20190122T073437Z
UID:10000365-1551596400-1551618000@halsports.net
SUMMARY:FIGHT FOR AIR CLIMB – Denver 2019
DESCRIPTION:https://results.sporthive.com/events/6502989251066462208
URL:https://halsports.net/event/fight-for-air-climb-run-the-republic/
LOCATION:Republic Plaza Building
CATEGORIES:Feature Event,Stair Climb
ATTACH;FMTTYPE=image/png:https://halsports.net/wp-content/uploads/2017/03/ALA-Fight-for-Air.png
END:VEVENT
BEGIN:VEVENT
DTSTART;TZID=UTC:20180304T070000
DTEND;TZID=UTC:20180304T120000
DTSTAMP:20260421T151306
CREATED:20180129T082634Z
LAST-MODIFIED:20180129T082634Z
UID:10000300-1520146800-1520164800@halsports.net
SUMMARY:FIGHT FOR AIR CLIMB –Denver 2018
DESCRIPTION:https://results.sporthive.com/events/6371571438145642240
URL:https://halsports.net/event/run-republic-denver-fight-air-climb/
LOCATION:Republic Plaza Building
CATEGORIES:Feature Event,Stair Climb
ATTACH;FMTTYPE=image/png:https://halsports.net/wp-content/uploads/2017/10/Logo.png
END:VEVENT
BEGIN:VEVENT
DTSTART;TZID=UTC:20170226T070000
DTEND;TZID=UTC:20170226T110000
DTSTAMP:20260421T151306
CREATED:20170227T222427Z
LAST-MODIFIED:20170227T222427Z
UID:10000227-1488092400-1488106800@halsports.net
SUMMARY:FIGHT FOR AIR CLIMB – Denver 2017
DESCRIPTION:8ppcbv
URL:https://halsports.net/event/run-the-republic-fight-for-air-climb/
LOCATION:Republic Plaza Building
CATEGORIES:Default Race,Stair Climb
ATTACH;FMTTYPE=image/jpeg:https://halsports.net/wp-content/uploads/2017/02/FFAC.jpg
END:VEVENT
END:VCALENDAR