BEGIN:VCALENDAR
VERSION:2.0
PRODID:-//Hal Sports - ECPv6.15.18//NONSGML v1.0//EN
CALSCALE:GREGORIAN
METHOD:PUBLISH
X-ORIGINAL-URL:https://halsports.net
X-WR-CALDESC:Events for Hal Sports
REFRESH-INTERVAL;VALUE=DURATION:PT1H
X-Robots-Tag:noindex
X-PUBLISHED-TTL:PT1H
BEGIN:VTIMEZONE
TZID:UTC
BEGIN:STANDARD
TZOFFSETFROM:+0000
TZOFFSETTO:+0000
TZNAME:UTC
DTSTART:20160101T000000
END:STANDARD
END:VTIMEZONE
BEGIN:VEVENT
DTSTART;TZID=UTC:20170401T090000
DTEND;TZID=UTC:20170401T120000
DTSTAMP:20260420T111254
CREATED:20170312T100146Z
LAST-MODIFIED:20170312T100146Z
UID:10000239-1491037200-1491048000@halsports.net
SUMMARY:Race for Grace 2017
DESCRIPTION:April 1\, 2017 \njyVqWz
URL:https://halsports.net/event/race-for-grace/
LOCATION:Grand Theatre\,  316 W 3rd St \, Grand Island\, NE\, 68801\, United States
CATEGORIES:10K,2 Mile
ATTACH;FMTTYPE=image/jpeg:https://halsports.net/wp-content/uploads/2017/03/Race-for-Grace-2017.jpg
END:VEVENT
END:VCALENDAR