BEGIN:VCALENDAR
VERSION:2.0
PRODID:-//Hal Sports - ECPv6.15.18//NONSGML v1.0//EN
CALSCALE:GREGORIAN
METHOD:PUBLISH
X-ORIGINAL-URL:https://halsports.net
X-WR-CALDESC:Events for Hal Sports
REFRESH-INTERVAL;VALUE=DURATION:PT1H
X-Robots-Tag:noindex
X-PUBLISHED-TTL:PT1H
BEGIN:VTIMEZONE
TZID:UTC
BEGIN:STANDARD
TZOFFSETFROM:+0000
TZOFFSETTO:+0000
TZNAME:UTC
DTSTART:20170101T000000
END:STANDARD
END:VTIMEZONE
BEGIN:VEVENT
DTSTART;TZID=UTC:20220409T090000
DTEND;TZID=UTC:20220409T110000
DTSTAMP:20260425T185229
CREATED:20220115T004212Z
LAST-MODIFIED:20220331T060004Z
UID:10000568-1649494800-1649502000@halsports.net
SUMMARY:Race For Grace 2022
DESCRIPTION:
URL:https://halsports.net/event/race-for-grace-2022/
LOCATION:Grand Island
CATEGORIES:10K,2 Mile,Feature Event
ATTACH;FMTTYPE=image/png:https://halsports.net/wp-content/uploads/2017/10/Foundation-logo.png
END:VEVENT
BEGIN:VEVENT
DTSTART;TZID=UTC:20201010T090000
DTEND;TZID=UTC:20201010T110000
DTSTAMP:20260425T185229
CREATED:20191121T222957Z
LAST-MODIFIED:20191121T222957Z
UID:10000425-1602320400-1602327600@halsports.net
SUMMARY:Race For Grace 2020 - Virtual
DESCRIPTION:https://results.sporthive.com/events/EVENTID
URL:https://halsports.net/event/race-for-grace-2019-2/
LOCATION:Grand Island
CATEGORIES:10K,2 Mile,Feature Event,Virtual
ATTACH;FMTTYPE=image/png:https://halsports.net/wp-content/uploads/2017/10/Foundation-logo.png
END:VEVENT
BEGIN:VEVENT
DTSTART;TZID=UTC:20190406T090000
DTEND;TZID=UTC:20190406T110000
DTSTAMP:20260425T185229
CREATED:20190210T035410Z
LAST-MODIFIED:20190210T035410Z
UID:10000164-1554541200-1554548400@halsports.net
SUMMARY:Race For Grace 2019
DESCRIPTION:https://results.sporthive.com/events/6517100078378406912
URL:https://halsports.net/event/race-for-grace-2019/
LOCATION:Grand Island
CATEGORIES:10K,2 Mile,Feature Event
ATTACH;FMTTYPE=image/png:https://halsports.net/wp-content/uploads/2017/10/Foundation-logo.png
END:VEVENT
BEGIN:VEVENT
DTSTART;TZID=UTC:20180407T070000
DTEND;TZID=UTC:20180407T110000
DTSTAMP:20260425T185229
CREATED:20171030T063722Z
LAST-MODIFIED:20171030T063722Z
UID:10000092-1523084400-1523098800@halsports.net
SUMMARY:Race for Grace 2018
DESCRIPTION:https://results.sporthive.com/events/6387725763601473280
URL:https://halsports.net/event/race-for-grace-2/
LOCATION:Grand Island
CATEGORIES:10K,2 Mile,Feature Event
ATTACH;FMTTYPE=image/png:https://halsports.net/wp-content/uploads/2017/10/Foundation-logo.png
END:VEVENT
END:VCALENDAR