BEGIN:VCALENDAR
VERSION:2.0
PRODID:-//Hal Sports - ECPv6.15.18//NONSGML v1.0//EN
CALSCALE:GREGORIAN
METHOD:PUBLISH
X-ORIGINAL-URL:https://halsports.net
X-WR-CALDESC:Events for Hal Sports
REFRESH-INTERVAL;VALUE=DURATION:PT1H
X-Robots-Tag:noindex
X-PUBLISHED-TTL:PT1H
BEGIN:VTIMEZONE
TZID:UTC
BEGIN:STANDARD
TZOFFSETFROM:+0000
TZOFFSETTO:+0000
TZNAME:UTC
DTSTART:20160101T000000
END:STANDARD
END:VTIMEZONE
BEGIN:VEVENT
DTSTART;TZID=UTC:20210828T070000
DTEND;TZID=UTC:20210828T113000
DTSTAMP:20260422T200348
CREATED:20210823T183713Z
LAST-MODIFIED:20210823T183713Z
UID:10000550-1630134000-1630150200@halsports.net
SUMMARY:Strawberry Shortcut 10K\, 5K\, 1 Mile
DESCRIPTION:https://results.sporthive.com/events/6835640128927016960
URL:https://halsports.net/event/strawberry-shortcut-10k-5k-1mile-2021/
LOCATION:Glenwood Springs
CATEGORIES:1 Mile,10K,5K,Feature Event
ATTACH;FMTTYPE=:
END:VEVENT
BEGIN:VEVENT
DTSTART;TZID=UTC:20190623T070000
DTEND;TZID=UTC:20190623T120000
DTSTAMP:20260422T200348
CREATED:20190315T052551Z
LAST-MODIFIED:20190315T052551Z
UID:10000185-1561273200-1561291200@halsports.net
SUMMARY:Strawberry Shortcut 10K & 5K 2019
DESCRIPTION:https://results.sporthive.com/events/6542876436328548608
URL:https://halsports.net/event/strawberry-shortcut-10k-5k-2/
LOCATION:Glenwood Springs
CATEGORIES:1 Mile,10K,5K,Feature Event
ATTACH;FMTTYPE=image/jpeg:https://halsports.net/wp-content/uploads/2019/03/images.jpg
END:VEVENT
BEGIN:VEVENT
DTSTART;TZID=UTC:20170618T070000
DTEND;TZID=UTC:20170618T110000
DTSTAMP:20260422T200348
CREATED:20170411T092947Z
LAST-MODIFIED:20170411T092947Z
UID:10000253-1497769200-1497783600@halsports.net
SUMMARY:Strawberry Shortcut 5K & 10K 2017
DESCRIPTION:hw09d4
URL:https://halsports.net/event/strawberry-shortcut-5k-10k/
LOCATION:Glenwood Springs
CATEGORIES:10K,5K,Feature Event,Fun Run
ATTACH;FMTTYPE=image/jpeg:https://halsports.net/wp-content/uploads/2018/05/Strawberry-Shortcut.jpg
END:VEVENT
END:VCALENDAR