BEGIN:VCALENDAR
VERSION:2.0
PRODID:-//Hal Sports - ECPv6.15.18//NONSGML v1.0//EN
CALSCALE:GREGORIAN
METHOD:PUBLISH
X-WR-CALNAME:Hal Sports
X-ORIGINAL-URL:https://halsports.net
X-WR-CALDESC:Events for Hal Sports
REFRESH-INTERVAL;VALUE=DURATION:PT1H
X-Robots-Tag:noindex
X-PUBLISHED-TTL:PT1H
BEGIN:VTIMEZONE
TZID:UTC
BEGIN:STANDARD
TZOFFSETFROM:+0000
TZOFFSETTO:+0000
TZNAME:UTC
DTSTART:20250101T000000
END:STANDARD
END:VTIMEZONE
BEGIN:VEVENT
DTSTART;TZID=UTC:20260912T090000
DTEND;TZID=UTC:20260912T092000
DTSTAMP:20260423T011712
CREATED:20251217T234937Z
LAST-MODIFIED:20260113T235941Z
UID:10000890-1789203600-1789204800@halsports.net
SUMMARY:Heroes and Villains Team Hope 5K Walk and Run 2026
DESCRIPTION:
URL:https://halsports.net/event/team-hope-5k-2026-09-12-2/
LOCATION:Central Park\, Central Park Blvd & MLK Jr. Pkwy\, Denver\, Colorado\, 80238
CATEGORIES:5K,Feature Event
ATTACH;FMTTYPE=image/jpeg:https://halsports.net/wp-content/uploads/2018/06/Team-Hope-Walk-Logo.jpg
END:VEVENT
END:VCALENDAR