BEGIN:VCALENDAR
VERSION:2.0
PRODID:-//Hal Sports - ECPv6.15.18//NONSGML v1.0//EN
CALSCALE:GREGORIAN
METHOD:PUBLISH
X-WR-CALNAME:Hal Sports
X-ORIGINAL-URL:https://halsports.net
X-WR-CALDESC:Events for Hal Sports
REFRESH-INTERVAL;VALUE=DURATION:PT1H
X-Robots-Tag:noindex
X-PUBLISHED-TTL:PT1H
BEGIN:VTIMEZONE
TZID:UTC
BEGIN:STANDARD
TZOFFSETFROM:+0000
TZOFFSETTO:+0000
TZNAME:UTC
DTSTART:20160101T000000
END:STANDARD
END:VTIMEZONE
BEGIN:VTIMEZONE
TZID:America/Denver
BEGIN:DAYLIGHT
TZOFFSETFROM:-0700
TZOFFSETTO:-0600
TZNAME:MDT
DTSTART:20200308T090000
END:DAYLIGHT
BEGIN:STANDARD
TZOFFSETFROM:-0600
TZOFFSETTO:-0700
TZNAME:MST
DTSTART:20201101T080000
END:STANDARD
BEGIN:DAYLIGHT
TZOFFSETFROM:-0700
TZOFFSETTO:-0600
TZNAME:MDT
DTSTART:20210314T090000
END:DAYLIGHT
BEGIN:STANDARD
TZOFFSETFROM:-0600
TZOFFSETTO:-0700
TZNAME:MST
DTSTART:20211107T080000
END:STANDARD
BEGIN:DAYLIGHT
TZOFFSETFROM:-0700
TZOFFSETTO:-0600
TZNAME:MDT
DTSTART:20220313T090000
END:DAYLIGHT
BEGIN:STANDARD
TZOFFSETFROM:-0600
TZOFFSETTO:-0700
TZNAME:MST
DTSTART:20221106T080000
END:STANDARD
END:VTIMEZONE
BEGIN:VEVENT
DTSTART;TZID=UTC:20250913T090000
DTEND;TZID=UTC:20250913T092000
DTSTAMP:20260423T030330
CREATED:20250114T052228Z
LAST-MODIFIED:20250913T042032Z
UID:10000817-1757754000-1757755200@halsports.net
SUMMARY:Heroes and Villains Team Hope 5K Walk and Run
DESCRIPTION:
URL:https://halsports.net/event/team-hope-5k-2025-09-13/
LOCATION:Central Park\, Central Park Blvd & MLK Jr. Pkwy\, Denver\, Colorado\, 80238
CATEGORIES:5K,Feature Event
ATTACH;FMTTYPE=image/jpeg:https://halsports.net/wp-content/uploads/2018/06/Team-Hope-Walk-Logo.jpg
END:VEVENT
BEGIN:VEVENT
DTSTART;TZID=UTC:20240914T090000
DTEND;TZID=UTC:20240914T092000
DTSTAMP:20260423T030330
CREATED:20240808T191801Z
LAST-MODIFIED:20240914T024836Z
UID:10000759-1726304400-1726305600@halsports.net
SUMMARY:Heroes and Villains Team Hope 5K Walk and Run
DESCRIPTION:
URL:https://halsports.net/event/team-hope-5k-2024/
LOCATION:Central Park\, Central Park Blvd & MLK Jr. Pkwy\, Denver\, Colorado\, 80238
CATEGORIES:5K,Feature Event
ATTACH;FMTTYPE=image/jpeg:https://halsports.net/wp-content/uploads/2018/06/Team-Hope-Walk-Logo.jpg
END:VEVENT
BEGIN:VEVENT
DTSTART;TZID=UTC:20240728T080000
DTEND;TZID=UTC:20240728T082000
DTSTAMP:20260423T030330
CREATED:20240126T002515Z
LAST-MODIFIED:20240727T011238Z
UID:10000723-1722153600-1722154800@halsports.net
SUMMARY:Dash for Smiles 2024
DESCRIPTION:
URL:https://halsports.net/event/dash-for-smiles-2024-2/
LOCATION:Central Park\, Central Park Blvd & MLK Jr. Pkwy\, Denver\, Colorado\, 80238
CATEGORIES:5K,Feature Event,Kids Fun Run
ATTACH;FMTTYPE=image/jpeg:https://halsports.net/wp-content/uploads/2024/01/Dash-for-Smiles-Logo.jpg
END:VEVENT
BEGIN:VEVENT
DTSTART;TZID=UTC:20230723T080000
DTEND;TZID=UTC:20230723T083000
DTSTAMP:20260423T030330
CREATED:20230216T005205Z
LAST-MODIFIED:20230723T143120Z
UID:10000644-1690099200-1690101000@halsports.net
SUMMARY:Dash for Smiles 2023
DESCRIPTION:
URL:https://halsports.net/event/dash-for-smiles-2023/
LOCATION:Central Park\, Central Park Blvd & MLK Jr. Pkwy\, Denver\, Colorado\, 80238
CATEGORIES:5K,Feature Event,Kids Fun Run
ATTACH;FMTTYPE=image/jpeg:https://halsports.net/wp-content/uploads/2023/02/Black-tie_9-months.jpg
END:VEVENT
BEGIN:VEVENT
DTSTART;TZID=UTC:20220724T080000
DTEND;TZID=UTC:20220724T113000
DTSTAMP:20260423T030330
CREATED:20220116T211617Z
LAST-MODIFIED:20220809T170837Z
UID:10000584-1658649600-1658662200@halsports.net
SUMMARY:Dash for Smiles 2022
DESCRIPTION:
URL:https://halsports.net/event/dash-for-smiles-2022/
LOCATION:Central Park\, Central Park Blvd & MLK Jr. Pkwy\, Denver\, Colorado\, 80238
CATEGORIES:5K,Feature Event
ATTACH;FMTTYPE=image/jpeg:https://halsports.net/wp-content/uploads/2022/01/Dash-Logo-2.jpg
END:VEVENT
BEGIN:VEVENT
DTSTART;TZID=America/Denver:20211010T080000
DTEND;TZID=America/Denver:20211010T120000
DTSTAMP:20260423T030330
CREATED:20210510T215754Z
LAST-MODIFIED:20211014T143206Z
UID:10000505-1633852800-1633867200@halsports.net
SUMMARY:bRUNch Run 2021
DESCRIPTION:https://results.sporthive.com/events/eventid/ \n 
URL:https://halsports.net/event/brunch2021/
LOCATION:Central Park\, Central Park Blvd & MLK Jr. Pkwy\, Denver\, Colorado\, 80238
CATEGORIES:10K,5K,Feature Event
ATTACH;FMTTYPE=image/png:https://halsports.net/wp-content/uploads/2021/05/brunchrunlogo.png
END:VEVENT
BEGIN:VEVENT
DTSTART;TZID=UTC:20210911T090000
DTEND;TZID=UTC:20210911T110000
DTSTAMP:20260423T030330
CREATED:20210619T204359Z
LAST-MODIFIED:20211006T175811Z
UID:10000527-1631350800-1631358000@halsports.net
SUMMARY:Team Hope 5K - 2021
DESCRIPTION:https://results.sporthive.com/events/6574988502290160128
URL:https://halsports.net/event/team-hope-5k-2021/
LOCATION:Central Park\, Central Park Blvd & MLK Jr. Pkwy\, Denver\, Colorado\, 80238
CATEGORIES:5K,Feature Event
ATTACH;FMTTYPE=image/jpeg:https://halsports.net/wp-content/uploads/2018/06/Team-Hope-Walk-Logo.jpg
END:VEVENT
BEGIN:VEVENT
DTSTART;TZID=UTC:20210725T080000
DTEND;TZID=UTC:20210725T113000
DTSTAMP:20260423T030330
CREATED:20210619T185914Z
LAST-MODIFIED:20210619T185914Z
UID:10000510-1627200000-1627212600@halsports.net
SUMMARY:Dash for Smiles 2021
DESCRIPTION:https://results.sporthive.com/events/6819641981326694400
URL:https://halsports.net/event/dash-for-smiles-2021/
LOCATION:Central Park\, Central Park Blvd & MLK Jr. Pkwy\, Denver\, Colorado\, 80238
CATEGORIES:5K,Feature Event
ATTACH;FMTTYPE=image/jpeg:https://halsports.net/wp-content/uploads/2018/06/Dash-for-Smiles-FRONT.jpg
END:VEVENT
BEGIN:VEVENT
DTSTART;TZID=UTC:20201011T090000
DTEND;TZID=UTC:20201011T120000
DTSTAMP:20260423T030330
CREATED:20200326T183116Z
LAST-MODIFIED:20200326T183116Z
UID:10000449-1602406800-1602417600@halsports.net
SUMMARY:bRUNch Run 2020 - Cancelled
DESCRIPTION:https://results.sporthive.com/events/eventid/p>
URL:https://halsports.net/event/brunch2020/
LOCATION:Central Park\, Central Park Blvd & MLK Jr. Pkwy\, Denver\, Colorado\, 80238
CATEGORIES:5K,Feature Event
ATTACH;FMTTYPE=image/png:https://halsports.net/wp-content/uploads/2019/04/Logo.png
END:VEVENT
BEGIN:VEVENT
DTSTART;TZID=UTC:20191013T080000
DTEND;TZID=UTC:20191013T120000
DTSTAMP:20260423T030330
CREATED:20190415T052748Z
LAST-MODIFIED:20190415T052748Z
UID:10000200-1570953600-1570968000@halsports.net
SUMMARY:bRUNch Run 2019
DESCRIPTION:https://results.sporthive.com/events/6587118945980457216
URL:https://halsports.net/event/12043/
LOCATION:Central Park\, Central Park Blvd & MLK Jr. Pkwy\, Denver\, Colorado\, 80238
CATEGORIES:5K,Feature Event
ATTACH;FMTTYPE=image/png:https://halsports.net/wp-content/uploads/2019/04/Logo.png
END:VEVENT
BEGIN:VEVENT
DTSTART;TZID=UTC:20190914T090000
DTEND;TZID=UTC:20190914T110000
DTSTAMP:20260423T030330
CREATED:20190802T042445Z
LAST-MODIFIED:20190802T042445Z
UID:10000208-1568451600-1568458800@halsports.net
SUMMARY:Team Hope 5K - 2019
DESCRIPTION:https://results.sporthive.com/events/6574988502290160128
URL:https://halsports.net/event/team-hope-5k-2019/
LOCATION:Central Park\, Central Park Blvd & MLK Jr. Pkwy\, Denver\, Colorado\, 80238
CATEGORIES:5K,Feature Event
ATTACH;FMTTYPE=image/jpeg:https://halsports.net/wp-content/uploads/2018/06/Team-Hope-Walk-Logo.jpg
END:VEVENT
BEGIN:VEVENT
DTSTART;TZID=UTC:20190728T083000
DTEND;TZID=UTC:20190728T113000
DTSTAMP:20260423T030330
CREATED:20190330T024103Z
LAST-MODIFIED:20190330T024103Z
UID:10000391-1564302600-1564313400@halsports.net
SUMMARY:Dash for Smiles 2019
DESCRIPTION:https://results.sporthive.com/events/6559085419487689984
URL:https://halsports.net/event/dash-for-smiles-2019/
LOCATION:Central Park\, Central Park Blvd & MLK Jr. Pkwy\, Denver\, Colorado\, 80238
CATEGORIES:5K,Feature Event
ATTACH;FMTTYPE=image/jpeg:https://halsports.net/wp-content/uploads/2018/06/Dash-for-Smiles-FRONT.jpg
END:VEVENT
BEGIN:VEVENT
DTSTART;TZID=UTC:20180908T090000
DTEND;TZID=UTC:20180908T110000
DTSTAMP:20260423T030330
CREATED:20180615T095607Z
LAST-MODIFIED:20180615T095607Z
UID:10000136-1536397200-1536404400@halsports.net
SUMMARY:Team Hope 5K - 2018
DESCRIPTION:https://results.sporthive.com/events/6426156542464412672
URL:https://halsports.net/event/team-hope-5k-2018/
LOCATION:Central Park\, Central Park Blvd & MLK Jr. Pkwy\, Denver\, Colorado\, 80238
CATEGORIES:5K,Feature Event
ATTACH;FMTTYPE=image/jpeg:https://halsports.net/wp-content/uploads/2018/06/Team-Hope-Walk-Logo.jpg
END:VEVENT
BEGIN:VEVENT
DTSTART;TZID=UTC:20180729T083000
DTEND;TZID=UTC:20180729T113000
DTSTAMP:20260423T030330
CREATED:20180614T094956Z
LAST-MODIFIED:20180614T094956Z
UID:10000332-1532853000-1532863800@halsports.net
SUMMARY:Dash for Smiles 2018
DESCRIPTION:https://results.sporthive.com/events/6410919415829161728
URL:https://halsports.net/event/dash-for-smiles-2018/
LOCATION:Central Park\, Central Park Blvd & MLK Jr. Pkwy\, Denver\, Colorado\, 80238
CATEGORIES:5K,Feature Event
ATTACH;FMTTYPE=image/jpeg:https://halsports.net/wp-content/uploads/2018/06/Dash-for-Smiles-FRONT.jpg
END:VEVENT
BEGIN:VEVENT
DTSTART;TZID=UTC:20180624T090000
DTEND;TZID=UTC:20180624T110000
DTSTAMP:20260423T030330
CREATED:20180322T005046Z
LAST-MODIFIED:20180322T005046Z
UID:10000121-1529830800-1529838000@halsports.net
SUMMARY:Miles for Melanoma 5K - 2018
DESCRIPTION:https://results.sporthive.com/events/6407038109722766336
URL:https://halsports.net/event/miles-for-melanoma-5k-2018/
LOCATION:Central Park\, Central Park Blvd & MLK Jr. Pkwy\, Denver\, Colorado\, 80238
CATEGORIES:5K,Feature Event
ATTACH;FMTTYPE=image/png:https://halsports.net/wp-content/uploads/2017/04/Mile-Melanoma-2017.png
END:VEVENT
BEGIN:VEVENT
DTSTART;TZID=UTC:20170909T090000
DTEND;TZID=UTC:20170909T110000
DTSTAMP:20260423T030330
CREATED:20170716T092308Z
LAST-MODIFIED:20170716T092308Z
UID:10000273-1504947600-1504954800@halsports.net
SUMMARY:Team Hope 5K - 2017
DESCRIPTION:aIVPH
URL:https://halsports.net/event/team-hope-5k-2017/
LOCATION:Central Park\, Central Park Blvd & MLK Jr. Pkwy\, Denver\, Colorado\, 80238
CATEGORIES:5K,Feature Event
ATTACH;FMTTYPE=image/jpeg:https://halsports.net/wp-content/uploads/2018/06/Team-Hope-Walk-Logo.jpg
END:VEVENT
BEGIN:VEVENT
DTSTART;TZID=UTC:20170730T083000
DTEND;TZID=UTC:20170730T103000
DTSTAMP:20260423T030330
CREATED:20170602T083035Z
LAST-MODIFIED:20170602T083035Z
UID:10000266-1501403400-1501410600@halsports.net
SUMMARY:Dash for Smiles 2017
DESCRIPTION:kKTwkQ
URL:https://halsports.net/event/dash-smiles-5k-2017/
LOCATION:Central Park\, Central Park Blvd & MLK Jr. Pkwy\, Denver\, Colorado\, 80238
CATEGORIES:5K,Feature Event
ATTACH;FMTTYPE=image/jpeg:https://halsports.net/wp-content/uploads/2017/06/Dash-for-Smiles-FRONT.jpg
END:VEVENT
BEGIN:VEVENT
DTSTART;TZID=UTC:20170625T080000
DTEND;TZID=UTC:20170625T110000
DTSTAMP:20260423T030330
CREATED:20170501T035936Z
LAST-MODIFIED:20170501T035936Z
UID:10000255-1498377600-1498388400@halsports.net
SUMMARY:Miles for Melanoma 2017
DESCRIPTION:zyeFjF
URL:https://halsports.net/event/miles-for-melanoma-2017/
LOCATION:Central Park\, Central Park Blvd & MLK Jr. Pkwy\, Denver\, Colorado\, 80238
CATEGORIES:5K,Feature Event
ATTACH;FMTTYPE=image/png:https://halsports.net/wp-content/uploads/2017/04/Mile-Melanoma-2017.png
END:VEVENT
END:VCALENDAR