BEGIN:VCALENDAR
VERSION:2.0
PRODID:-//Hal Sports - ECPv6.15.18//NONSGML v1.0//EN
CALSCALE:GREGORIAN
METHOD:PUBLISH
X-ORIGINAL-URL:https://halsports.net
X-WR-CALDESC:Events for Hal Sports
REFRESH-INTERVAL;VALUE=DURATION:PT1H
X-Robots-Tag:noindex
X-PUBLISHED-TTL:PT1H
BEGIN:VTIMEZONE
TZID:America/Denver
BEGIN:DAYLIGHT
TZOFFSETFROM:-0700
TZOFFSETTO:-0600
TZNAME:MDT
DTSTART:20180311T090000
END:DAYLIGHT
BEGIN:STANDARD
TZOFFSETFROM:-0600
TZOFFSETTO:-0700
TZNAME:MST
DTSTART:20181104T080000
END:STANDARD
BEGIN:DAYLIGHT
TZOFFSETFROM:-0700
TZOFFSETTO:-0600
TZNAME:MDT
DTSTART:20190310T090000
END:DAYLIGHT
BEGIN:STANDARD
TZOFFSETFROM:-0600
TZOFFSETTO:-0700
TZNAME:MST
DTSTART:20191103T080000
END:STANDARD
BEGIN:DAYLIGHT
TZOFFSETFROM:-0700
TZOFFSETTO:-0600
TZNAME:MDT
DTSTART:20200308T090000
END:DAYLIGHT
BEGIN:STANDARD
TZOFFSETFROM:-0600
TZOFFSETTO:-0700
TZNAME:MST
DTSTART:20201101T080000
END:STANDARD
BEGIN:DAYLIGHT
TZOFFSETFROM:-0700
TZOFFSETTO:-0600
TZNAME:MDT
DTSTART:20210314T090000
END:DAYLIGHT
BEGIN:STANDARD
TZOFFSETFROM:-0600
TZOFFSETTO:-0700
TZNAME:MST
DTSTART:20211107T080000
END:STANDARD
BEGIN:DAYLIGHT
TZOFFSETFROM:-0700
TZOFFSETTO:-0600
TZNAME:MDT
DTSTART:20220313T090000
END:DAYLIGHT
BEGIN:STANDARD
TZOFFSETFROM:-0600
TZOFFSETTO:-0700
TZNAME:MST
DTSTART:20221106T080000
END:STANDARD
END:VTIMEZONE
BEGIN:VTIMEZONE
TZID:UTC
BEGIN:STANDARD
TZOFFSETFROM:+0000
TZOFFSETTO:+0000
TZNAME:UTC
DTSTART:20160101T000000
END:STANDARD
END:VTIMEZONE
BEGIN:VEVENT
DTSTART;TZID=America/Denver:20210515T080000
DTEND;TZID=America/Denver:20210516T120000
DTSTAMP:20260424T131000
CREATED:20210409T054451Z
LAST-MODIFIED:20210409T054451Z
UID:10000499-1621065600-1621166400@halsports.net
SUMMARY:Runner's Reunion 5K & 10K
DESCRIPTION:
URL:https://halsports.net/event/runners-reunion-5k-10k/
LOCATION:City Park\, 2001 Colorado Blvd\, Denver\, CO\, 80205\, United States
CATEGORIES:10K,5K,Feature Event
END:VEVENT
BEGIN:VEVENT
DTSTART;TZID=UTC:20201206T080000
DTEND;TZID=UTC:20201206T120000
DTSTAMP:20260424T131000
CREATED:20190415T062915Z
LAST-MODIFIED:20190415T062915Z
UID:10000406-1607241600-1607256000@halsports.net
SUMMARY:Rudolph Ramble 5K 2020
DESCRIPTION:https://results.sporthive.com/events/6726160587949222400
URL:https://halsports.net/event/rudolph-ramble-5k-2020/
LOCATION:City Park\, 2001 Colorado Blvd\, Denver\, CO\, 80205\, United States
CATEGORIES:5K,Feature Event
ATTACH;FMTTYPE=image/jpeg:https://halsports.net/wp-content/uploads/2019/04/RudolphRamble_logo2019.jpg
END:VEVENT
BEGIN:VEVENT
DTSTART;TZID=UTC:20201121T080000
DTEND;TZID=UTC:20201121T120000
DTSTAMP:20260424T131000
CREATED:20200327T174348Z
LAST-MODIFIED:20200327T174348Z
UID:10000454-1605945600-1605960000@halsports.net
SUMMARY:Pumpkin Pie 5K & 10K 2020
DESCRIPTION:https://results.sporthive.com/events/6726951708051747584
URL:https://halsports.net/event/pumpkin-pie-5k-10k-2020/
LOCATION:City Park\, 2001 Colorado Blvd\, Denver\, CO\, 80205\, United States
CATEGORIES:5K,Feature Event
ATTACH;FMTTYPE=image/png:https://halsports.net/wp-content/uploads/2018/06/PimkpinPie-2018.png
END:VEVENT
BEGIN:VEVENT
DTSTART;TZID=UTC:20201025T084500
DTEND;TZID=UTC:20201025T120000
DTSTAMP:20260424T131000
CREATED:20191121T223839Z
LAST-MODIFIED:20191121T223839Z
UID:10000426-1603615500-1603627200@halsports.net
SUMMARY:Donut Dash 5K 2020
DESCRIPTION:https://results.sporthive.com/events/6627630817240002048
URL:https://halsports.net/event/donut-dash-5k-10k-2019-2/
LOCATION:City Park\, 2001 Colorado Blvd\, Denver\, CO\, 80205\, United States
CATEGORIES:10K,5K,Feature Event
END:VEVENT
BEGIN:VEVENT
DTSTART;TZID=UTC:20191116T084500
DTEND;TZID=UTC:20191116T120000
DTSTAMP:20260424T131000
CREATED:20190415T061347Z
LAST-MODIFIED:20190415T061347Z
UID:10000401-1573893900-1573905600@halsports.net
SUMMARY:Pumpkin Pie 5K & 10K 2019
DESCRIPTION:https://results.sporthive.com/events/6597894250133624064
URL:https://halsports.net/event/pumpkin-pie-5k-10k-2019/
LOCATION:City Park\, 2001 Colorado Blvd\, Denver\, CO\, 80205\, United States
CATEGORIES:10K,5K,Feature Event
ATTACH;FMTTYPE=image/png:https://halsports.net/wp-content/uploads/2018/06/PimkpinPie-2018.png
END:VEVENT
BEGIN:VEVENT
DTSTART;TZID=UTC:20190825T090000
DTEND;TZID=UTC:20190825T120000
DTSTAMP:20260424T131000
CREATED:20190331T230947Z
LAST-MODIFIED:20190331T230947Z
UID:10000396-1566723600-1566734400@halsports.net
SUMMARY:PH in the Park 5K & 1 Mile 2019
DESCRIPTION:https://results.sporthive.com/events/6564839790900936704
URL:https://halsports.net/event/ph-in-the-park-2019/
LOCATION:City Park\, 2001 Colorado Blvd\, Denver\, CO\, 80205\, United States
CATEGORIES:5K,Feature Event
ATTACH;FMTTYPE=image/jpeg:https://halsports.net/wp-content/uploads/2018/01/PH_in_the_Park_Logo_2018.jpg
END:VEVENT
BEGIN:VEVENT
DTSTART;TZID=UTC:20190811T084500
DTEND;TZID=UTC:20190811T120000
DTSTAMP:20260424T131000
CREATED:20190331T224641Z
LAST-MODIFIED:20190331T224641Z
UID:10000394-1565513100-1565524800@halsports.net
SUMMARY:Donut Dash 2019
DESCRIPTION:https://results.sporthive.com/events/6564122003098531328
URL:https://halsports.net/event/donut-dash-5k-10k-2019/
LOCATION:City Park\, 2001 Colorado Blvd\, Denver\, CO\, 80205\, United States
CATEGORIES:10K,5K,Feature Event
END:VEVENT
BEGIN:VEVENT
DTSTART;TZID=America/Denver:20190608T083000
DTEND;TZID=America/Denver:20190608T100000
DTSTAMP:20260424T131000
CREATED:20190315T044842Z
LAST-MODIFIED:20190315T044842Z
UID:10000176-1559982600-1559988000@halsports.net
SUMMARY:Jodi's Race for Awareness 2019
DESCRIPTION:https://results.sporthive.com/events/6542537623490873088
URL:https://halsports.net/event/jodis-race-for-awareness-2-2/
LOCATION:City Park\, 2001 Colorado Blvd\, Denver\, CO\, 80205\, United States
CATEGORIES:1 Mile,5K,Feature Event,Kids Fun Run
ATTACH;FMTTYPE=image/jpeg:https://halsports.net/wp-content/uploads/2017/03/jodisraceforawareness.jpg
END:VEVENT
BEGIN:VEVENT
DTSTART;TZID=UTC:20190519T080000
DTEND;TZID=UTC:20190519T100000
DTSTAMP:20260424T131000
CREATED:20190310T232312Z
LAST-MODIFIED:20190310T232312Z
UID:10000377-1558252800-1558260000@halsports.net
SUMMARY:Colfax Marathon 2019
DESCRIPTION:Kick off Denver’s Colfax Marathon weekend on Saturday May 18th 9:00 starting at 9:00 in City Park with the Bellco Colfax 5K! Join us on Sunday the 19th for the Marathon\, Marathon Relay\, Half Marathon or 10Mile.
URL:https://halsports.net/event/colfax-marathon-2/
LOCATION:City Park\, 2001 Colorado Blvd\, Denver\, CO\, 80205\, United States
CATEGORIES:10 Mile,5K,Feature Event,Half Marathon,Marathon,Relay
ATTACH;FMTTYPE=image/png:https://halsports.net/wp-content/uploads/2017/04/Colfax.png
END:VEVENT
BEGIN:VEVENT
DTSTART;TZID=UTC:20181202T100000
DTEND;TZID=UTC:20181202T120000
DTSTAMP:20260424T131000
CREATED:20181203T025914Z
LAST-MODIFIED:20181203T025914Z
UID:10000353-1543744800-1543752000@halsports.net
SUMMARY:Rudolph Ramble 5K 2018
DESCRIPTION:https://results.sporthive.com/events/6473668866557794048
URL:https://halsports.net/event/rudolph-ramble-5k-2018/
LOCATION:City Park\, 2001 Colorado Blvd\, Denver\, CO\, 80205\, United States
CATEGORIES:5K,Feature Event
ATTACH;FMTTYPE=image/jpeg:https://halsports.net/wp-content/uploads/2017/08/Rudolph-Ramble-266x300.jpg
END:VEVENT
BEGIN:VEVENT
DTSTART;TZID=UTC:20181117T084500
DTEND;TZID=UTC:20181117T120000
DTSTAMP:20260424T131000
CREATED:20181118T061956Z
LAST-MODIFIED:20181118T061956Z
UID:10000351-1542444300-1542456000@halsports.net
SUMMARY:Pumpkin Pie 5K & 10K 2018
DESCRIPTION:https://results.sporthive.com/events/6469214500129888000
URL:https://halsports.net/event/pumpkin-pie-5k-10k-2018/
LOCATION:City Park\, 2001 Colorado Blvd\, Denver\, CO\, 80205\, United States
CATEGORIES:10K,5K,Feature Event
ATTACH;FMTTYPE=image/png:https://halsports.net/wp-content/uploads/2018/06/PimkpinPie-2018.png
END:VEVENT
BEGIN:VEVENT
DTSTART;TZID=UTC:20180826T080000
DTEND;TZID=UTC:20180826T120000
DTSTAMP:20260424T131000
CREATED:20180129T095410Z
LAST-MODIFIED:20180129T095410Z
UID:10000105-1535270400-1535284800@halsports.net
SUMMARY:PH in the Park 5K & 1 Mile 2018
DESCRIPTION:https://results.sporthive.com/events/6426147016226949376
URL:https://halsports.net/event/ph-in-the-park-2018/
LOCATION:City Park\, 2001 Colorado Blvd\, Denver\, CO\, 80205\, United States
CATEGORIES:5K,Feature Event
ATTACH;FMTTYPE=image/jpeg:https://halsports.net/wp-content/uploads/2018/01/PH_in_the_Park_Logo_2018.jpg
END:VEVENT
BEGIN:VEVENT
DTSTART;TZID=UTC:20180728T080000
DTEND;TZID=UTC:20180728T100000
DTSTAMP:20260424T131000
CREATED:20180614T094539Z
LAST-MODIFIED:20180614T094539Z
UID:10000331-1532764800-1532772000@halsports.net
SUMMARY:Destination Health 5K 2018
DESCRIPTION:https://results.sporthive.com/events/6410908871686840832
URL:https://halsports.net/event/destination-health-5k-2018/
LOCATION:City Park\, 2001 Colorado Blvd\, Denver\, CO\, 80205\, United States
CATEGORIES:5K,Feature Event
ATTACH;FMTTYPE=image/jpeg:https://halsports.net/wp-content/uploads/2018/06/destination-health-2018-1.jpg
END:VEVENT
BEGIN:VEVENT
DTSTART;TZID=UTC:20180610T093000
DTEND;TZID=UTC:20180610T120000
DTSTAMP:20260424T131000
CREATED:20180321T233410Z
LAST-MODIFIED:20180321T233410Z
UID:10000314-1528623000-1528632000@halsports.net
SUMMARY:Strides for Epilepsy 2018
DESCRIPTION:https://results.sporthive.com/events/6404078297458170880
URL:https://halsports.net/event/strides-for-epilepsy-2/
LOCATION:City Park\, 2001 Colorado Blvd\, Denver\, CO\, 80205\, United States
CATEGORIES:5K,Feature Event,Kids Fun Run
ATTACH;FMTTYPE=image/jpeg:https://halsports.net/wp-content/uploads/2018/03/logo-2018.jpg
END:VEVENT
BEGIN:VEVENT
DTSTART;TZID=UTC:20180609T083000
DTEND;TZID=UTC:20180609T103000
DTSTAMP:20260424T131000
CREATED:20180321T231401Z
LAST-MODIFIED:20180321T231401Z
UID:10000313-1528533000-1528540200@halsports.net
SUMMARY:Jodi's Race for Awareness 2018
DESCRIPTION:https://results.sporthive.com/events/6404068285889403136
URL:https://halsports.net/event/jodis-race-for-awareness-2/
LOCATION:City Park\, 2001 Colorado Blvd\, Denver\, CO\, 80205\, United States
CATEGORIES:1 Mile,5K,Feature Event,Kids Fun Run
ATTACH;FMTTYPE=image/jpeg:https://halsports.net/wp-content/uploads/2017/03/jodisraceforawareness.jpg
END:VEVENT
BEGIN:VEVENT
DTSTART;TZID=UTC:20180428T084500
DTEND;TZID=UTC:20180428T120000
DTSTAMP:20260424T131000
CREATED:20180129T090949Z
LAST-MODIFIED:20180129T090949Z
UID:10000100-1524905100-1524916800@halsports.net
SUMMARY:Donut Dash 2018
DESCRIPTION:https://results.sporthive.com/events/6394974895201091840
URL:https://halsports.net/event/donut-dash-5k-10k-2018/
LOCATION:City Park\, 2001 Colorado Blvd\, Denver\, CO\, 80205\, United States
CATEGORIES:10K,5K,Feature Event
END:VEVENT
BEGIN:VEVENT
DTSTART;TZID=UTC:20171203T100000
DTEND;TZID=UTC:20171203T120000
DTSTAMP:20260424T131000
CREATED:20171203T104322Z
LAST-MODIFIED:20171203T104322Z
UID:10000293-1512295200-1512302400@halsports.net
SUMMARY:Rudolph Ramble 5K 2017
DESCRIPTION:https://results.sporthive.com/events/6341516605523860736
URL:https://halsports.net/event/rudolph-ramble-2017/
LOCATION:City Park\, 2001 Colorado Blvd\, Denver\, CO\, 80205\, United States
CATEGORIES:5K,Feature Event,Kids Fun Run
ATTACH;FMTTYPE=image/jpeg:https://halsports.net/wp-content/uploads/2017/08/Rudolph-Ramble-266x300.jpg
END:VEVENT
BEGIN:VEVENT
DTSTART;TZID=UTC:20171118T084500
DTEND;TZID=UTC:20171118T120000
DTSTAMP:20260424T131000
CREATED:20171118T095319Z
LAST-MODIFIED:20171118T095319Z
UID:10000083-1510994700-1511006400@halsports.net
SUMMARY:Pumpkin Pie 5K & 10K 2017
DESCRIPTION:https://results.sporthive.com/events/6337138788291917568
URL:https://halsports.net/event/pumpkin-pie-5k-10k-2017/
LOCATION:City Park\, 2001 Colorado Blvd\, Denver\, CO\, 80205\, United States
CATEGORIES:10K,5K,Feature Event
ATTACH;FMTTYPE=image/png:https://halsports.net/wp-content/uploads/2017/08/PimkpinPie-2017.png
END:VEVENT
BEGIN:VEVENT
DTSTART;TZID=UTC:20170827T080000
DTEND;TZID=UTC:20170827T120000
DTSTAMP:20260424T131000
CREATED:20170602T095022Z
LAST-MODIFIED:20170602T095022Z
UID:10000066-1503820800-1503835200@halsports.net
SUMMARY:PH in the Park 5K & 1 Mile 2017
DESCRIPTION:XzJ92c
URL:https://halsports.net/event/ph-park-5k-1-mile-2017/
LOCATION:City Park\, 2001 Colorado Blvd\, Denver\, CO\, 80205\, United States
CATEGORIES:1 Mile,5K,Feature Event
ATTACH;FMTTYPE=image/png:https://halsports.net/wp-content/uploads/2017/06/Childrens-Hospital.png
END:VEVENT
BEGIN:VEVENT
DTSTART;TZID=UTC:20170611T090000
DTEND;TZID=UTC:20170611T120000
DTSTAMP:20260424T131000
CREATED:20170316T092247Z
LAST-MODIFIED:20170316T092247Z
UID:10000250-1497171600-1497182400@halsports.net
SUMMARY:Strides for Epilepsy 2017
DESCRIPTION:kMtBeA
URL:https://halsports.net/event/strides-for-epilepsy/
LOCATION:City Park\, 2001 Colorado Blvd\, Denver\, CO\, 80205\, United States
CATEGORIES:5K
ATTACH;FMTTYPE=image/jpeg:https://halsports.net/wp-content/uploads/2017/03/Epilepsy-Foundation.jpg
END:VEVENT
BEGIN:VEVENT
DTSTART;TZID=UTC:20170610T083000
DTEND;TZID=UTC:20170610T120000
DTSTAMP:20260424T131000
CREATED:20170316T091405Z
LAST-MODIFIED:20170316T091405Z
UID:10000248-1497083400-1497096000@halsports.net
SUMMARY:Jodi's Race for Awareness 2017
DESCRIPTION:QVqhkg
URL:https://halsports.net/event/jodis-race-for-awareness/
LOCATION:City Park\, 2001 Colorado Blvd\, Denver\, CO\, 80205\, United States
CATEGORIES:1 Mile,5K
ATTACH;FMTTYPE=image/jpeg:https://halsports.net/wp-content/uploads/2017/03/JRA-COCA_Logo-2017.jpg
END:VEVENT
BEGIN:VEVENT
DTSTART;TZID=UTC:20170602T060000
DTEND;TZID=UTC:20170602T100000
DTSTAMP:20260424T131000
CREATED:20170408T105431Z
LAST-MODIFIED:20170408T105431Z
UID:10000053-1496383200-1496397600@halsports.net
SUMMARY:2017 ACSM Annual Meeting Gisolfi 5K Fun Run and Walk Presented by Gatorade
DESCRIPTION:tsnZka
URL:https://halsports.net/event/gisolfi-5k-convention-run/
LOCATION:City Park\, 2001 Colorado Blvd\, Denver\, CO\, 80205\, United States
CATEGORIES:5K
ATTACH;FMTTYPE=image/png:https://halsports.net/wp-content/uploads/2017/04/hals-face-2.png
END:VEVENT
BEGIN:VEVENT
DTSTART;TZID=UTC:20170521T060000
DTEND;TZID=UTC:20170521T150000
DTSTAMP:20260424T131000
CREATED:20170408T104936Z
LAST-MODIFIED:20170408T104936Z
UID:10000052-1495346400-1495378800@halsports.net
SUMMARY:Colfax Marathon 2017
DESCRIPTION:DENVER’S PREMIERE RUNNING WEEKEND!\nRunners are provided the Ultimate Urban Tour throughout the Denver area on the courses\, including the Denver Zoo\, Sports Authority Field at Mile High run-throughs\, 7 miles of water\, Cherry Creek Bike path\, downtown\, fire station run-throughs\, and much more. \nEnter Race ID Here
URL:https://halsports.net/event/colfax-marathon/
LOCATION:City Park\, 2001 Colorado Blvd\, Denver\, CO\, 80205\, United States
CATEGORIES:10 Mile,Half Marathon,Marathon,Relay
ATTACH;FMTTYPE=image/png:https://halsports.net/wp-content/uploads/2017/04/Colfax.png
END:VEVENT
BEGIN:VEVENT
DTSTART;TZID=UTC:20170520T090000
DTEND;TZID=UTC:20170520T120000
DTSTAMP:20260424T131000
CREATED:20170408T104213Z
LAST-MODIFIED:20170408T104213Z
UID:10000051-1495270800-1495281600@halsports.net
SUMMARY:Bellco Colfax 5K 2017
DESCRIPTION:Kick off Denver’s Colfax Marathon weekend in City Park with the Bellco Colfax 5K! Go for a PR in this chip-timed race – separate stroller-friendly start wave for families and walkers. Run in the Dog Wave and get your dog a race bandana!   Post Event Party with Taziki’s Mediterranean Cafe Food\, and live music.  A great chance to be a part of Marathon weekend – at a much shorter distance! \nEnter Race ID Here
URL:https://halsports.net/event/bellco-colfax-5k/
LOCATION:City Park\, 2001 Colorado Blvd\, Denver\, CO\, 80205\, United States
CATEGORIES:5K
ATTACH;FMTTYPE=image/png:https://halsports.net/wp-content/uploads/2017/04/Colfax.png
END:VEVENT
BEGIN:VEVENT
DTSTART;TZID=UTC:20170329T070000
DTEND;TZID=UTC:20170329T210000
DTSTAMP:20260424T131000
CREATED:20170228T043403Z
LAST-MODIFIED:20170228T043403Z
UID:10000236-1490770800-1490821200@halsports.net
SUMMARY:AMCP 5K (Convention Run) 2017
DESCRIPTION:39KOw7
URL:https://halsports.net/event/amcp-5k-convention-run/
LOCATION:City Park\, 2001 Colorado Blvd\, Denver\, CO\, 80205\, United States
CATEGORIES:Default Race
ATTACH;FMTTYPE=image/png:https://halsports.net/wp-content/uploads/2016/12/Hal_LOGO.png
END:VEVENT
BEGIN:VEVENT
DTSTART;TZID=UTC:20170225T093000
DTEND;TZID=UTC:20170225T113000
DTSTAMP:20260424T131000
CREATED:20170217T223546Z
LAST-MODIFIED:20170217T223546Z
UID:10000222-1488015000-1488022200@halsports.net
SUMMARY:Polar Plunge 5K 2017
DESCRIPTION:The Special Olympics Colorado Polar Plunge presented by Westerra Credit Union is a fun and unique way to help support a great cause. You can challenge yourself to jump into a freezing cold pool and get pledges of financial support from your family and friends. To take the plunge\, we ask that you raise a minimum of $75 ($50 for students and Special Olympics athletes). All Plungers will receive the official Polar Plunge long sleeve shirt as a token of our appreciation. All runners will also receive a commemorative beanie. Splash and Dash participants will receive both! The Splash & Dash is the combination of a 5K run/walk in Denver’s City Park followed by the Polar Plunge at the Denver Zoo. Of course\, you can participate in the 5K only if you choose. The fee to enter the 5K is $35\, and $40 for day of registration. \nDiMkHa
URL:https://halsports.net/event/polar-plunge-5k/
LOCATION:City Park\, 2001 Colorado Blvd\, Denver\, CO\, 80205\, United States
CATEGORIES:Default Race
ATTACH;FMTTYPE=image/png:https://halsports.net/wp-content/uploads/2017/02/16831098_1294233064023924_7774572269841230081_n.png
END:VEVENT
END:VCALENDAR