BEGIN:VCALENDAR
VERSION:2.0
PRODID:-//Hal Sports - ECPv6.15.18//NONSGML v1.0//EN
CALSCALE:GREGORIAN
METHOD:PUBLISH
X-WR-CALNAME:Hal Sports
X-ORIGINAL-URL:https://halsports.net
X-WR-CALDESC:Events for Hal Sports
REFRESH-INTERVAL;VALUE=DURATION:PT1H
X-Robots-Tag:noindex
X-PUBLISHED-TTL:PT1H
BEGIN:VTIMEZONE
TZID:UTC
BEGIN:STANDARD
TZOFFSETFROM:+0000
TZOFFSETTO:+0000
TZNAME:UTC
DTSTART:20250101T000000
END:STANDARD
END:VTIMEZONE
BEGIN:VTIMEZONE
TZID:America/Denver
BEGIN:DAYLIGHT
TZOFFSETFROM:-0700
TZOFFSETTO:-0600
TZNAME:MDT
DTSTART:20250309T090000
END:DAYLIGHT
BEGIN:STANDARD
TZOFFSETFROM:-0600
TZOFFSETTO:-0700
TZNAME:MST
DTSTART:20251102T080000
END:STANDARD
BEGIN:DAYLIGHT
TZOFFSETFROM:-0700
TZOFFSETTO:-0600
TZNAME:MDT
DTSTART:20260308T090000
END:DAYLIGHT
BEGIN:STANDARD
TZOFFSETFROM:-0600
TZOFFSETTO:-0700
TZNAME:MST
DTSTART:20261101T080000
END:STANDARD
BEGIN:DAYLIGHT
TZOFFSETFROM:-0700
TZOFFSETTO:-0600
TZNAME:MDT
DTSTART:20270314T090000
END:DAYLIGHT
BEGIN:STANDARD
TZOFFSETFROM:-0600
TZOFFSETTO:-0700
TZNAME:MST
DTSTART:20271107T080000
END:STANDARD
END:VTIMEZONE
BEGIN:VEVENT
DTSTART;TZID=UTC:20260516T090000
DTEND;TZID=UTC:20260516T120000
DTSTAMP:20260421T034301
CREATED:20251217T220948Z
LAST-MODIFIED:20251217T220948Z
UID:10000863-1778922000-1778932800@halsports.net
SUMMARY:Colfax 5K 2026
DESCRIPTION:
URL:https://halsports.net/event/colfax-5k-2026-05-16-2/
LOCATION:City Park\, 2001 Colorado Blvd\, Denver\, CO\, 80205\, United States
CATEGORIES:5K
ATTACH;FMTTYPE=image/png:https://halsports.net/wp-content/uploads/2023/02/logo.png
END:VEVENT
BEGIN:VEVENT
DTSTART;TZID=UTC:20260517T060000
DTEND;TZID=UTC:20260517T130000
DTSTAMP:20260421T034301
CREATED:20251217T221206Z
LAST-MODIFIED:20251217T221206Z
UID:10000864-1778997600-1779022800@halsports.net
SUMMARY:Colfax Marathon Events 2026
DESCRIPTION:
URL:https://halsports.net/event/colfax_marathon-2026-05-17-2/
LOCATION:City Park\, 2001 Colorado Blvd\, Denver\, CO\, 80205\, United States
CATEGORIES:10 Mile,Half Marathon,Marathon,Relay
ATTACH;FMTTYPE=image/png:https://halsports.net/wp-content/uploads/2023/02/logo.png
END:VEVENT
BEGIN:VEVENT
DTSTART;TZID=America/Denver:20261025T090000
DTEND;TZID=America/Denver:20261025T093000
DTSTAMP:20260421T034301
CREATED:20251218T002809Z
LAST-MODIFIED:20260114T001651Z
UID:10000903-1792918800-1792920600@halsports.net
SUMMARY:Ghosts & Goblins 5K 2026
DESCRIPTION:
URL:https://halsports.net/event/ghosts-and-goblins-5k-2026-10-25-2/
LOCATION:City Park\, 2001 Colorado Blvd\, Denver\, CO\, 80205\, United States
CATEGORIES:5K,Feature Event
ATTACH;FMTTYPE=image/png:https://halsports.net/wp-content/uploads/2023/02/Ghosts-and-Goblins2.png
END:VEVENT
BEGIN:VEVENT
DTSTART;TZID=UTC:20261114T090000
DTEND;TZID=UTC:20261114T091500
DTSTAMP:20260421T034301
CREATED:20260114T001947Z
LAST-MODIFIED:20260114T002038Z
UID:10000906-1794646800-1794647700@halsports.net
SUMMARY:Pumpkin Pie 5K & 10K 2025
DESCRIPTION:
URL:https://halsports.net/event/pumpkin-pie-5k-10k-2025-11-15/
LOCATION:City Park\, 2001 Colorado Blvd\, Denver\, CO\, 80205\, United States
CATEGORIES:5K,Feature Event
ATTACH;FMTTYPE=image/png:https://halsports.net/wp-content/uploads/2022/01/PumpkinPieLogo-22.png
END:VEVENT
BEGIN:VEVENT
DTSTART;TZID=UTC:20261206T090000
DTEND;TZID=UTC:20261206T091500
DTSTAMP:20260421T034301
CREATED:20251218T004236Z
LAST-MODIFIED:20260114T002404Z
UID:10000909-1796547600-1796548500@halsports.net
SUMMARY:Rudolph Ramble 5K 2026
DESCRIPTION:Rudolph Ramble December 6\, 2026 at Denver’s City Park!
URL:https://halsports.net/event/rudolph-ramble-5k-2026-12-06/
LOCATION:City Park\, 2001 Colorado Blvd\, Denver\, CO\, 80205\, United States
CATEGORIES:5K,Feature Event,Kids Fun Run
ATTACH;FMTTYPE=image/jpeg:https://halsports.net/wp-content/uploads/2019/04/RudolphRamble_logo2019.jpg
END:VEVENT
END:VCALENDAR