BEGIN:VCALENDAR
VERSION:2.0
PRODID:-//Hal Sports - ECPv6.15.18//NONSGML v1.0//EN
CALSCALE:GREGORIAN
METHOD:PUBLISH
X-WR-CALNAME:Hal Sports
X-ORIGINAL-URL:https://halsports.net
X-WR-CALDESC:Events for Hal Sports
REFRESH-INTERVAL;VALUE=DURATION:PT1H
X-Robots-Tag:noindex
X-PUBLISHED-TTL:PT1H
BEGIN:VTIMEZONE
TZID:UTC
BEGIN:STANDARD
TZOFFSETFROM:+0000
TZOFFSETTO:+0000
TZNAME:UTC
DTSTART:20220101T000000
END:STANDARD
END:VTIMEZONE
BEGIN:VTIMEZONE
TZID:America/Denver
BEGIN:DAYLIGHT
TZOFFSETFROM:-0700
TZOFFSETTO:-0600
TZNAME:MDT
DTSTART:20210314T090000
END:DAYLIGHT
BEGIN:STANDARD
TZOFFSETFROM:-0600
TZOFFSETTO:-0700
TZNAME:MST
DTSTART:20211107T080000
END:STANDARD
BEGIN:DAYLIGHT
TZOFFSETFROM:-0700
TZOFFSETTO:-0600
TZNAME:MDT
DTSTART:20220313T090000
END:DAYLIGHT
BEGIN:STANDARD
TZOFFSETFROM:-0600
TZOFFSETTO:-0700
TZNAME:MST
DTSTART:20221106T080000
END:STANDARD
BEGIN:DAYLIGHT
TZOFFSETFROM:-0700
TZOFFSETTO:-0600
TZNAME:MDT
DTSTART:20230312T090000
END:DAYLIGHT
BEGIN:STANDARD
TZOFFSETFROM:-0600
TZOFFSETTO:-0700
TZNAME:MST
DTSTART:20231105T080000
END:STANDARD
END:VTIMEZONE
BEGIN:VEVENT
DTSTART;TZID=UTC:20230730T070000
DTEND;TZID=UTC:20230730T071500
DTSTAMP:20260421T112124
CREATED:20230711T060353Z
LAST-MODIFIED:20230712T213954Z
UID:10000669-1690700400-1690701300@halsports.net
SUMMARY:FBINAA National Training Conference
DESCRIPTION:
URL:https://halsports.net/event/fbinaa-5k-2023/
LOCATION:auraria campus
CATEGORIES:5K
ATTACH;FMTTYPE=image/png:https://halsports.net/wp-content/uploads/2023/07/FBINAA-2023-eShow-emailHeader-370x100-1.png
END:VEVENT
BEGIN:VEVENT
DTSTART;TZID=UTC:20230623T063000
DTEND;TZID=UTC:20230623T063000
DTSTAMP:20260421T112124
CREATED:20230616T025036Z
LAST-MODIFIED:20230623T125535Z
UID:10000667-1687501800-1687501800@halsports.net
SUMMARY:Mindful Miles 5K
DESCRIPTION:
URL:https://halsports.net/event/mindful-miles-5k-2023/
LOCATION:auraria campus
CATEGORIES:5K
ATTACH;FMTTYPE=image/png:https://halsports.net/wp-content/uploads/2023/06/MM5K-logo1.png
END:VEVENT
BEGIN:VEVENT
DTSTART;TZID=UTC:20230602T060000
DTEND;TZID=UTC:20230602T073000
DTSTAMP:20260421T112124
CREATED:20230602T044804Z
LAST-MODIFIED:20230602T044804Z
UID:10000666-1685685600-1685691000@halsports.net
SUMMARY:2023 ACSM Annual Meeting Gisolfi 5K Fun Run
DESCRIPTION:
URL:https://halsports.net/event/gisolfi-5k-convention-run-2023/
LOCATION:auraria campus
CATEGORIES:5K
ATTACH;FMTTYPE=image/png:https://halsports.net/wp-content/uploads/2017/04/hals-face-2.png
END:VEVENT
BEGIN:VEVENT
DTSTART;TZID=America/Denver:20220629T060000
DTEND;TZID=America/Denver:20220629T080000
DTSTAMP:20260421T112124
CREATED:20220115T012109Z
LAST-MODIFIED:20220115T012109Z
UID:10000580-1656482400-1656489600@halsports.net
SUMMARY:CSIA Convention Run 2022
DESCRIPTION:
URL:https://halsports.net/event/csia-convention-run-2022/
LOCATION:auraria campus
CATEGORIES:5K
END:VEVENT
BEGIN:VEVENT
DTSTART;TZID=America/Denver:20220604T083000
DTEND;TZID=America/Denver:20220604T120000
DTSTAMP:20260421T112124
CREATED:20220428T234218Z
LAST-MODIFIED:20220429T001752Z
UID:10000607-1654331400-1654344000@halsports.net
SUMMARY:Denver Heart Walk 2022
DESCRIPTION:https://results.sporthive.com/events/eventid/p>
URL:https://halsports.net/event/denver-heart-walk-2022/
LOCATION:auraria campus
CATEGORIES:5K,Feature Event
ATTACH;FMTTYPE=image/png:https://halsports.net/wp-content/uploads/2020/03/heart.png
END:VEVENT
END:VCALENDAR