BEGIN:VCALENDAR
VERSION:2.0
PRODID:-//Hal Sports - ECPv6.15.18//NONSGML v1.0//EN
CALSCALE:GREGORIAN
METHOD:PUBLISH
X-WR-CALNAME:Hal Sports
X-ORIGINAL-URL:https://halsports.net
X-WR-CALDESC:Events for Hal Sports
REFRESH-INTERVAL;VALUE=DURATION:PT1H
X-Robots-Tag:noindex
X-PUBLISHED-TTL:PT1H
BEGIN:VTIMEZONE
TZID:UTC
BEGIN:STANDARD
TZOFFSETFROM:+0000
TZOFFSETTO:+0000
TZNAME:UTC
DTSTART:20160101T000000
END:STANDARD
END:VTIMEZONE
BEGIN:VEVENT
DTSTART;TZID=UTC:20180304T090000
DTEND;TZID=UTC:20180304T120000
DTSTAMP:20260421T143230
CREATED:20180129T082911Z
LAST-MODIFIED:20180129T082911Z
UID:10000301-1520154000-1520164800@halsports.net
SUMMARY:That Dam Run 2018
DESCRIPTION:https://results.sporthive.com/events/6372241611989232128
URL:https://halsports.net/event/dam-run-half-marathon-10k-5k/
LOCATION:Cherry Creek Dam Road\, Cherry Creek Dam Road\, Greenwood Village \, CO
CATEGORIES:10K,5K,Feature Event,Half Marathon
ATTACH;FMTTYPE=image/png:https://halsports.net/wp-content/uploads/2017/10/dam-run.png
END:VEVENT
BEGIN:VEVENT
DTSTART;TZID=UTC:20180211T100000
DTEND;TZID=UTC:20180211T120000
DTSTAMP:20260421T143230
CREATED:20171027T084034Z
LAST-MODIFIED:20171027T084034Z
UID:10000291-1518343200-1518350400@halsports.net
SUMMARY:Valentine's Day 4 Mile 2018
DESCRIPTION:https://results.sporthive.com/events/6366301581865671424
URL:https://halsports.net/event/valentines-day-four-mile/
LOCATION:Washington Park\, 1700 E. Louisiana Ave.\, Denver\, CO\, 80210\, United States
CATEGORIES:4 Mille,Feature Event,Fun Run
ATTACH;FMTTYPE=image/png:https://halsports.net/wp-content/uploads/2017/10/Valentines-Day-5k-e1515079920411.png
END:VEVENT
BEGIN:VEVENT
DTSTART;TZID=UTC:20180204T100000
DTEND;TZID=UTC:20180204T120000
DTSTAMP:20260421T143230
CREATED:20171006T095221Z
LAST-MODIFIED:20171006T095221Z
UID:10000289-1517738400-1517745600@halsports.net
SUMMARY:Super Bowl 5K
DESCRIPTION:https://results.sporthive.com/events/6361605524755058688
URL:https://halsports.net/event/super-bowl-5k-2/
LOCATION:Washington Park\, 1700 E. Louisiana Ave.\, Denver\, CO\, 80210\, United States
CATEGORIES:5K,Feature Event
ATTACH;FMTTYPE=image/png:https://halsports.net/wp-content/uploads/2017/10/Super-Bowl-e1515079764912.png
END:VEVENT
BEGIN:VEVENT
DTSTART;TZID=UTC:20180121T100000
DTEND;TZID=UTC:20180121T120000
DTSTAMP:20260421T143230
CREATED:20180121T104641Z
LAST-MODIFIED:20180121T104641Z
UID:10000298-1516528800-1516536000@halsports.net
SUMMARY:Polar Bear 5K 2018
DESCRIPTION:https://results.sporthive.com/events/6359583028951695360
URL:https://halsports.net/event/polar-bear-5k/
LOCATION:Washington Park\, 1700 E. Louisiana Ave.\, Denver\, CO\, 80210\, United States
CATEGORIES:5K,Feature Event
ATTACH;FMTTYPE=image/png:https://halsports.net/wp-content/uploads/2017/10/Polar-Bear-e1515079630617.png
END:VEVENT
BEGIN:VEVENT
DTSTART;TZID=UTC:20171203T100000
DTEND;TZID=UTC:20171203T120000
DTSTAMP:20260421T143230
CREATED:20171203T104322Z
LAST-MODIFIED:20171203T104322Z
UID:10000293-1512295200-1512302400@halsports.net
SUMMARY:Rudolph Ramble 5K 2017
DESCRIPTION:https://results.sporthive.com/events/6341516605523860736
URL:https://halsports.net/event/rudolph-ramble-2017/
LOCATION:City Park\, 2001 Colorado Blvd\, Denver\, CO\, 80205\, United States
CATEGORIES:5K,Feature Event,Kids Fun Run
ATTACH;FMTTYPE=image/jpeg:https://halsports.net/wp-content/uploads/2017/08/Rudolph-Ramble-266x300.jpg
END:VEVENT
BEGIN:VEVENT
DTSTART;TZID=UTC:20171028T093000
DTEND;TZID=UTC:20171028T120000
DTSTAMP:20260421T143230
CREATED:20171028T222446Z
LAST-MODIFIED:20171028T222446Z
UID:10000084-1509183000-1509192000@halsports.net
SUMMARY:The Great Pumpkin Haul 2017
DESCRIPTION:RSTLEC
URL:https://halsports.net/event/great-pumpkin-haul-2017/
LOCATION:Chatfield Botanic Gardens
CATEGORIES:Feature Event
ATTACH;FMTTYPE=image/jpeg:https://halsports.net/wp-content/uploads/2017/07/Pumpkin-haul.jpg
END:VEVENT
END:VCALENDAR