BEGIN:VCALENDAR
VERSION:2.0
PRODID:-//Hal Sports - ECPv6.15.18//NONSGML v1.0//EN
CALSCALE:GREGORIAN
METHOD:PUBLISH
X-ORIGINAL-URL:https://halsports.net
X-WR-CALDESC:Events for Hal Sports
REFRESH-INTERVAL;VALUE=DURATION:PT1H
X-Robots-Tag:noindex
X-PUBLISHED-TTL:PT1H
BEGIN:VTIMEZONE
TZID:UTC
BEGIN:STANDARD
TZOFFSETFROM:+0000
TZOFFSETTO:+0000
TZNAME:UTC
DTSTART:20160101T000000
END:STANDARD
END:VTIMEZONE
BEGIN:VEVENT
DTSTART;TZID=UTC:20191116T090000
DTEND;TZID=UTC:20191116T110000
DTSTAMP:20260422T161131
CREATED:20191116T171148Z
LAST-MODIFIED:20191116T171148Z
UID:10000422-1573894800-1573902000@halsports.net
SUMMARY:Girls on the Run 5K - Denver Event
DESCRIPTION:https://results.sporthive.com/events/6597827695538686464
URL:https://halsports.net/event/girls-on-the-run-5k-2019-2-2/
LOCATION:Empower Field at Mile High\, 1701 Bryant St\, Denver\, CO 80204\, Denver\, CO\, 80204\, United States
CATEGORIES:5K,Feature Event
ATTACH;FMTTYPE=image/png:https://halsports.net/wp-content/uploads/2019/10/GOTR-logo.png
END:VEVENT
BEGIN:VEVENT
DTSTART;TZID=UTC:20191109T090000
DTEND;TZID=UTC:20191109T110000
DTSTAMP:20260422T161131
CREATED:20191109T070933Z
LAST-MODIFIED:20191109T070933Z
UID:10000420-1573290000-1573297200@halsports.net
SUMMARY:Girls on the Run 5K - Southern Colorado Event
DESCRIPTION:https://results.sporthive.com/events/6595292973057974528
URL:https://halsports.net/event/girls-on-the-run-5k-2019/
LOCATION:Monument Valley Park\, Colorado Springs\, CO\, United States
CATEGORIES:5K,Feature Event
ATTACH;FMTTYPE=image/png:https://halsports.net/wp-content/uploads/2019/10/GOTR-logo.png
END:VEVENT
BEGIN:VEVENT
DTSTART;TZID=UTC:20191102T090000
DTEND;TZID=UTC:20191102T110000
DTSTAMP:20260422T161131
CREATED:20191102T160953Z
LAST-MODIFIED:20191102T160953Z
UID:10000419-1572685200-1572692400@halsports.net
SUMMARY:Girls on the Run 5K - Northern Colorado Event
DESCRIPTION:https://results.sporthive.com/events/6592068028131704832
URL:https://halsports.net/event/girls-on-the-run-5k-2019-2/
LOCATION:Spring Canyon Park\, 3156 S Overland Trail\, Fort Collins\, CO\, 80526\, United States
CATEGORIES:5K,Feature Event
ATTACH;FMTTYPE=image/png:https://halsports.net/wp-content/uploads/2019/10/GOTR-logo.png
END:VEVENT
BEGIN:VEVENT
DTSTART;TZID=UTC:20190512T090000
DTEND;TZID=UTC:20190512T100000
DTSTAMP:20260422T161131
CREATED:20190512T231337Z
LAST-MODIFIED:20190512T231337Z
UID:10000411-1557651600-1557655200@halsports.net
SUMMARY:Girls on the Run 5K - Cherry Creek
DESCRIPTION:https://results.sporthive.com/events/6532459839192605952
URL:https://halsports.net/event/girls-on-the-run-5k-cherry-creek/
LOCATION:Cherry Creek Dam Road\, Cherry Creek Dam Road\, Greenwood Village \, CO
CATEGORIES:5K,Feature Event
ATTACH;FMTTYPE=image/png:https://halsports.net/wp-content/uploads/2018/01/GOTR.png
END:VEVENT
BEGIN:VEVENT
DTSTART;TZID=UTC:20181110T090000
DTEND;TZID=UTC:20181110T110000
DTSTAMP:20260422T161131
CREATED:20181111T061557Z
LAST-MODIFIED:20181111T061557Z
UID:10000150-1541840400-1541847600@halsports.net
SUMMARY:Girls on the Run 5K
DESCRIPTION:https://results.sporthive.com/events/6466933485951426560
URL:https://halsports.net/event/girls-on-the-run-5k-2018/
LOCATION:Colorado Springs
CATEGORIES:5K,Feature Event
ATTACH;FMTTYPE=image/png:https://halsports.net/wp-content/uploads/2018/06/GOTR-2018-5K-Logo-Color-e1520462609902.png
END:VEVENT
BEGIN:VEVENT
DTSTART;TZID=UTC:20180513T090000
DTEND;TZID=UTC:20180513T110000
DTSTAMP:20260422T161131
CREATED:20180513T083557Z
LAST-MODIFIED:20180513T083557Z
UID:10000320-1526202000-1526209200@halsports.net
SUMMARY:Girls on the Run 5K - Cherry Creek
DESCRIPTION:https://results.sporthive.com/events/6400613530282744320
URL:https://halsports.net/event/girls-run-5k-cherry-creek/
LOCATION:Cherry Creek Dam Road\, Cherry Creek Dam Road\, Greenwood Village \, CO
CATEGORIES:5K,Feature Event
ATTACH;FMTTYPE=image/png:https://halsports.net/wp-content/uploads/2018/01/GOTR.png
END:VEVENT
BEGIN:VEVENT
DTSTART;TZID=UTC:20170513T090000
DTEND;TZID=UTC:20170513T110000
DTSTAMP:20260422T161131
CREATED:20170514T014301Z
LAST-MODIFIED:20170514T014301Z
UID:10000264-1494666000-1494673200@halsports.net
SUMMARY:Girls on the Run - Cherry Creek
DESCRIPTION:N2Fhxc
URL:https://halsports.net/event/girls-on-the-run-cherry-creek/
LOCATION:Cherry Creeek High School\, 9300 E Union Ave\, Greenwood Village\, CO\, 80111\, United States
CATEGORIES:5K
ATTACH;FMTTYPE=image/png:https://halsports.net/wp-content/uploads/2017/03/5K-logo-e1454982826355.png
END:VEVENT
END:VCALENDAR