BEGIN:VCALENDAR
VERSION:2.0
PRODID:-//Hal Sports - ECPv6.15.18//NONSGML v1.0//EN
CALSCALE:GREGORIAN
METHOD:PUBLISH
X-ORIGINAL-URL:https://halsports.net
X-WR-CALDESC:Events for Hal Sports
REFRESH-INTERVAL;VALUE=DURATION:PT1H
X-Robots-Tag:noindex
X-PUBLISHED-TTL:PT1H
BEGIN:VTIMEZONE
TZID:UTC
BEGIN:STANDARD
TZOFFSETFROM:+0000
TZOFFSETTO:+0000
TZNAME:UTC
DTSTART:20220101T000000
END:STANDARD
END:VTIMEZONE
BEGIN:VTIMEZONE
TZID:America/Denver
BEGIN:DAYLIGHT
TZOFFSETFROM:-0700
TZOFFSETTO:-0600
TZNAME:MDT
DTSTART:20200308T090000
END:DAYLIGHT
BEGIN:STANDARD
TZOFFSETFROM:-0600
TZOFFSETTO:-0700
TZNAME:MST
DTSTART:20201101T080000
END:STANDARD
BEGIN:DAYLIGHT
TZOFFSETFROM:-0700
TZOFFSETTO:-0600
TZNAME:MDT
DTSTART:20210314T090000
END:DAYLIGHT
BEGIN:STANDARD
TZOFFSETFROM:-0600
TZOFFSETTO:-0700
TZNAME:MST
DTSTART:20211107T080000
END:STANDARD
BEGIN:DAYLIGHT
TZOFFSETFROM:-0700
TZOFFSETTO:-0600
TZNAME:MDT
DTSTART:20220313T090000
END:DAYLIGHT
BEGIN:STANDARD
TZOFFSETFROM:-0600
TZOFFSETTO:-0700
TZNAME:MST
DTSTART:20221106T080000
END:STANDARD
BEGIN:DAYLIGHT
TZOFFSETFROM:-0700
TZOFFSETTO:-0600
TZNAME:MDT
DTSTART:20230312T090000
END:DAYLIGHT
BEGIN:STANDARD
TZOFFSETFROM:-0600
TZOFFSETTO:-0700
TZNAME:MST
DTSTART:20231105T080000
END:STANDARD
END:VTIMEZONE
BEGIN:VEVENT
DTSTART;TZID=UTC:20250518T060000
DTEND;TZID=UTC:20250518T130000
DTSTAMP:20260423T212641
CREATED:20250107T034403Z
LAST-MODIFIED:20250107T034403Z
UID:10000782-1747548000-1747573200@halsports.net
SUMMARY:Colfax Marathon Events 2025
DESCRIPTION:
URL:https://halsports.net/event/colfax_marathon-2025-05-17/
LOCATION:City Park\, 2001 Colorado Blvd\, Denver\, CO\, 80205\, United States
CATEGORIES:10 Mile,Half Marathon,Marathon,Relay
ATTACH;FMTTYPE=image/png:https://halsports.net/wp-content/uploads/2023/02/logo.png
END:VEVENT
BEGIN:VEVENT
DTSTART;TZID=UTC:20250517T090000
DTEND;TZID=UTC:20250517T120000
DTSTAMP:20260423T212641
CREATED:20250111T213405Z
LAST-MODIFIED:20250111T213405Z
UID:10000785-1747472400-1747483200@halsports.net
SUMMARY:Colfax 5K 2025
DESCRIPTION:
URL:https://halsports.net/event/colfax-5k-2025-05-17/
LOCATION:City Park\, 2001 Colorado Blvd\, Denver\, CO\, 80205\, United States
CATEGORIES:5K
ATTACH;FMTTYPE=image/png:https://halsports.net/wp-content/uploads/2023/02/logo.png
END:VEVENT
BEGIN:VEVENT
DTSTART;TZID=UTC:20240519T060000
DTEND;TZID=UTC:20240519T130000
DTSTAMP:20260423T212641
CREATED:20231214T064420Z
LAST-MODIFIED:20231214T064420Z
UID:10000713-1716098400-1716123600@halsports.net
SUMMARY:Colfax Marathon Events 2024
DESCRIPTION:
URL:https://halsports.net/event/colfax_marathon-2024-2/
LOCATION:City Park\, 2001 Colorado Blvd\, Denver\, CO\, 80205\, United States
CATEGORIES:10 Mile,Half Marathon,Marathon,Relay
ATTACH;FMTTYPE=image/png:https://halsports.net/wp-content/uploads/2023/02/logo.png
END:VEVENT
BEGIN:VEVENT
DTSTART;TZID=UTC:20240518T090000
DTEND;TZID=UTC:20240518T120000
DTSTAMP:20260423T212641
CREATED:20231214T064131Z
LAST-MODIFIED:20231214T064131Z
UID:10000712-1716022800-1716033600@halsports.net
SUMMARY:Colfax 5K 2024
DESCRIPTION:
URL:https://halsports.net/event/colfax-5k-2024-2/
LOCATION:City Park\, 2001 Colorado Blvd\, Denver\, CO\, 80205\, United States
CATEGORIES:5K
ATTACH;FMTTYPE=image/png:https://halsports.net/wp-content/uploads/2023/02/logo.png
END:VEVENT
BEGIN:VEVENT
DTSTART;TZID=UTC:20230521T060000
DTEND;TZID=UTC:20230521T130000
DTSTAMP:20260423T212641
CREATED:20230216T002154Z
LAST-MODIFIED:20230216T002903Z
UID:10000637-1684648800-1684674000@halsports.net
SUMMARY:Colfax Marathon Events 2023
DESCRIPTION:
URL:https://halsports.net/event/colfax_marathon-2023/
LOCATION:City Park\, 2001 Colorado Blvd\, Denver\, CO\, 80205\, United States
CATEGORIES:10 Mile,Half Marathon,Marathon,Relay
ATTACH;FMTTYPE=image/png:https://halsports.net/wp-content/uploads/2023/02/logo.png
END:VEVENT
BEGIN:VEVENT
DTSTART;TZID=UTC:20230520T090000
DTEND;TZID=UTC:20230520T120000
DTSTAMP:20260423T212641
CREATED:20230216T001740Z
LAST-MODIFIED:20230216T001820Z
UID:10000636-1684573200-1684584000@halsports.net
SUMMARY:Colfax 5K 2023
DESCRIPTION:
URL:https://halsports.net/event/colfax-5k-2023/
LOCATION:City Park\, 2001 Colorado Blvd\, Denver\, CO\, 80205\, United States
CATEGORIES:5K
ATTACH;FMTTYPE=image/png:https://halsports.net/wp-content/uploads/2023/02/logo.png
END:VEVENT
BEGIN:VEVENT
DTSTART;TZID=America/Denver:20220910T060000
DTEND;TZID=America/Denver:20220910T061500
DTSTAMP:20260423T212641
CREATED:20220801T190447Z
LAST-MODIFIED:20220909T140156Z
UID:10000612-1662789600-1662790500@halsports.net
SUMMARY:Denver 5K On The Runway
DESCRIPTION:
URL:https://halsports.net/event/5k-on-the-runway/
LOCATION:DIA\, Denver\, CO\, United States
CATEGORIES:5K
ATTACH;FMTTYPE=image/png:https://halsports.net/wp-content/uploads/2022/08/CM_5KOnTheRunway_Logo.png
END:VEVENT
BEGIN:VEVENT
DTSTART;TZID=America/Denver:20210919T080000
DTEND;TZID=America/Denver:20210919T110000
DTSTAMP:20260423T212641
CREATED:20210619T210612Z
LAST-MODIFIED:20210619T210612Z
UID:10000531-1632038400-1632049200@halsports.net
SUMMARY:Goodbye Summer 5K
DESCRIPTION:https://results.sporthive.com/events/eventid/
URL:https://halsports.net/event/goodbye-summer-5k/
LOCATION:Sloan’s Lake Park
ATTACH;FMTTYPE=image/png:https://halsports.net/wp-content/uploads/2017/04/Colfax.png
END:VEVENT
BEGIN:VEVENT
DTSTART;TZID=America/Denver:20210815T080000
DTEND;TZID=America/Denver:20210815T110000
DTSTAMP:20260423T212641
CREATED:20210619T195029Z
LAST-MODIFIED:20210619T195029Z
UID:10000514-1629014400-1629025200@halsports.net
SUMMARY:Mile High Women's 10K 2021
DESCRIPTION:https://results.sporthive.com/events/eventid/
URL:https://halsports.net/event/mile-high-womens-10k-2021/
LOCATION:City Park\, 2001 Colorado Blvd\, Denver\, CO\, 80205\, United States
CATEGORIES:10K,Feature Event
END:VEVENT
BEGIN:VEVENT
DTSTART;TZID=America/Denver:20210515T080000
DTEND;TZID=America/Denver:20210516T120000
DTSTAMP:20260423T212641
CREATED:20210409T054451Z
LAST-MODIFIED:20210409T054451Z
UID:10000499-1621065600-1621166400@halsports.net
SUMMARY:Runner's Reunion 5K & 10K
DESCRIPTION:
URL:https://halsports.net/event/runners-reunion-5k-10k/
LOCATION:City Park\, 2001 Colorado Blvd\, Denver\, CO\, 80205\, United States
CATEGORIES:10K,5K,Feature Event
END:VEVENT
END:VCALENDAR