BEGIN:VCALENDAR
VERSION:2.0
PRODID:-//Hal Sports - ECPv6.15.18//NONSGML v1.0//EN
CALSCALE:GREGORIAN
METHOD:PUBLISH
X-ORIGINAL-URL:https://halsports.net
X-WR-CALDESC:Events for Hal Sports
REFRESH-INTERVAL;VALUE=DURATION:PT1H
X-Robots-Tag:noindex
X-PUBLISHED-TTL:PT1H
BEGIN:VTIMEZONE
TZID:UTC
BEGIN:STANDARD
TZOFFSETFROM:+0000
TZOFFSETTO:+0000
TZNAME:UTC
DTSTART:20200101T000000
END:STANDARD
END:VTIMEZONE
BEGIN:VEVENT
DTSTART;TZID=UTC:20210501T090000
DTEND;TZID=UTC:20210501T110000
DTSTAMP:20260422T033818
CREATED:20210409T053445Z
LAST-MODIFIED:20210409T053445Z
UID:10000498-1619859600-1619866800@halsports.net
SUMMARY:Duck Waddle 5K 2021
DESCRIPTION:https://results.sporthive.com/events/6786158411998277632
URL:https://halsports.net/event/duckwaddle2021/
LOCATION:Bond Park\, 170 MacGregor Ave\, Estes Park\, CO\, 80517\, United States
CATEGORIES:5K,Feature Event
ATTACH;FMTTYPE=image/jpeg:https://halsports.net/wp-content/uploads/2019/04/Duck-Waddle.jpg
END:VEVENT
END:VCALENDAR