BEGIN:VCALENDAR
VERSION:2.0
PRODID:-//Hal Sports - ECPv6.15.18//NONSGML v1.0//EN
CALSCALE:GREGORIAN
METHOD:PUBLISH
X-WR-CALNAME:Hal Sports
X-ORIGINAL-URL:https://halsports.net
X-WR-CALDESC:Events for Hal Sports
REFRESH-INTERVAL;VALUE=DURATION:PT1H
X-Robots-Tag:noindex
X-PUBLISHED-TTL:PT1H
BEGIN:VTIMEZONE
TZID:UTC
BEGIN:STANDARD
TZOFFSETFROM:+0000
TZOFFSETTO:+0000
TZNAME:UTC
DTSTART:20160101T000000
END:STANDARD
END:VTIMEZONE
BEGIN:VEVENT
DTSTART;TZID=UTC:20171006T150000
DTEND;TZID=UTC:20171006T170000
DTSTAMP:20260423T011614
CREATED:20170721T093328Z
LAST-MODIFIED:20170721T093328Z
UID:10000279-1507302000-1507309200@halsports.net
SUMMARY:Vanguard School XC Meet 2017
DESCRIPTION:https://results.sporthive.com/events/6321478547282088960
URL:https://halsports.net/event/vanguard-xc-meet/
LOCATION:Monument Valley Park\, Colorado Springs\, CO\, United States
CATEGORIES:Feature Event,XC
ATTACH;FMTTYPE=image/jpeg:https://halsports.net/wp-content/uploads/2017/07/SchoolLogo.jpg
END:VEVENT
BEGIN:VEVENT
DTSTART;TZID=UTC:20171007T080000
DTEND;TZID=UTC:20171007T120000
DTSTAMP:20260423T011614
CREATED:20170722T091127Z
LAST-MODIFIED:20170722T091127Z
UID:10000075-1507363200-1507377600@halsports.net
SUMMARY:Colorado Academy Invitational XC Meet 2017
DESCRIPTION:https://results.sporthive.com/events/6321912364751479808
URL:https://halsports.net/event/colorado-academy-invitational-cross-country-meet/
LOCATION:Colorado Academy
CATEGORIES:Feature Event,XC
ATTACH;FMTTYPE=image/jpeg:https://halsports.net/wp-content/uploads/2017/07/school-logo-1.jpg
END:VEVENT
BEGIN:VEVENT
DTSTART;TZID=UTC:20171007T080000
DTEND;TZID=UTC:20171007T160000
DTSTAMP:20260423T011614
CREATED:20170721T094009Z
LAST-MODIFIED:20170721T094009Z
UID:10000072-1507363200-1507392000@halsports.net
SUMMARY:Castle Rock Trail Festival 2017
DESCRIPTION:https://results.sporthive.com/events/6321609479342534144
URL:https://halsports.net/event/castle-rock-trail-festival-2017/
LOCATION:Phillip S Miller Park\, 1375 W Plum Creek Pkwy\, Castle Rock\, CO\, 80109\, United States
CATEGORIES:10K,50K,5K,Feature Event,Half Marathon,Marathon
ATTACH;FMTTYPE=image/png:https://halsports.net/wp-content/uploads/2017/07/CastleRockTrailFest.png
END:VEVENT
BEGIN:VEVENT
DTSTART;TZID=UTC:20171008T080000
DTEND;TZID=UTC:20171008T100000
DTSTAMP:20260423T011614
CREATED:20170722T080532Z
LAST-MODIFIED:20170722T080532Z
UID:10000070-1507449600-1507456800@halsports.net
SUMMARY:Ute Scoot 5K 2017
DESCRIPTION:https://results.sporthive.com/events/6321939002121494016
URL:https://halsports.net/event/ute-scoot-5k-2017/
LOCATION:Ute Meadows Elementary
CATEGORIES:5K,Feature Event
ATTACH;FMTTYPE=image/jpeg:https://halsports.net/wp-content/uploads/2017/07/school-logo.jpg
END:VEVENT
BEGIN:VEVENT
DTSTART;TZID=UTC:20171008T093000
DTEND;TZID=UTC:20171008T120000
DTSTAMP:20260423T011614
CREATED:20170722T075712Z
LAST-MODIFIED:20170722T075712Z
UID:10000071-1507455000-1507464000@halsports.net
SUMMARY:Run the Rocks 2017
DESCRIPTION:https://results.sporthive.com/events/6321936622726769920
URL:https://halsports.net/event/run-the-rocks/
LOCATION:Red Rocks Amphitheater
CATEGORIES:10K,5K,Feature Event
ATTACH;FMTTYPE=image/png:https://halsports.net/wp-content/uploads/2017/07/run-the-rocks.png
END:VEVENT
BEGIN:VEVENT
DTSTART;TZID=UTC:20171011T150000
DTEND;TZID=UTC:20171011T170000
DTSTAMP:20260423T011614
CREATED:20170921T082025Z
LAST-MODIFIED:20170921T082025Z
UID:10000285-1507734000-1507741200@halsports.net
SUMMARY:Continental League XC Meet 2017
DESCRIPTION:https://results.sporthive.com/events/6323903107827768320
URL:https://halsports.net/event/continental-league-xc-meet/
LOCATION:Polson Ranch\, Sedalia\, Colorado
CATEGORIES:Feature Event,XC
ATTACH;FMTTYPE=image/png:https://halsports.net/wp-content/uploads/2017/05/hals-face-2.png
END:VEVENT
BEGIN:VEVENT
DTSTART;TZID=UTC:20171014T094500
DTEND;TZID=UTC:20171014T120000
DTSTAMP:20260423T011614
CREATED:20171014T093736Z
LAST-MODIFIED:20171014T093736Z
UID:10000290-1507974300-1507982400@halsports.net
SUMMARY:The Great Candy Run - Minneapolis 2017
DESCRIPTION:EN60Le
URL:https://halsports.net/event/great-candy-run-minneapolis/
LOCATION:Lake Phalen\, Minneapolis\, MN\, United States
CATEGORIES:5K,Feature Event
ATTACH;FMTTYPE=image/png:https://halsports.net/wp-content/uploads/2017/07/Great-Candy-Run-1.png
END:VEVENT
BEGIN:VEVENT
DTSTART;TZID=UTC:20171014T110000
DTEND;TZID=UTC:20171014T130000
DTSTAMP:20260423T011614
CREATED:20170722T092246Z
LAST-MODIFIED:20170722T092246Z
UID:10000074-1507978800-1507986000@halsports.net
SUMMARY:Run for the Soul 5K 2017
DESCRIPTION:https://results.sporthive.com/events/6323794745801834496
URL:https://halsports.net/event/run-soul-5k/
LOCATION:Clement Park
CATEGORIES:5K,Feature Event
ATTACH;FMTTYPE=image/jpeg:https://halsports.net/wp-content/uploads/2017/07/LogoRunForTheSoul2-1.jpg
END:VEVENT
BEGIN:VEVENT
DTSTART;TZID=UTC:20171020T170000
DTEND;TZID=UTC:20171020T200000
DTSTAMP:20260423T011614
CREATED:20170814T074450Z
LAST-MODIFIED:20170814T074450Z
UID:10000076-1508518800-1508529600@halsports.net
SUMMARY:Scream Scram 2017
DESCRIPTION:https://results.sporthive.com/events/6326972428901041152
URL:https://halsports.net/event/scream-scram/
LOCATION:Washington Park\, 1700 E. Louisiana Ave.\, Denver\, CO\, 80210\, United States
CATEGORIES:5K,Feature Event
ATTACH;FMTTYPE=image/jpeg:https://halsports.net/wp-content/uploads/2017/08/Boys-and-girls-club.jpg
END:VEVENT
BEGIN:VEVENT
DTSTART;TZID=UTC:20171021T090000
DTEND;TZID=UTC:20171021T110000
DTSTAMP:20260423T011614
CREATED:20170814T083904Z
LAST-MODIFIED:20170814T083904Z
UID:10000281-1508576400-1508583600@halsports.net
SUMMARY:Walk for Wishes & 5K Run 2017
DESCRIPTION:https://results.sporthive.com/events/6327008072834631424
URL:https://halsports.net/event/walk-wishes-5k-run-2017/
LOCATION:Hudson Gardens\, 6115 S Santa Fe Dr\, Littleton\, CO\, 80127\, United States
CATEGORIES:5K,Feature Event
ATTACH;FMTTYPE=image/jpeg:https://halsports.net/wp-content/uploads/2017/08/Walk-for-Wishes.jpg
END:VEVENT
BEGIN:VEVENT
DTSTART;TZID=UTC:20171021T110000
DTEND;TZID=UTC:20171021T130000
DTSTAMP:20260423T011614
CREATED:20170814T082857Z
LAST-MODIFIED:20170814T082857Z
UID:10000280-1508583600-1508590800@halsports.net
SUMMARY:Denver Gorilla Run 2017
DESCRIPTION:vGBPxA
URL:https://halsports.net/event/denver-gorilla-run/
LOCATION:The Westin Westminster\, 10600 Westminster Blvd\, Westminster\, CO\, United States
CATEGORIES:5K,Feature Event
ATTACH;FMTTYPE=image/jpeg:https://halsports.net/wp-content/uploads/2017/08/Gorilla-Run.jpg
END:VEVENT
BEGIN:VEVENT
DTSTART;TZID=UTC:20171022T070000
DTEND;TZID=UTC:20171022T090000
DTSTAMP:20260423T011614
CREATED:20170921T082509Z
LAST-MODIFIED:20170921T082509Z
UID:10000286-1508655600-1508662800@halsports.net
SUMMARY:MBA Opens Doors Foundation 5K Challenge 2017
DESCRIPTION:https://results.sporthive.com/events/6327214467502204672
URL:https://halsports.net/event/computershare-mortgage-solutions-5k-convention-run/
LOCATION:Cherry Creek Dam Road\, Cherry Creek Dam Road\, Greenwood Village \, CO
CATEGORIES:5K,Feature Event
ATTACH;FMTTYPE=image/png:https://halsports.net/wp-content/uploads/2017/09/MBA-5K-Challenge.png
END:VEVENT
BEGIN:VEVENT
DTSTART;TZID=UTC:20171022T070000
DTEND;TZID=UTC:20171022T110000
DTSTAMP:20260423T011614
CREATED:20170814T075741Z
LAST-MODIFIED:20170814T075741Z
UID:10000077-1508655600-1508670000@halsports.net
SUMMARY:Nun Run Half Marathon\, 5K and 1 Mile 2017
DESCRIPTION:https://results.sporthive.com/events/6327233713240153088
URL:https://halsports.net/event/nun-run-half-marathon-5k-1-mile-2017/
LOCATION:DeKoevend Park
CATEGORIES:1 Mile,5K,Feature Event,Half Marathon
ATTACH;FMTTYPE=image/jpeg:https://halsports.net/wp-content/uploads/2017/08/Nun-Run-e1536505612334.jpg
END:VEVENT
BEGIN:VEVENT
DTSTART;TZID=UTC:20171028T093000
DTEND;TZID=UTC:20171028T120000
DTSTAMP:20260423T011614
CREATED:20171028T222446Z
LAST-MODIFIED:20171028T222446Z
UID:10000084-1509183000-1509192000@halsports.net
SUMMARY:The Great Pumpkin Haul 2017
DESCRIPTION:RSTLEC
URL:https://halsports.net/event/great-pumpkin-haul-2017/
LOCATION:Chatfield Botanic Gardens
CATEGORIES:Feature Event
ATTACH;FMTTYPE=image/jpeg:https://halsports.net/wp-content/uploads/2017/07/Pumpkin-haul.jpg
END:VEVENT
END:VCALENDAR