BEGIN:VCALENDAR
VERSION:2.0
PRODID:-//Hal Sports - ECPv6.15.18//NONSGML v1.0//EN
CALSCALE:GREGORIAN
METHOD:PUBLISH
X-WR-CALNAME:Hal Sports
X-ORIGINAL-URL:https://halsports.net
X-WR-CALDESC:Events for Hal Sports
REFRESH-INTERVAL;VALUE=DURATION:PT1H
X-Robots-Tag:noindex
X-PUBLISHED-TTL:PT1H
BEGIN:VTIMEZONE
TZID:UTC
BEGIN:STANDARD
TZOFFSETFROM:+0000
TZOFFSETTO:+0000
TZNAME:UTC
DTSTART:20160101T000000
END:STANDARD
END:VTIMEZONE
BEGIN:VEVENT
DTSTART;TZID=UTC:20170805T080000
DTEND;TZID=UTC:20170805T110000
DTSTAMP:20260423T030232
CREATED:20170602T083225Z
LAST-MODIFIED:20170602T083225Z
UID:10000068-1501920000-1501930800@halsports.net
SUMMARY:Feel the Heat & Move Your Feet 5K (CU Health Plans Event)
DESCRIPTION:7Aw0R5
URL:https://halsports.net/event/feel-heat-move-feet-5k-cu-health-plans-event/
LOCATION:Washington Park\, 1700 E. Louisiana Ave.\, Denver\, CO\, 80210\, United States
CATEGORIES:5K,Feature Event
ATTACH;FMTTYPE=image/jpeg:https://halsports.net/wp-content/uploads/2017/06/CU-Health-Feel-the-Heat.jpg
END:VEVENT
BEGIN:VEVENT
DTSTART;TZID=UTC:20170812T063000
DTEND;TZID=UTC:20170812T140000
DTSTAMP:20260423T030232
CREATED:20170602T092057Z
LAST-MODIFIED:20170602T092057Z
UID:10000061-1502519400-1502546400@halsports.net
SUMMARY:Mt. Sneffels Marathon & Half Marathon 2017
DESCRIPTION:YIKpyA
URL:https://halsports.net/event/mt-sneffels-marathon-half-marathon-2017/
LOCATION:Ouray\, Colorado\, Ouray\, CO\, United States
CATEGORIES:Feature Event,Half Marathon,Marathon
ATTACH;FMTTYPE=image/png:https://halsports.net/wp-content/uploads/2017/06/2017-logo.png
END:VEVENT
BEGIN:VEVENT
DTSTART;TZID=UTC:20170812T080000
DTEND;TZID=UTC:20170812T130000
DTSTAMP:20260423T030232
CREATED:20170602T083901Z
LAST-MODIFIED:20170602T083901Z
UID:10000060-1502524800-1502542800@halsports.net
SUMMARY:Georgetown to Idaho Springs Half Marathon 2017
DESCRIPTION:AuNxfS
URL:https://halsports.net/event/georgetown-idaho-springs-half-marathon-2017/
LOCATION:Georgetown\, CO\, Georgetown\, CO\, United States
CATEGORIES:Feature Event,Half Marathon
ATTACH;FMTTYPE=image/jpeg:https://halsports.net/wp-content/uploads/2017/06/gtis-2017-1.jpg
END:VEVENT
BEGIN:VEVENT
DTSTART;TZID=UTC:20170812T081100
DTEND;TZID=UTC:20170812T100000
DTSTAMP:20260423T030232
CREATED:20170602T092826Z
LAST-MODIFIED:20170602T092826Z
UID:10000062-1502525460-1502532000@halsports.net
SUMMARY:811 Run/Walk 2017
DESCRIPTION:uO9Was
URL:https://halsports.net/event/811-runwalk-2017/
LOCATION:Apex Center\, Arvada\, CO\, United States
CATEGORIES:5K,Feature Event
ATTACH;FMTTYPE=image/jpeg:https://halsports.net/wp-content/uploads/2017/06/Banner.jpg
END:VEVENT
BEGIN:VEVENT
DTSTART;TZID=UTC:20170820T090000
DTEND;TZID=UTC:20170820T120000
DTSTAMP:20260423T030232
CREATED:20170602T093321Z
LAST-MODIFIED:20170602T093321Z
UID:10000063-1503219600-1503230400@halsports.net
SUMMARY:Cancer League of Colorado Race for Research 2017
DESCRIPTION:MwDJep
URL:https://halsports.net/event/cancer-league-colorado-race-research-2017/
LOCATION:Washington Park\, 1700 E. Louisiana Ave.\, Denver\, CO\, 80210\, United States
CATEGORIES:5K,Feature Event
ATTACH;FMTTYPE=image/jpeg:https://halsports.net/wp-content/uploads/2017/06/Race-for-Research-2017-100x68.jpg
END:VEVENT
BEGIN:VEVENT
DTSTART;TZID=UTC:20170825T150000
DTEND;TZID=UTC:20170825T170000
DTSTAMP:20260423T030232
CREATED:20170716T074700Z
LAST-MODIFIED:20170716T074700Z
UID:10000271-1503673200-1503680400@halsports.net
SUMMARY:Vista Nation 2 Mile XC Race 2017
DESCRIPTION:FsMdin
URL:https://halsports.net/event/vista-nation-cross-country-invitational/
LOCATION:Mountain Vista High School\, 10585 Mountain Vista Ridge\, Highlands Ranch\, CO\, 80129\, United States
CATEGORIES:XC
ATTACH;FMTTYPE=image/jpeg:https://halsports.net/wp-content/uploads/2018/06/MountainVista.jpg
END:VEVENT
BEGIN:VEVENT
DTSTART;TZID=UTC:20170827T080000
DTEND;TZID=UTC:20170827T110000
DTSTAMP:20260423T030232
CREATED:20170602T094249Z
LAST-MODIFIED:20170602T094249Z
UID:10000064-1503820800-1503831600@halsports.net
SUMMARY:Superhero Challenge 5K Walk/Run 2017
DESCRIPTION:2U3I6j
URL:https://halsports.net/event/superhero-challenge-5k-walkrun/
LOCATION:Washington Park\, 1700 E. Louisiana Ave.\, Denver\, CO\, 80210\, United States
CATEGORIES:5K,Feature Event
ATTACH;FMTTYPE=image/jpeg:https://halsports.net/wp-content/uploads/2017/06/superhero-challenge.jpg
END:VEVENT
BEGIN:VEVENT
DTSTART;TZID=UTC:20170827T080000
DTEND;TZID=UTC:20170827T120000
DTSTAMP:20260423T030232
CREATED:20170602T095022Z
LAST-MODIFIED:20170602T095022Z
UID:10000066-1503820800-1503835200@halsports.net
SUMMARY:PH in the Park 5K & 1 Mile 2017
DESCRIPTION:XzJ92c
URL:https://halsports.net/event/ph-park-5k-1-mile-2017/
LOCATION:City Park\, 2001 Colorado Blvd\, Denver\, CO\, 80205\, United States
CATEGORIES:1 Mile,5K,Feature Event
ATTACH;FMTTYPE=image/png:https://halsports.net/wp-content/uploads/2017/06/Childrens-Hospital.png
END:VEVENT
BEGIN:VEVENT
DTSTART;TZID=UTC:20170831T150000
DTEND;TZID=UTC:20170831T170000
DTSTAMP:20260423T030232
CREATED:20170602T095810Z
LAST-MODIFIED:20170602T095810Z
UID:10000067-1504191600-1504198800@halsports.net
SUMMARY:Ponderosa High School XC Invitational 2017
DESCRIPTION:77Iz3E
URL:https://halsports.net/event/ponderosa-high-school-xc-invitational/
LOCATION:Colorado
CATEGORIES:XC
ATTACH;FMTTYPE=image/jpeg:https://halsports.net/wp-content/uploads/2017/06/ponderosa.jpg
END:VEVENT
END:VCALENDAR