BEGIN:VCALENDAR
VERSION:2.0
PRODID:-//Hal Sports - ECPv6.15.18//NONSGML v1.0//EN
CALSCALE:GREGORIAN
METHOD:PUBLISH
X-WR-CALNAME:Hal Sports
X-ORIGINAL-URL:https://halsports.net
X-WR-CALDESC:Events for Hal Sports
REFRESH-INTERVAL;VALUE=DURATION:PT1H
X-Robots-Tag:noindex
X-PUBLISHED-TTL:PT1H
BEGIN:VTIMEZONE
TZID:UTC
BEGIN:STANDARD
TZOFFSETFROM:+0000
TZOFFSETTO:+0000
TZNAME:UTC
DTSTART:20160101T000000
END:STANDARD
END:VTIMEZONE
BEGIN:VEVENT
DTSTART;TZID=UTC:20170505T150000
DTEND;TZID=UTC:20170505T170000
DTSTAMP:20260423T011616
CREATED:20170316T010541Z
LAST-MODIFIED:20170316T010541Z
UID:10000031-1493996400-1494003600@halsports.net
SUMMARY:Amigo-A-Go-Go 2017
DESCRIPTION:VRGJmW
URL:https://halsports.net/event/amigo-a-go-go/
LOCATION:Academia Ana Marie Sandoval\, 3655 Wyandot St\, Denver\, CO 80211\, Denver\, CO\, 80211\, United States
ATTACH;FMTTYPE=image/png:https://halsports.net/wp-content/uploads/2016/12/Hal_LOGO.png
END:VEVENT
BEGIN:VEVENT
DTSTART;TZID=UTC:20170506T070000
DTEND;TZID=UTC:20170506T150000
DTSTAMP:20260423T011616
CREATED:20170507T011959Z
LAST-MODIFIED:20170507T011959Z
UID:10000256-1494054000-1494082800@halsports.net
SUMMARY:Greenland Trail 50K\, 25K & 8 Mile 2017
DESCRIPTION:cay925
URL:https://halsports.net/event/greenland-trail-50k-25k-8-mile/
LOCATION:Greenland Open Space\, Larkspur\, CO\, 80118\, United States
CATEGORIES:25K,4 Mille,50K,8 Mile
ATTACH;FMTTYPE=image/png:https://halsports.net/wp-content/uploads/2017/03/LogoV2b.png
END:VEVENT
BEGIN:VEVENT
DTSTART;TZID=UTC:20170506T090000
DTEND;TZID=UTC:20170506T120000
DTSTAMP:20260423T011616
CREATED:20170316T010956Z
LAST-MODIFIED:20170316T010956Z
UID:10000032-1494061200-1494072000@halsports.net
SUMMARY:Denver Broncos 7K 2017 - Woodland Park
DESCRIPTION:ktcUEY
URL:https://halsports.net/event/denver-broncos-7k-woodland-park/
LOCATION:Woodland Park High School\, 151 Panther Way\, Woodland Park\, CO\, 80863\, United States
CATEGORIES:7K
ATTACH;FMTTYPE=image/jpeg:https://halsports.net/wp-content/uploads/2017/03/e4c8872c-0598-4865-9eaf-17f27796d8aa_fit_eventheaders_7K_WoodlandParkLOGO.jpg.jpeg
END:VEVENT
BEGIN:VEVENT
DTSTART;TZID=UTC:20170506T093000
DTEND;TZID=UTC:20170506T120000
DTSTAMP:20260423T011616
CREATED:20170316T012252Z
LAST-MODIFIED:20170316T012252Z
UID:10000041-1494063000-1494072000@halsports.net
SUMMARY:Emerge 5K - 2017
DESCRIPTION:w8veoI
URL:https://halsports.net/event/emerge-5k-2017/
LOCATION:Boulder Reservoir\, 5565 N 51st St\,\, Boulder\, CO\, 80301\, United States
CATEGORIES:5K
ATTACH;FMTTYPE=image/jpeg:https://halsports.net/wp-content/uploads/2017/03/3a96c848-9fbe-4da1-b28c-5382baa24819_Emerge_banner_1490x580__large.jpg
END:VEVENT
BEGIN:VEVENT
DTSTART;TZID=UTC:20170507T080000
DTEND;TZID=UTC:20170507T120000
DTSTAMP:20260423T011616
CREATED:20170405T195624Z
LAST-MODIFIED:20170405T195624Z
UID:10000050-1494144000-1494158400@halsports.net
SUMMARY:Now I Lay Me Down To Sleep 5K 2017
DESCRIPTION:vGBPxA
URL:https://halsports.net/event/now-i-lay-me-down-to-sleep-5k/
LOCATION:Baldwin Park\, 2162 Lakemont Avenue\, Orlando\, FL\, United States
CATEGORIES:5K
ATTACH;FMTTYPE=image/png:https://halsports.net/wp-content/uploads/2017/04/nilmdtslogoMAIN.png
END:VEVENT
BEGIN:VEVENT
DTSTART;TZID=UTC:20170507T090000
DTEND;TZID=UTC:20170507T110000
DTSTAMP:20260423T011616
CREATED:20170316T012731Z
LAST-MODIFIED:20170316T012731Z
UID:10000240-1494147600-1494154800@halsports.net
SUMMARY:Grace's Race 2017
DESCRIPTION:iDRd6O
URL:https://halsports.net/event/graces-race/
LOCATION:Willow Springs Open Space\, 7451 S. Homestead Pkwy\, Centennial\, CO\, 80123\, United States
CATEGORIES:5K
ATTACH;FMTTYPE=image/png:https://halsports.net/wp-content/uploads/2017/03/GracesRaceLogo2017_FA_notype.png
END:VEVENT
BEGIN:VEVENT
DTSTART;TZID=UTC:20170513T080000
DTEND;TZID=UTC:20170513T110000
DTSTAMP:20260423T011616
CREATED:20170316T012934Z
LAST-MODIFIED:20170316T012934Z
UID:10000241-1494662400-1494673200@halsports.net
SUMMARY:Climb 4 Change 2017
DESCRIPTION:7rdo4n
URL:https://halsports.net/event/climb-4-change/
LOCATION:Miller Activity Complex\, 1375 W Plum Creek Pkwy\, Castle Rock\, CO\, 80109\, United States
ATTACH;FMTTYPE=image/jpeg:https://halsports.net/wp-content/uploads/2017/03/Document.jpg
END:VEVENT
BEGIN:VEVENT
DTSTART;TZID=UTC:20170513T080000
DTEND;TZID=UTC:20170513T110000
DTSTAMP:20260423T011616
CREATED:20170316T013835Z
LAST-MODIFIED:20170316T013835Z
UID:10000243-1494662400-1494673200@halsports.net
SUMMARY:Airlife Memorial 5K / 10K Run 2017
DESCRIPTION:yVeNnq
URL:https://halsports.net/event/airlife-memorial-5k-10k-run/
LOCATION:Hudson Gardens\, 6115 S Santa Fe Dr\, Littleton\, CO\, 80127\, United States
CATEGORIES:10K,5K
ATTACH;FMTTYPE=image/jpeg:https://halsports.net/wp-content/uploads/2017/03/1449615549.jpg
END:VEVENT
BEGIN:VEVENT
DTSTART;TZID=UTC:20170513T090000
DTEND;TZID=UTC:20170513T110000
DTSTAMP:20260423T011616
CREATED:20170514T014301Z
LAST-MODIFIED:20170514T014301Z
UID:10000264-1494666000-1494673200@halsports.net
SUMMARY:Girls on the Run - Cherry Creek
DESCRIPTION:N2Fhxc
URL:https://halsports.net/event/girls-on-the-run-cherry-creek/
LOCATION:Cherry Creeek High School\, 9300 E Union Ave\, Greenwood Village\, CO\, 80111\, United States
CATEGORIES:5K
ATTACH;FMTTYPE=image/png:https://halsports.net/wp-content/uploads/2017/03/5K-logo-e1454982826355.png
END:VEVENT
BEGIN:VEVENT
DTSTART;TZID=UTC:20170513T090000
DTEND;TZID=UTC:20170513T120000
DTSTAMP:20260423T011616
CREATED:20170316T013339Z
LAST-MODIFIED:20170316T013339Z
UID:10000242-1494666000-1494676800@halsports.net
SUMMARY:Sean May Memorial Run 2017
DESCRIPTION:tukkU
URL:https://halsports.net/event/sean-may-memorial-run/
LOCATION:Barr Lake State Park\, 13401 Picadilly Rd\, Brighton\, CO\, 80603\, United States
CATEGORIES:5K,9 Mile,Kids Fun Run
ATTACH;FMTTYPE=image/png:https://halsports.net/wp-content/uploads/2017/03/seanmay.png
END:VEVENT
BEGIN:VEVENT
DTSTART;TZID=UTC:20170520T080000
DTEND;TZID=UTC:20170520T110000
DTSTAMP:20260423T011616
CREATED:20170316T083041Z
LAST-MODIFIED:20170316T083041Z
UID:10000244-1495267200-1495278000@halsports.net
SUMMARY:Cottonwood Classic 5K
DESCRIPTION:266NOf
URL:https://halsports.net/event/cottonwood-classic-5k/
LOCATION:Thorncreek Crossing Shopping Center\, 1001 E 120th Ave\, Thornton\, CO\, 80233\, United States
CATEGORIES:5K
ATTACH;FMTTYPE=image/png:https://halsports.net/wp-content/uploads/2017/03/Cottonwood-Classic.png
END:VEVENT
BEGIN:VEVENT
DTSTART;TZID=UTC:20170520T090000
DTEND;TZID=UTC:20170520T120000
DTSTAMP:20260423T011616
CREATED:20170408T104213Z
LAST-MODIFIED:20170408T104213Z
UID:10000051-1495270800-1495281600@halsports.net
SUMMARY:Bellco Colfax 5K 2017
DESCRIPTION:Kick off Denver’s Colfax Marathon weekend in City Park with the Bellco Colfax 5K! Go for a PR in this chip-timed race – separate stroller-friendly start wave for families and walkers. Run in the Dog Wave and get your dog a race bandana!   Post Event Party with Taziki’s Mediterranean Cafe Food\, and live music.  A great chance to be a part of Marathon weekend – at a much shorter distance! \nEnter Race ID Here
URL:https://halsports.net/event/bellco-colfax-5k/
LOCATION:City Park\, 2001 Colorado Blvd\, Denver\, CO\, 80205\, United States
CATEGORIES:5K
ATTACH;FMTTYPE=image/png:https://halsports.net/wp-content/uploads/2017/04/Colfax.png
END:VEVENT
BEGIN:VEVENT
DTSTART;TZID=UTC:20170521T060000
DTEND;TZID=UTC:20170521T150000
DTSTAMP:20260423T011616
CREATED:20170408T104936Z
LAST-MODIFIED:20170408T104936Z
UID:10000052-1495346400-1495378800@halsports.net
SUMMARY:Colfax Marathon 2017
DESCRIPTION:DENVER’S PREMIERE RUNNING WEEKEND!\nRunners are provided the Ultimate Urban Tour throughout the Denver area on the courses\, including the Denver Zoo\, Sports Authority Field at Mile High run-throughs\, 7 miles of water\, Cherry Creek Bike path\, downtown\, fire station run-throughs\, and much more. \nEnter Race ID Here
URL:https://halsports.net/event/colfax-marathon/
LOCATION:City Park\, 2001 Colorado Blvd\, Denver\, CO\, 80205\, United States
CATEGORIES:10 Mile,Half Marathon,Marathon,Relay
ATTACH;FMTTYPE=image/png:https://halsports.net/wp-content/uploads/2017/04/Colfax.png
END:VEVENT
BEGIN:VEVENT
DTSTART;TZID=UTC:20170521T080000
DTEND;TZID=UTC:20170521T120000
DTSTAMP:20260423T011616
CREATED:20170316T083538Z
LAST-MODIFIED:20170316T083538Z
UID:10000245-1495353600-1495368000@halsports.net
SUMMARY:Tri the Rock Kids Triathlon 2017
DESCRIPTION:4cv0XE
URL:https://halsports.net/event/tri-the-rock-youth-triathlon-2017/
LOCATION:Butterfield Crossing Park\, 3952 Butterfield Crossing Dr\, Castle Rock\, CO\, 80109\, United States
CATEGORIES:Triathlon
ATTACH;FMTTYPE=image/jpeg:https://halsports.net/wp-content/uploads/2017/03/Tri-the-Rock-800x372.jpg
END:VEVENT
BEGIN:VEVENT
DTSTART;TZID=UTC:20170527T070000
DTEND;TZID=UTC:20170527T130000
DTSTAMP:20260423T011616
CREATED:20170312T110010Z
LAST-MODIFIED:20170312T110010Z
UID:10000037-1495868400-1495890000@halsports.net
SUMMARY:Rock Hawk Half Marathon 2017
DESCRIPTION:HJfJZz
URL:https://halsports.net/event/rock-hawk-half-marathon/
LOCATION:Miller Activity Complex\, 1375 W Plum Creek Pkwy\, Castle Rock\, CO\, 80109\, United States
CATEGORIES:10K,Half Marathon
ATTACH;FMTTYPE=image/png:https://halsports.net/wp-content/uploads/2017/03/rock-hawk-logo.png
END:VEVENT
END:VCALENDAR