BEGIN:VCALENDAR
VERSION:2.0
PRODID:-//Hal Sports - ECPv6.15.18//NONSGML v1.0//EN
CALSCALE:GREGORIAN
METHOD:PUBLISH
X-WR-CALNAME:Hal Sports
X-ORIGINAL-URL:https://halsports.net
X-WR-CALDESC:Events for Hal Sports
REFRESH-INTERVAL;VALUE=DURATION:PT1H
X-Robots-Tag:noindex
X-PUBLISHED-TTL:PT1H
BEGIN:VTIMEZONE
TZID:UTC
BEGIN:STANDARD
TZOFFSETFROM:+0000
TZOFFSETTO:+0000
TZNAME:UTC
DTSTART:20160101T000000
END:STANDARD
END:VTIMEZONE
BEGIN:VEVENT
DTSTART;TZID=UTC:20170304T080000
DTEND;TZID=UTC:20170304T120000
DTSTAMP:20260422T091357
CREATED:20170227T224534Z
LAST-MODIFIED:20170227T224534Z
UID:10000233-1488614400-1488628800@halsports.net
SUMMARY:Fight For Air Climb 2017 - Boise
DESCRIPTION:0inPay
URL:https://halsports.net/event/fight-for-air-climb-boise/
LOCATION:US Bank Plaza\, Boise
CATEGORIES:Default Race
ATTACH;FMTTYPE=image/jpeg:https://halsports.net/wp-content/uploads/2017/02/FFAC.jpg
END:VEVENT
BEGIN:VEVENT
DTSTART;TZID=UTC:20170305T080000
DTEND;TZID=UTC:20170305T170000
DTSTAMP:20260422T091357
CREATED:20170227T225514Z
LAST-MODIFIED:20170227T225514Z
UID:10000234-1488700800-1488733200@halsports.net
SUMMARY:That Dam Run 13.1 & 5K 2017
DESCRIPTION:QUuHQq
URL:https://halsports.net/event/the-dam-run-13-1-5k/
LOCATION:Cherry Creek Dam Road\, Cherry Creek Dam Road\, Greenwood Village \, CO
CATEGORIES:Default Race
ATTACH;FMTTYPE=image/jpeg:https://halsports.net/wp-content/uploads/2017/02/That-Dam-Run.jpg
END:VEVENT
BEGIN:VEVENT
DTSTART;TZID=UTC:20170312T101500
DTEND;TZID=UTC:20170312T121500
DTSTAMP:20260422T091357
CREATED:20170313T005406Z
LAST-MODIFIED:20170313T005406Z
UID:10000038-1489313700-1489320900@halsports.net
SUMMARY:Runnin' of the Green Lucky 7K
DESCRIPTION:eMzIMr
URL:https://halsports.net/event/runnin-of-the-green-lucky-7k/
LOCATION:17th and Wazee\, 17th Stree and Wazee\, Denver\, United States
CATEGORIES:Default Race
ATTACH;FMTTYPE=image/jpeg:https://halsports.net/wp-content/uploads/2017/02/rotg.jpg
END:VEVENT
BEGIN:VEVENT
DTSTART;TZID=UTC:20170325T090000
DTEND;TZID=UTC:20170325T110000
DTSTAMP:20260422T091357
CREATED:20170228T042507Z
LAST-MODIFIED:20170228T042507Z
UID:10000235-1490432400-1490439600@halsports.net
SUMMARY:Dallas Vert Mile 2017
DESCRIPTION:0f3EEL
URL:https://halsports.net/event/dallas-vert-mile/
LOCATION:Reunion Tower\, 300 Reunion Blvd\, Dallas\, TX\, 75207\, United States
CATEGORIES:Default Race
ATTACH;FMTTYPE=image/png:https://halsports.net/wp-content/uploads/2017/02/15318020_1828269860763225_1791024241290034695_n.png
END:VEVENT
BEGIN:VEVENT
DTSTART;TZID=UTC:20170329T070000
DTEND;TZID=UTC:20170329T210000
DTSTAMP:20260422T091357
CREATED:20170228T043403Z
LAST-MODIFIED:20170228T043403Z
UID:10000236-1490770800-1490821200@halsports.net
SUMMARY:AMCP 5K (Convention Run) 2017
DESCRIPTION:39KOw7
URL:https://halsports.net/event/amcp-5k-convention-run/
LOCATION:City Park\, 2001 Colorado Blvd\, Denver\, CO\, 80205\, United States
CATEGORIES:Default Race
ATTACH;FMTTYPE=image/png:https://halsports.net/wp-content/uploads/2016/12/Hal_LOGO.png
END:VEVENT
END:VCALENDAR