BEGIN:VCALENDAR
VERSION:2.0
PRODID:-//Hal Sports - ECPv6.15.18//NONSGML v1.0//EN
CALSCALE:GREGORIAN
METHOD:PUBLISH
X-WR-CALNAME:Hal Sports
X-ORIGINAL-URL:https://halsports.net
X-WR-CALDESC:Events for Hal Sports
REFRESH-INTERVAL;VALUE=DURATION:PT1H
X-Robots-Tag:noindex
X-PUBLISHED-TTL:PT1H
BEGIN:VTIMEZONE
TZID:UTC
BEGIN:STANDARD
TZOFFSETFROM:+0000
TZOFFSETTO:+0000
TZNAME:UTC
DTSTART:20160101T000000
END:STANDARD
END:VTIMEZONE
BEGIN:VEVENT
DTSTART;TZID=UTC:20170908T150000
DTEND;TZID=UTC:20170908T170000
DTSTAMP:20260421T202808
CREATED:20170814T081406Z
LAST-MODIFIED:20170814T081406Z
UID:10000079-1504882800-1504890000@halsports.net
SUMMARY:Slavens Invitational Cross Country 2017
DESCRIPTION:https://results.sporthive.com/events/6311356438910341376
URL:https://halsports.net/event/slavens-invitational-cross-country/
LOCATION:CO
CATEGORIES:XC
ATTACH;FMTTYPE=image/jpeg:https://halsports.net/wp-content/uploads/2018/08/Slavens-XC-Invitational-2018_Proof.jpg
END:VEVENT
END:VCALENDAR