BEGIN:VCALENDAR
VERSION:2.0
PRODID:-//Hal Sports - ECPv6.15.18//NONSGML v1.0//EN
CALSCALE:GREGORIAN
METHOD:PUBLISH
X-WR-CALNAME:Hal Sports
X-ORIGINAL-URL:https://halsports.net
X-WR-CALDESC:Events for Hal Sports
REFRESH-INTERVAL;VALUE=DURATION:PT1H
X-Robots-Tag:noindex
X-PUBLISHED-TTL:PT1H
BEGIN:VTIMEZONE
TZID:America/Denver
BEGIN:DAYLIGHT
TZOFFSETFROM:-0700
TZOFFSETTO:-0600
TZNAME:MDT
DTSTART:20220313T090000
END:DAYLIGHT
BEGIN:STANDARD
TZOFFSETFROM:-0600
TZOFFSETTO:-0700
TZNAME:MST
DTSTART:20221106T080000
END:STANDARD
BEGIN:DAYLIGHT
TZOFFSETFROM:-0700
TZOFFSETTO:-0600
TZNAME:MDT
DTSTART:20230312T090000
END:DAYLIGHT
BEGIN:STANDARD
TZOFFSETFROM:-0600
TZOFFSETTO:-0700
TZNAME:MST
DTSTART:20231105T080000
END:STANDARD
BEGIN:DAYLIGHT
TZOFFSETFROM:-0700
TZOFFSETTO:-0600
TZNAME:MDT
DTSTART:20240310T090000
END:DAYLIGHT
BEGIN:STANDARD
TZOFFSETFROM:-0600
TZOFFSETTO:-0700
TZNAME:MST
DTSTART:20241103T080000
END:STANDARD
END:VTIMEZONE
BEGIN:VEVENT
DTSTART;TZID=America/Denver:20230325T080000
DTEND;TZID=America/Denver:20230325T120000
DTSTAMP:20260421T174844
CREATED:20230111T064846Z
LAST-MODIFIED:20230314T004520Z
UID:10000624-1679731200-1679745600@halsports.net
SUMMARY:Fight for Air Climb Oklahoma City 2023
DESCRIPTION:
URL:https://halsports.net/event/fight-for-air-climb-oklahoma-city-2023/
LOCATION:Chickasaw Bricktown Ballpark\, 2 S Mickey Mantle Dr\,\, Oklahoma City\, OK\, 73104\, United States
CATEGORIES:Feature Event,Stair Climb
ATTACH;FMTTYPE=image/png:https://halsports.net/wp-content/uploads/2023/02/FFAC_blue-logo-event-only.png
END:VEVENT
END:VCALENDAR