BEGIN:VCALENDAR
VERSION:2.0
PRODID:-//Hal Sports - ECPv6.15.18//NONSGML v1.0//EN
CALSCALE:GREGORIAN
METHOD:PUBLISH
X-ORIGINAL-URL:https://halsports.net
X-WR-CALDESC:Events for Hal Sports
REFRESH-INTERVAL;VALUE=DURATION:PT1H
X-Robots-Tag:noindex
X-PUBLISHED-TTL:PT1H
BEGIN:VTIMEZONE
TZID:America/Denver
BEGIN:DAYLIGHT
TZOFFSETFROM:-0700
TZOFFSETTO:-0600
TZNAME:MDT
DTSTART:20200308T090000
END:DAYLIGHT
BEGIN:STANDARD
TZOFFSETFROM:-0600
TZOFFSETTO:-0700
TZNAME:MST
DTSTART:20201101T080000
END:STANDARD
BEGIN:DAYLIGHT
TZOFFSETFROM:-0700
TZOFFSETTO:-0600
TZNAME:MDT
DTSTART:20210314T090000
END:DAYLIGHT
BEGIN:STANDARD
TZOFFSETFROM:-0600
TZOFFSETTO:-0700
TZNAME:MST
DTSTART:20211107T080000
END:STANDARD
BEGIN:DAYLIGHT
TZOFFSETFROM:-0700
TZOFFSETTO:-0600
TZNAME:MDT
DTSTART:20220313T090000
END:DAYLIGHT
BEGIN:STANDARD
TZOFFSETFROM:-0600
TZOFFSETTO:-0700
TZNAME:MST
DTSTART:20221106T080000
END:STANDARD
END:VTIMEZONE
BEGIN:VTIMEZONE
TZID:UTC
BEGIN:STANDARD
TZOFFSETFROM:+0000
TZOFFSETTO:+0000
TZNAME:UTC
DTSTART:20200101T000000
END:STANDARD
END:VTIMEZONE
BEGIN:VEVENT
DTSTART;TZID=America/Denver:20210501T080000
DTEND;TZID=America/Denver:20210501T120000
DTSTAMP:20260422T210057
CREATED:20210411T033439Z
LAST-MODIFIED:20210411T033439Z
UID:10000500-1619856000-1619870400@halsports.net
SUMMARY:Fight for Air Climb Oklahoma City 2021
DESCRIPTION:https://results.sporthive.com/events/6790850659504744448
URL:https://halsports.net/event/fight-for-air-climb-oklahoma-city-2021/
LOCATION:Wantland Stadium\, 100 N University Dr\, Edmond\, OK\, 73034\, United States
CATEGORIES:Feature Event,Stair Climb
ATTACH;FMTTYPE=image/png:https://halsports.net/wp-content/uploads/2019/10/fight-for-air.png
END:VEVENT
BEGIN:VEVENT
DTSTART;TZID=America/Denver:20210508T080000
DTEND;TZID=America/Denver:20210508T120000
DTSTAMP:20260422T210057
CREATED:20210210T075654Z
LAST-MODIFIED:20210210T075654Z
UID:10000487-1620460800-1620475200@halsports.net
SUMMARY:Fight For Air Climb - Denver 2021
DESCRIPTION:https://results.sporthive.com/events/6790839870546895104
URL:https://halsports.net/event/fight-for-air-climb-denver-2021/
LOCATION:Coors Field\, 2001 Blake St\, Denver\, CO\, 80205
CATEGORIES:Feature Event,Stair Climb
ATTACH;FMTTYPE=image/png:https://halsports.net/wp-content/uploads/2019/10/fight-for-air.png
END:VEVENT
BEGIN:VEVENT
DTSTART;TZID=UTC:20210522T070000
DTEND;TZID=UTC:20210522T133000
DTSTAMP:20260422T210057
CREATED:20210210T082239Z
LAST-MODIFIED:20210210T082239Z
UID:10000489-1621666800-1621690200@halsports.net
SUMMARY:Climb 4 Change 2021
DESCRIPTION:https://results.sporthive.com/events/6800788762845317120
URL:https://halsports.net/event/climb-4-change-2021/
LOCATION:Phillip S Miller Park\, 1375 W Plum Creek Pkwy\, Castle Rock\, CO\, 80109\, United States
CATEGORIES:10K,5K,Feature Event,Fun Run,Stair Climb,Trail Run,Virtual
ATTACH;FMTTYPE=image/png:https://halsports.net/wp-content/uploads/2019/03/logo-2.png
END:VEVENT
END:VCALENDAR