BEGIN:VCALENDAR
VERSION:2.0
PRODID:-//Hal Sports - ECPv6.15.18//NONSGML v1.0//EN
CALSCALE:GREGORIAN
METHOD:PUBLISH
X-WR-CALNAME:Hal Sports
X-ORIGINAL-URL:https://halsports.net
X-WR-CALDESC:Events for Hal Sports
REFRESH-INTERVAL;VALUE=DURATION:PT1H
X-Robots-Tag:noindex
X-PUBLISHED-TTL:PT1H
BEGIN:VTIMEZONE
TZID:UTC
BEGIN:STANDARD
TZOFFSETFROM:+0000
TZOFFSETTO:+0000
TZNAME:UTC
DTSTART:20180101T000000
END:STANDARD
END:VTIMEZONE
BEGIN:VEVENT
DTSTART;TZID=UTC:20190406T083000
DTEND;TZID=UTC:20190406T113000
DTSTAMP:20260422T175327
CREATED:20190210T034906Z
LAST-MODIFIED:20190210T034906Z
UID:10000163-1554539400-1554550200@halsports.net
SUMMARY:Fight For Air Climb Albuquerque 2019
DESCRIPTION:https://results.sporthive.com/events/6517490490940930560
URL:https://halsports.net/event/fight-for-air-climb-albequerque-2019/
LOCATION:Hyatt Regency Albuquerque\, Albuquerque\, New Mexico
CATEGORIES:Feature Event,Stair Climb
ATTACH;FMTTYPE=image/png:https://halsports.net/wp-content/uploads/2018/01/ALA-Fight-for-Air.png
END:VEVENT
BEGIN:VEVENT
DTSTART;TZID=UTC:20190414T090000
DTEND;TZID=UTC:20190414T130000
DTSTAMP:20260422T175327
CREATED:20190122T071023Z
LAST-MODIFIED:20190122T071023Z
UID:10000363-1555232400-1555246800@halsports.net
SUMMARY:Fight for Air Climb Portland 2019
DESCRIPTION:https://results.sporthive.com/events/6496268387468084224
URL:https://halsports.net/event/portland-fight-for-air-stair-climb/
LOCATION:US Bancorp Tower\, 111 Southwest Fifth Avenue\, Portland\,  OR\, 97204
CATEGORIES:Feature Event,Stair Climb
ATTACH;FMTTYPE=image/png:https://halsports.net/wp-content/uploads/2017/03/ALA-Fight-for-Air.png
END:VEVENT
BEGIN:VEVENT
DTSTART;TZID=UTC:20190427T080000
DTEND;TZID=UTC:20190427T120000
DTSTAMP:20260422T175327
CREATED:20190222T042435Z
LAST-MODIFIED:20190222T042435Z
UID:10000371-1556352000-1556366400@halsports.net
SUMMARY:Tunnel to Towers Tower Climb 2019
DESCRIPTION:https://results.sporthive.com/events/6526852098003192064
URL:https://halsports.net/event/tunnel-to-towers-tower-climb-2019/
LOCATION:Duke Energy Building\, 550 South Tryon Street\, Charlotte\, NC\, 28210\, United States
CATEGORIES:Feature Event,Stair Climb
ATTACH;FMTTYPE=image/png:https://halsports.net/wp-content/uploads/2019/02/logo-snippet.png
END:VEVENT
END:VCALENDAR