BEGIN:VCALENDAR
VERSION:2.0
PRODID:-//Hal Sports - ECPv6.15.18//NONSGML v1.0//EN
CALSCALE:GREGORIAN
METHOD:PUBLISH
X-WR-CALNAME:Hal Sports
X-ORIGINAL-URL:https://halsports.net
X-WR-CALDESC:Events for Hal Sports
REFRESH-INTERVAL;VALUE=DURATION:PT1H
X-Robots-Tag:noindex
X-PUBLISHED-TTL:PT1H
BEGIN:VTIMEZONE
TZID:UTC
BEGIN:STANDARD
TZOFFSETFROM:+0000
TZOFFSETTO:+0000
TZNAME:UTC
DTSTART:20160101T000000
END:STANDARD
END:VTIMEZONE
BEGIN:VEVENT
DTSTART;TZID=UTC:20190303T080000
DTEND;TZID=UTC:20190303T120000
DTSTAMP:20260421T143706
CREATED:20200130T203555Z
LAST-MODIFIED:20200130T203555Z
UID:10000432-1551600000-1551614400@halsports.net
SUMMARY:That Dam Run 2019
DESCRIPTION:https://results.sporthive.com/events/6503049689847465728
URL:https://halsports.net/event/that-dam-run-13-1-10k-5k-2019/
LOCATION:Cherry Creek Dam Road\, Cherry Creek Dam Road\, Greenwood Village \, CO
CATEGORIES:10K,5K,Feature Event,Half Marathon,Kids Fun Run
ATTACH;FMTTYPE=image/png:https://halsports.net/wp-content/uploads/2017/10/dam-run.png
END:VEVENT
BEGIN:VEVENT
DTSTART;TZID=UTC:20190223T090000
DTEND;TZID=UTC:20190223T130000
DTSTAMP:20260421T143706
CREATED:20200130T202114Z
LAST-MODIFIED:20200130T202114Z
UID:10000430-1550912400-1550926800@halsports.net
SUMMARY:Snowman Stampede Half Marathon\, 10K & 5K 2019
DESCRIPTION:https://results.sporthive.com/events/6500129163629265152
URL:https://halsports.net/event/snowman-stampede-half-marathon-10k-5k-2019/
LOCATION:Hudson Gardens\, 6115 S Santa Fe Dr\, Littleton\, CO\, 80127\, United States
CATEGORIES:10K,5K,Feature Event,Half Marathon,Kids Fun Run
ATTACH;FMTTYPE=image/png:https://halsports.net/wp-content/uploads/2017/10/Snowman-2018-logo.png
END:VEVENT
BEGIN:VEVENT
DTSTART;TZID=UTC:20190126T090000
DTEND;TZID=UTC:20190126T130000
DTSTAMP:20260421T143706
CREATED:20190122T062924Z
LAST-MODIFIED:20190122T062924Z
UID:10000362-1548493200-1548507600@halsports.net
SUMMARY:Frosty's Frozen 5K & 10K 2019
DESCRIPTION:https://results.sporthive.com/events/6493247543717255168
URL:https://halsports.net/event/frostys-frozen-five-ten-2019/
LOCATION:Hudson Gardens\, 6115 S Santa Fe Dr\, Littleton\, CO\, 80127\, United States
CATEGORIES:10 Mile,5 Mile,Feature Event,Kids Fun Run
ATTACH;FMTTYPE=image/png:https://halsports.net/wp-content/uploads/2017/10/Frostys.png
END:VEVENT
BEGIN:VEVENT
DTSTART;TZID=UTC:20181215T090000
DTEND;TZID=UTC:20181215T120000
DTSTAMP:20260421T143706
CREATED:20181215T102049Z
LAST-MODIFIED:20181215T102049Z
UID:10000359-1544864400-1544875200@halsports.net
SUMMARY:Santa Stampede 2018
DESCRIPTION:https://results.sporthive.com/events/6476859318577994752
URL:https://halsports.net/event/santa-stampede-2018/
LOCATION:Hudson Gardens\, 6115 S Santa Fe Dr\, Littleton\, CO\, 80127\, United States
CATEGORIES:10K,5K,Feature Event,Kids Fun Run
ATTACH;FMTTYPE=image/png:https://halsports.net/wp-content/uploads/2017/08/Santa-Stampede-2016.png
END:VEVENT
BEGIN:VEVENT
DTSTART;TZID=UTC:20181122T090000
DTEND;TZID=UTC:20181122T113000
DTSTAMP:20260421T143706
CREATED:20181113T100825Z
LAST-MODIFIED:20181113T100825Z
UID:10000153-1542877200-1542886200@halsports.net
SUMMARY:Turkey Rock Trot
DESCRIPTION:https://results.sporthive.com/events/6469462912448371456
URL:https://halsports.net/event/turkey-rock-trot-2018/
LOCATION:Douglas County Event Center\, 500 Fairgrounds Drive\, Castle Rock\, Colorado\, 80104
CATEGORIES:5K,Feature Event,Kids Fun Run
ATTACH;FMTTYPE=image/png:https://halsports.net/wp-content/uploads/2018/06/TRT18-Sponsors-Vertical.png
END:VEVENT
BEGIN:VEVENT
DTSTART;TZID=UTC:20181111T100000
DTEND;TZID=UTC:20181111T130000
DTSTAMP:20260421T143706
CREATED:20181112T025614Z
LAST-MODIFIED:20181112T025614Z
UID:10000152-1541930400-1541941200@halsports.net
SUMMARY:The Great Candy Run - Denver 2018
DESCRIPTION:https://results.sporthive.com/events/6465844389709237760
URL:https://halsports.net/event/the-great-candy-run/
LOCATION:Washington Park\, 1700 E. Louisiana Ave.\, Denver\, CO\, 80210\, United States
CATEGORIES:5K,Feature Event,Kids Fun Run
ATTACH;FMTTYPE=image/png:https://halsports.net/wp-content/uploads/2017/07/Great-Candy-Run-1.png
END:VEVENT
BEGIN:VEVENT
DTSTART;TZID=UTC:20181021T090000
DTEND;TZID=UTC:20181021T110000
DTSTAMP:20260421T143706
CREATED:20180625T045458Z
LAST-MODIFIED:20180625T045458Z
UID:10000347-1540112400-1540119600@halsports.net
SUMMARY:Walk for Wishes & 5K Run 2018
DESCRIPTION:https://results.sporthive.com/events/6459631852614302464
URL:https://halsports.net/event/walk-for-wishes-5k-run-2018/
LOCATION:Hudson Gardens\, 6115 S Santa Fe Dr\, Littleton\, CO\, 80127\, United States
CATEGORIES:1 Mile,5K,Feature Event,Kids Fun Run
ATTACH;FMTTYPE=image/png:https://halsports.net/wp-content/uploads/2018/06/make-a-wish.png
END:VEVENT
BEGIN:VEVENT
DTSTART;TZID=UTC:20181014T090000
DTEND;TZID=UTC:20181014T120000
DTSTAMP:20260421T143706
CREATED:20181014T085424Z
LAST-MODIFIED:20181014T085424Z
UID:10000148-1539507600-1539518400@halsports.net
SUMMARY:The Great Candy Run - Minneapolis 2018
DESCRIPTION:https://results.sporthive.com/events/EVENTID
URL:https://halsports.net/event/the-great-candy-run-minneapolis/
LOCATION:Veteran’s Park\, Richfield\, MN\, United States
CATEGORIES:5K,Feature Event,Kids Fun Run
ATTACH;FMTTYPE=image/png:https://halsports.net/wp-content/uploads/2017/07/Great-Candy-Run-1.png
END:VEVENT
BEGIN:VEVENT
DTSTART;TZID=UTC:20180902T070000
DTEND;TZID=UTC:20180902T140000
DTSTAMP:20260421T143706
CREATED:20180615T093453Z
LAST-MODIFIED:20180615T093453Z
UID:10000130-1535871600-1535896800@halsports.net
SUMMARY:Broncos 7K Series - Denver 2018
DESCRIPTION:https://results.sporthive.com/events/6413111352388648448
URL:https://halsports.net/event/broncos-7k-series-denver-2018/
LOCATION:Empower Field at Mile High\, 1701 Bryant St\, Denver\, CO 80204\, Denver\, CO\, 80204\, United States
CATEGORIES:7K,Feature Event,Kids Fun Run
ATTACH;FMTTYPE=image/png:https://halsports.net/wp-content/uploads/2018/06/Fit-7K-Expo-BLUE.png
END:VEVENT
BEGIN:VEVENT
DTSTART;TZID=UTC:20180811T063000
DTEND;TZID=UTC:20180811T140000
DTSTAMP:20260421T143706
CREATED:20180614T100340Z
LAST-MODIFIED:20180614T100340Z
UID:10000124-1533969000-1533996000@halsports.net
SUMMARY:Mt. Sneffels Marathon and Half Marathon 2018
DESCRIPTION:https://results.sporthive.com/events/6412748298800601088
URL:https://halsports.net/event/mt-sneffels-marathon-and-half-marathon-2018/
LOCATION:Ouray\, Colorado\, Ouray\, CO\, United States
CATEGORIES:Feature Event,Half Marathon,Kids Fun Run,Marathon
ATTACH;FMTTYPE=image/png:https://halsports.net/wp-content/uploads/2018/06/Mt-sneffels.png
END:VEVENT
BEGIN:VEVENT
DTSTART;TZID=UTC:20180704T083000
DTEND;TZID=UTC:20180704T103000
DTSTAMP:20260421T143706
CREATED:20180322T010234Z
LAST-MODIFIED:20180322T010234Z
UID:10000112-1530693000-1530700200@halsports.net
SUMMARY:Liberty Run 4 Mile & Kid's Firecracker Run - 2018
DESCRIPTION:https://results.sporthive.com/events/6409477028369661952
URL:https://halsports.net/event/liberty-run-4-mile-kids-firecracker-run-2/
LOCATION:Washington Park\, 1700 E. Louisiana Ave.\, Denver\, CO\, 80210\, United States
CATEGORIES:4 Mille,Feature Event,Kids Fun Run
ATTACH;FMTTYPE=image/jpeg:https://halsports.net/wp-content/uploads/2017/05/Liberty-Run-2017.jpg
END:VEVENT
BEGIN:VEVENT
DTSTART;TZID=UTC:20180704T080000
DTEND;TZID=UTC:20180704T100000
DTSTAMP:20260421T143706
CREATED:20180531T032758Z
LAST-MODIFIED:20180531T032758Z
UID:10000322-1530691200-1530698400@halsports.net
SUMMARY:Boogie's Buddy Race 2018
DESCRIPTION:https://results.sporthive.com/events/6410002685122052352
URL:https://halsports.net/event/boogies-diner-buddy-5-mile-2/
LOCATION:Rio Grande Park\, Aspen\, CO\, 81611\, United States
CATEGORIES:5 Mile,Feature Event,Kids Fun Run
ATTACH;FMTTYPE=image/png:https://halsports.net/wp-content/uploads/2018/05/buddyprogramlogo.png
END:VEVENT
BEGIN:VEVENT
DTSTART;TZID=UTC:20180624T100000
DTEND;TZID=UTC:20180624T120000
DTSTAMP:20260421T143706
CREATED:20180422T072813Z
LAST-MODIFIED:20180422T072813Z
UID:10000108-1529834400-1529841600@halsports.net
SUMMARY:6dotDash 5K 2018
DESCRIPTION:https://results.sporthive.com/events/6409444494023758848
URL:https://halsports.net/event/6dotdash-5k/
LOCATION:Colorado Center for the Blind
CATEGORIES:1 Mile,5K,Feature Event,Kids Fun Run
ATTACH;FMTTYPE=image/jpeg:https://halsports.net/wp-content/uploads/2018/04/logo.jpeg
END:VEVENT
BEGIN:VEVENT
DTSTART;TZID=UTC:20180617T053000
DTEND;TZID=UTC:20180617T130000
DTSTAMP:20260421T143706
CREATED:20180618T001545Z
LAST-MODIFIED:20180618T001545Z
UID:10000334-1529213400-1529240400@halsports.net
SUMMARY:Estes Park Marathon\, Half Marathon\, 10K & 5K 2018
DESCRIPTION:https://results.sporthive.com/events/6404097672055892736
URL:https://halsports.net/event/estes-park-marathon-half-marathon-10k-5k/
LOCATION:Estes Park
CATEGORIES:10K,5K,Feature Event,Half Marathon,Kids Fun Run,Marathon,Relay
ATTACH;FMTTYPE=image/jpeg:https://halsports.net/wp-content/uploads/2017/04/Estes-Park-Marathon-Logo-2017.jpg
END:VEVENT
BEGIN:VEVENT
DTSTART;TZID=UTC:20180610T093000
DTEND;TZID=UTC:20180610T120000
DTSTAMP:20260421T143706
CREATED:20180321T233410Z
LAST-MODIFIED:20180321T233410Z
UID:10000314-1528623000-1528632000@halsports.net
SUMMARY:Strides for Epilepsy 2018
DESCRIPTION:https://results.sporthive.com/events/6404078297458170880
URL:https://halsports.net/event/strides-for-epilepsy-2/
LOCATION:City Park\, 2001 Colorado Blvd\, Denver\, CO\, 80205\, United States
CATEGORIES:5K,Feature Event,Kids Fun Run
ATTACH;FMTTYPE=image/jpeg:https://halsports.net/wp-content/uploads/2018/03/logo-2018.jpg
END:VEVENT
BEGIN:VEVENT
DTSTART;TZID=UTC:20180609T083000
DTEND;TZID=UTC:20180609T103000
DTSTAMP:20260421T143706
CREATED:20180321T231401Z
LAST-MODIFIED:20180321T231401Z
UID:10000313-1528533000-1528540200@halsports.net
SUMMARY:Jodi's Race for Awareness 2018
DESCRIPTION:https://results.sporthive.com/events/6404068285889403136
URL:https://halsports.net/event/jodis-race-for-awareness-2/
LOCATION:City Park\, 2001 Colorado Blvd\, Denver\, CO\, 80205\, United States
CATEGORIES:1 Mile,5K,Feature Event,Kids Fun Run
ATTACH;FMTTYPE=image/jpeg:https://halsports.net/wp-content/uploads/2017/03/jodisraceforawareness.jpg
END:VEVENT
BEGIN:VEVENT
DTSTART;TZID=UTC:20180602T083000
DTEND;TZID=UTC:20180602T110000
DTSTAMP:20260421T143706
CREATED:20180321T222328Z
LAST-MODIFIED:20180321T222328Z
UID:10000310-1527928200-1527937200@halsports.net
SUMMARY:Taste of Louisville 5K 2018
DESCRIPTION:https://results.sporthive.com/events/6403296780912293632
URL:https://halsports.net/event/taste-of-louisville-5k/
LOCATION:Pirates Park\, Louisville\, CO\, United States
CATEGORIES:5K,Feature Event,Kids Fun Run
ATTACH;FMTTYPE=image/png:https://halsports.net/wp-content/uploads/2018/03/TOL-Logo.png
END:VEVENT
BEGIN:VEVENT
DTSTART;TZID=UTC:20180602T080000
DTEND;TZID=UTC:20180602T120000
DTSTAMP:20260421T143706
CREATED:20180321T230141Z
LAST-MODIFIED:20180321T230141Z
UID:10000311-1527926400-1527940800@halsports.net
SUMMARY:Heroes of Hope 10K\, 5K and 1 Mile - 2018
DESCRIPTION:https://results.sporthive.com/events/6403366144634192384
URL:https://halsports.net/event/heroes-of-hope-10k-5k-run-walk/
LOCATION:Lutheran Medical Center\, 8300 W 38th Avenue\, Wheat Ridge\, CO\, 80033\, United States
CATEGORIES:10K,5K,Feature Event,Kids Fun Run
ATTACH;FMTTYPE=image/jpeg:https://halsports.net/wp-content/uploads/2017/04/HeroesOfHope_Logo_RGB_Main_Horizontal_Tagline_Anniversary.jpg
END:VEVENT
BEGIN:VEVENT
DTSTART;TZID=UTC:20180526T103000
DTEND;TZID=UTC:20180526T123000
DTSTAMP:20260421T143707
CREATED:20180321T220341Z
LAST-MODIFIED:20180321T220341Z
UID:10000308-1527330600-1527337800@halsports.net
SUMMARY:80's Rock vs Pop 5K
DESCRIPTION:https://results.sporthive.com/events/6403272205089199104
URL:https://halsports.net/event/80s-rock-vs-pop-5k/
LOCATION:4990 Ronald Ragean Blvd\, Johnstown\, 80534
CATEGORIES:5K,Feature Event,Kids Fun Run
ATTACH;FMTTYPE=image/gif:https://halsports.net/wp-content/uploads/2018/03/80s_5K_logo.gif
END:VEVENT
BEGIN:VEVENT
DTSTART;TZID=UTC:20171216T090000
DTEND;TZID=UTC:20171216T120000
DTSTAMP:20260421T143707
CREATED:20171216T105042Z
LAST-MODIFIED:20171216T105042Z
UID:10000296-1513414800-1513425600@halsports.net
SUMMARY:Santa Stampede 2017
DESCRIPTION:https://results.sporthive.com/events/6347083557426534912
URL:https://halsports.net/event/santas-stampede-2017/
LOCATION:Hudson Gardens\, 6115 S Santa Fe Dr\, Littleton\, CO\, 80127\, United States
CATEGORIES:10K,5K,Feature Event,Kids Fun Run
ATTACH;FMTTYPE=image/png:https://halsports.net/wp-content/uploads/2017/08/Santa-Stampede-2016.png
END:VEVENT
BEGIN:VEVENT
DTSTART;TZID=UTC:20171210T090000
DTEND;TZID=UTC:20171210T110000
DTSTAMP:20260421T143707
CREATED:20171210T101740Z
LAST-MODIFIED:20171210T101740Z
UID:10000295-1512896400-1512903600@halsports.net
SUMMARY:Jingle Bell Run/Walk for Arthritis -  Denver
DESCRIPTION:https://results.sporthive.com/events/6345143520701129216
URL:https://halsports.net/event/jingle-bell-runwalk-arthritis-denver-2017/
LOCATION:Washington Park\, 1700 E. Louisiana Ave.\, Denver\, CO\, 80210\, United States
CATEGORIES:5K,Feature Event,Kids Fun Run
ATTACH;FMTTYPE=image/png:https://halsports.net/wp-content/uploads/2017/03/jingle-bell-run-arthritis-5K-logo.png
END:VEVENT
BEGIN:VEVENT
DTSTART;TZID=UTC:20171209T100000
DTEND;TZID=UTC:20171209T120000
DTSTAMP:20260421T143707
CREATED:20171209T104634Z
LAST-MODIFIED:20171209T104634Z
UID:10000294-1512813600-1512820800@halsports.net
SUMMARY:Winterfest 5K
DESCRIPTION:https://results.sporthive.com/events/6345141042504998656
URL:https://halsports.net/event/winterfest-5k-2017/
LOCATION:Mary Carpenter Recreation Center\, 11151 Colorado Blvd\, Thornton\, CO\, 80233\, United States
CATEGORIES:5K,Feature Event,Kids Fun Run
ATTACH;FMTTYPE=image/png:https://halsports.net/wp-content/uploads/2017/08/WinterFest-5K.png
END:VEVENT
BEGIN:VEVENT
DTSTART;TZID=UTC:20171203T100000
DTEND;TZID=UTC:20171203T120000
DTSTAMP:20260421T143707
CREATED:20171203T104322Z
LAST-MODIFIED:20171203T104322Z
UID:10000293-1512295200-1512302400@halsports.net
SUMMARY:Rudolph Ramble 5K 2017
DESCRIPTION:https://results.sporthive.com/events/6341516605523860736
URL:https://halsports.net/event/rudolph-ramble-2017/
LOCATION:City Park\, 2001 Colorado Blvd\, Denver\, CO\, 80205\, United States
CATEGORIES:5K,Feature Event,Kids Fun Run
ATTACH;FMTTYPE=image/jpeg:https://halsports.net/wp-content/uploads/2017/08/Rudolph-Ramble-266x300.jpg
END:VEVENT
BEGIN:VEVENT
DTSTART;TZID=UTC:20171203T090000
DTEND;TZID=UTC:20171203T110000
DTSTAMP:20260421T143707
CREATED:20171203T101517Z
LAST-MODIFIED:20171203T101517Z
UID:10000292-1512291600-1512298800@halsports.net
SUMMARY:Jingle Bell Run/Walk for Arthritis - Loveland
DESCRIPTION:https://results.sporthive.com/events/6341485286622337536
URL:https://halsports.net/event/jingle-bell-runwalk-arthritis-loveland-2017/
LOCATION:The Ranch Event Complex\, 5280 Arena Circle\, Unit 100\, Loveland\, Colorado\, 80538
CATEGORIES:5K,Feature Event,Kids Fun Run
ATTACH;FMTTYPE=image/png:https://halsports.net/wp-content/uploads/2017/03/jingle-bell-run-arthritis-5K-logo.png
END:VEVENT
BEGIN:VEVENT
DTSTART;TZID=UTC:20171112T090000
DTEND;TZID=UTC:20171112T120000
DTSTAMP:20260421T143707
CREATED:20171112T094825Z
LAST-MODIFIED:20171112T094825Z
UID:10000091-1510477200-1510488000@halsports.net
SUMMARY:The Great Candy Run - Denver 2017
DESCRIPTION:https://results.sporthive.com/events/6333895448025104384
URL:https://halsports.net/event/great-candy-run-denver/
LOCATION:Washington Park\, 1700 E. Louisiana Ave.\, Denver\, CO\, 80210\, United States
CATEGORIES:5K,Feature Event,Kids Fun Run
ATTACH;FMTTYPE=image/png:https://halsports.net/wp-content/uploads/2017/07/Great-Candy-Run-1.png
END:VEVENT
BEGIN:VEVENT
DTSTART;TZID=UTC:20170513T090000
DTEND;TZID=UTC:20170513T120000
DTSTAMP:20260421T143707
CREATED:20170316T013339Z
LAST-MODIFIED:20170316T013339Z
UID:10000242-1494666000-1494676800@halsports.net
SUMMARY:Sean May Memorial Run 2017
DESCRIPTION:tukkU
URL:https://halsports.net/event/sean-may-memorial-run/
LOCATION:Barr Lake State Park\, 13401 Picadilly Rd\, Brighton\, CO\, 80603\, United States
CATEGORIES:5K,9 Mile,Kids Fun Run
ATTACH;FMTTYPE=image/png:https://halsports.net/wp-content/uploads/2017/03/seanmay.png
END:VEVENT
END:VCALENDAR