BEGIN:VCALENDAR
VERSION:2.0
PRODID:-//Hal Sports - ECPv6.15.18//NONSGML v1.0//EN
CALSCALE:GREGORIAN
METHOD:PUBLISH
X-ORIGINAL-URL:https://halsports.net
X-WR-CALDESC:Events for Hal Sports
REFRESH-INTERVAL;VALUE=DURATION:PT1H
X-Robots-Tag:noindex
X-PUBLISHED-TTL:PT1H
BEGIN:VTIMEZONE
TZID:UTC
BEGIN:STANDARD
TZOFFSETFROM:+0000
TZOFFSETTO:+0000
TZNAME:UTC
DTSTART:20180101T000000
END:STANDARD
END:VTIMEZONE
BEGIN:VEVENT
DTSTART;TZID=UTC:20190616T060000
DTEND;TZID=UTC:20190616T060000
DTSTAMP:20260423T102205
CREATED:20190616T234408Z
LAST-MODIFIED:20190616T234408Z
UID:10000412-1560664800-1560664800@halsports.net
SUMMARY:Estes Park Marathon\, Half Marathon\, 10K & 5K 2019
DESCRIPTION:https://results.sporthive.com/events/6542839052895534848
URL:https://halsports.net/event/estes-park-marathon-half-marathon-10k-5k-2/
LOCATION:Estes Park High School\, 1600 Manford Ave\, Estes Park\, CO\, United States
CATEGORIES:10K,5K,Feature Event,Half Marathon,Kids Fun Run,Marathon
ATTACH;FMTTYPE=image/jpeg:https://halsports.net/wp-content/uploads/2017/04/Estes-Park-Marathon-Logo-2017.jpg
END:VEVENT
BEGIN:VEVENT
DTSTART;TZID=UTC:20190616T080000
DTEND;TZID=UTC:20190616T080100
DTSTAMP:20260423T102205
CREATED:20190315T050202Z
LAST-MODIFIED:20190315T050202Z
UID:10000179-1560672000-1560672060@halsports.net
SUMMARY:FIBArk 10K Trail Run 2019
DESCRIPTION:https://results.sporthive.com/events/6542857761810680320
URL:https://halsports.net/event/fibark-10k-trail-run-2-2/
LOCATION:Downtown Salida\, 1st & F Street\, Salida\, CO\, United States
CATEGORIES:10K,Feature Event,Trail Run
ATTACH;FMTTYPE=image/png:https://halsports.net/wp-content/uploads/2017/03/FIBArk-1.png
END:VEVENT
BEGIN:VEVENT
DTSTART;TZID=UTC:20190616T100000
DTEND;TZID=UTC:20190616T100100
DTSTAMP:20260423T102205
CREATED:20190315T045926Z
LAST-MODIFIED:20190315T045926Z
UID:10000177-1560679200-1560679260@halsports.net
SUMMARY:FIBArk Mountain Bike Races 2019
DESCRIPTION:https://results.sporthive.com/events/6542857761810680320
URL:https://halsports.net/event/fibark-mountain-bike-races-2/
LOCATION:Downtown Salida\, 1st & F Street\, Salida\, CO\, United States
CATEGORIES:Bike Race,Feature Event
ATTACH;FMTTYPE=image/png:https://halsports.net/wp-content/uploads/2017/03/FIBArk-1.png
END:VEVENT
END:VCALENDAR