BEGIN:VCALENDAR
VERSION:2.0
PRODID:-//Hal Sports - ECPv6.15.18//NONSGML v1.0//EN
CALSCALE:GREGORIAN
METHOD:PUBLISH
X-WR-CALNAME:Hal Sports
X-ORIGINAL-URL:https://halsports.net
X-WR-CALDESC:Events for Hal Sports
REFRESH-INTERVAL;VALUE=DURATION:PT1H
X-Robots-Tag:noindex
X-PUBLISHED-TTL:PT1H
BEGIN:VTIMEZONE
TZID:UTC
BEGIN:STANDARD
TZOFFSETFROM:+0000
TZOFFSETTO:+0000
TZNAME:UTC
DTSTART:20180101T000000
END:STANDARD
END:VTIMEZONE
BEGIN:VEVENT
DTSTART;TZID=UTC:20190504T070000
DTEND;TZID=UTC:20190504T170000
DTSTAMP:20260424T002724
CREATED:20190504T082958Z
LAST-MODIFIED:20190504T082958Z
UID:10000410-1556953200-1556989200@halsports.net
SUMMARY:Greenland Trail 50K\, 25K\, 8 Mile & 4 Mile 2019
DESCRIPTION:https://results.sporthive.com/events/6529913937189360896
URL:https://halsports.net/event/greenland-trail-50k-25k-8-mile-4-mile-2/
LOCATION:Greenland Open Space\, Larkspur\, CO\, 80118\, United States
CATEGORIES:25K,4 Mille,50K,8 Mile,Feature Event
ATTACH;FMTTYPE=image/png:https://halsports.net/wp-content/uploads/2018/03/Greenland-Trail.png
END:VEVENT
BEGIN:VEVENT
DTSTART;TZID=UTC:20190504T090000
DTEND;TZID=UTC:20190504T110000
DTSTAMP:20260424T002724
CREATED:20190414T065724Z
LAST-MODIFIED:20190414T065724Z
UID:10000399-1556960400-1556967600@halsports.net
SUMMARY:Duck Waddle 5K 2019
DESCRIPTION:https://results.sporthive.com/events/6529918893581623808
URL:https://halsports.net/event/may-4th-2109-estes-park-5k-for-the-duck-race-festival/
LOCATION:Bond Park\, 170 MacGregor Ave\, Estes Park\, CO\, 80517\, United States
CATEGORIES:5K,Feature Event
ATTACH;FMTTYPE=image/jpeg:https://halsports.net/wp-content/uploads/2019/04/Duck-Waddle.jpg
END:VEVENT
END:VCALENDAR