BEGIN:VCALENDAR
VERSION:2.0
PRODID:-//Hal Sports - ECPv6.15.18//NONSGML v1.0//EN
CALSCALE:GREGORIAN
METHOD:PUBLISH
X-WR-CALNAME:Hal Sports
X-ORIGINAL-URL:https://halsports.net
X-WR-CALDESC:Events for Hal Sports
REFRESH-INTERVAL;VALUE=DURATION:PT1H
X-Robots-Tag:noindex
X-PUBLISHED-TTL:PT1H
BEGIN:VTIMEZONE
TZID:UTC
BEGIN:STANDARD
TZOFFSETFROM:+0000
TZOFFSETTO:+0000
TZNAME:UTC
DTSTART:20220101T000000
END:STANDARD
END:VTIMEZONE
BEGIN:VTIMEZONE
TZID:America/Denver
BEGIN:DAYLIGHT
TZOFFSETFROM:-0700
TZOFFSETTO:-0600
TZNAME:MDT
DTSTART:20220313T090000
END:DAYLIGHT
BEGIN:STANDARD
TZOFFSETFROM:-0600
TZOFFSETTO:-0700
TZNAME:MST
DTSTART:20221106T080000
END:STANDARD
BEGIN:DAYLIGHT
TZOFFSETFROM:-0700
TZOFFSETTO:-0600
TZNAME:MDT
DTSTART:20230312T090000
END:DAYLIGHT
BEGIN:STANDARD
TZOFFSETFROM:-0600
TZOFFSETTO:-0700
TZNAME:MST
DTSTART:20231105T080000
END:STANDARD
BEGIN:DAYLIGHT
TZOFFSETFROM:-0700
TZOFFSETTO:-0600
TZNAME:MDT
DTSTART:20240310T090000
END:DAYLIGHT
BEGIN:STANDARD
TZOFFSETFROM:-0600
TZOFFSETTO:-0700
TZNAME:MST
DTSTART:20241103T080000
END:STANDARD
END:VTIMEZONE
BEGIN:VEVENT
DTSTART;TZID=UTC:20230305T080000
DTEND;TZID=UTC:20230305T120000
DTSTAMP:20260421T055934
CREATED:20221030T211105Z
LAST-MODIFIED:20230221T045213Z
UID:10000619-1678003200-1678017600@halsports.net
SUMMARY:That Dam Run 2023
DESCRIPTION:
URL:https://halsports.net/event/that-dam-run-13-1-10k-5k-2023/
LOCATION:Cherry Creek Dam Road\, Cherry Creek Dam Road\, Greenwood Village \, CO
CATEGORIES:10K,5K,Feature Event,Half Marathon,Kids Fun Run
ATTACH;FMTTYPE=image/jpeg:https://halsports.net/wp-content/uploads/2018/12/DamRun_logo2019.jpg
END:VEVENT
BEGIN:VEVENT
DTSTART;TZID=UTC:20230305T080000
DTEND;TZID=UTC:20230305T120000
DTSTAMP:20260421T055934
CREATED:20230111T063807Z
LAST-MODIFIED:20230221T045236Z
UID:10000622-1678003200-1678017600@halsports.net
SUMMARY:Portland Fight for Air Stair Climb 2023
DESCRIPTION:
URL:https://halsports.net/event/portland-fight-for-air-stair-climb-2023/
LOCATION:US Bancorp Tower\, 111 Southwest Fifth Avenue\, Portland\,  OR\, 97204
CATEGORIES:Feature Event,Stair Climb
ATTACH;FMTTYPE=image/png:https://halsports.net/wp-content/uploads/2022/01/ALA-FFA-Climb-2020-Logos-digital_Cimb-Horiz-3-color-Lockup.png
END:VEVENT
BEGIN:VEVENT
DTSTART;TZID=UTC:20230312T090000
DTEND;TZID=UTC:20230312T120000
DTSTAMP:20260421T055934
CREATED:20230111T064258Z
LAST-MODIFIED:20230309T000710Z
UID:10000623-1678611600-1678622400@halsports.net
SUMMARY:Runnin' of the Green Lucky 7K
DESCRIPTION:
URL:https://halsports.net/event/runnin-of-the-green-7k-2023/
LOCATION:Washington Park\, 1700 E. Louisiana Ave.\, Denver\, CO\, 80210\, United States
CATEGORIES:2 Mile,7K,Feature Event
ATTACH;FMTTYPE=image/jpeg:https://halsports.net/wp-content/uploads/2019/10/ROTG_logofinal.jpg
END:VEVENT
BEGIN:VEVENT
DTSTART;TZID=America/Denver:20230325T080000
DTEND;TZID=America/Denver:20230325T120000
DTSTAMP:20260421T055934
CREATED:20230111T064846Z
LAST-MODIFIED:20230314T004520Z
UID:10000624-1679731200-1679745600@halsports.net
SUMMARY:Fight for Air Climb Oklahoma City 2023
DESCRIPTION:
URL:https://halsports.net/event/fight-for-air-climb-oklahoma-city-2023/
LOCATION:Chickasaw Bricktown Ballpark\, 2 S Mickey Mantle Dr\,\, Oklahoma City\, OK\, 73104\, United States
CATEGORIES:Feature Event,Stair Climb
ATTACH;FMTTYPE=image/png:https://halsports.net/wp-content/uploads/2023/02/FFAC_blue-logo-event-only.png
END:VEVENT
END:VCALENDAR