BEGIN:VCALENDAR
VERSION:2.0
PRODID:-//Hal Sports - ECPv6.15.18//NONSGML v1.0//EN
CALSCALE:GREGORIAN
METHOD:PUBLISH
X-ORIGINAL-URL:https://halsports.net
X-WR-CALDESC:Events for Hal Sports
REFRESH-INTERVAL;VALUE=DURATION:PT1H
X-Robots-Tag:noindex
X-PUBLISHED-TTL:PT1H
BEGIN:VTIMEZONE
TZID:America/Denver
BEGIN:DAYLIGHT
TZOFFSETFROM:-0700
TZOFFSETTO:-0600
TZNAME:MDT
DTSTART:20200308T090000
END:DAYLIGHT
BEGIN:STANDARD
TZOFFSETFROM:-0600
TZOFFSETTO:-0700
TZNAME:MST
DTSTART:20201101T080000
END:STANDARD
BEGIN:DAYLIGHT
TZOFFSETFROM:-0700
TZOFFSETTO:-0600
TZNAME:MDT
DTSTART:20210314T090000
END:DAYLIGHT
BEGIN:STANDARD
TZOFFSETFROM:-0600
TZOFFSETTO:-0700
TZNAME:MST
DTSTART:20211107T080000
END:STANDARD
BEGIN:DAYLIGHT
TZOFFSETFROM:-0700
TZOFFSETTO:-0600
TZNAME:MDT
DTSTART:20220313T090000
END:DAYLIGHT
BEGIN:STANDARD
TZOFFSETFROM:-0600
TZOFFSETTO:-0700
TZNAME:MST
DTSTART:20221106T080000
END:STANDARD
END:VTIMEZONE
BEGIN:VTIMEZONE
TZID:UTC
BEGIN:STANDARD
TZOFFSETFROM:+0000
TZOFFSETTO:+0000
TZNAME:UTC
DTSTART:20200101T000000
END:STANDARD
END:VTIMEZONE
BEGIN:VEVENT
DTSTART;TZID=America/Denver:20210306T070000
DTEND;TZID=America/Denver:20210306T120000
DTSTAMP:20260425T043149
CREATED:20210225T150609Z
LAST-MODIFIED:20210225T150609Z
UID:10000497-1615014000-1615032000@halsports.net
SUMMARY:Fight For Air Climb Las Vegas
DESCRIPTION:https://results.sporthive.com/events/eventid
URL:https://halsports.net/event/fight-for-air-climb-lasvegas-2021/
LOCATION:Las Vegas Ballpark\, 1650 S Pavilion Center Dr\, Las Vegas\, NV\, 89135
CATEGORIES:Feature Event,Stair Climb
ATTACH;FMTTYPE=image/png:https://halsports.net/wp-content/uploads/2019/10/fight-for-air.png
END:VEVENT
BEGIN:VEVENT
DTSTART;TZID=UTC:20210307T080000
DTEND;TZID=UTC:20210307T120000
DTSTAMP:20260425T043149
CREATED:20201220T144107Z
LAST-MODIFIED:20201220T144107Z
UID:10000478-1615104000-1615118400@halsports.net
SUMMARY:That Dam Run 2021
DESCRIPTION:https://results.sporthive.com/events/6760960886897272064
URL:https://halsports.net/event/that-dam-run-13-1-10k-5k-2021/
LOCATION:Cherry Creek Dam Road\, Cherry Creek Dam Road\, Greenwood Village \, CO
CATEGORIES:10K,5K,Feature Event,Half Marathon
ATTACH;FMTTYPE=image/jpeg:https://halsports.net/wp-content/uploads/2018/12/DamRun_logo2019.jpg
END:VEVENT
BEGIN:VEVENT
DTSTART;TZID=America/Denver:20210314T080000
DTEND;TZID=America/Denver:20210314T120000
DTSTAMP:20260425T043149
CREATED:20210125T232130Z
LAST-MODIFIED:20210125T232130Z
UID:10000480-1615708800-1615723200@halsports.net
SUMMARY:Runnin' of the Green
DESCRIPTION:https://results.sporthive.com/events/6760963554071964672
URL:https://halsports.net/event/runnin-of-the-green/
LOCATION:Washington Park\, 1700 E. Louisiana Ave.\, Denver\, CO\, 80210\, United States
CATEGORIES:4 Mille,Feature Event
ATTACH;FMTTYPE=image/jpeg:https://halsports.net/wp-content/uploads/2021/01/ROTG_logofinal-1.jpg
END:VEVENT
BEGIN:VEVENT
DTSTART;TZID=America/Denver:20210327T080000
DTEND;TZID=America/Denver:20210327T120000
DTSTAMP:20260425T043149
CREATED:20210210T073912Z
LAST-MODIFIED:20210210T073912Z
UID:10000485-1616832000-1616846400@halsports.net
SUMMARY:Fight For Air Climb Phoenix 2021
DESCRIPTION:https://results.sporthive.com/events/6775637606131933952
URL:https://halsports.net/event/fight-for-air-climb-phoenix-2021/
LOCATION:Chase Field\, 401 E Jefferson St\, Phoenix\, AZ\, 85004
CATEGORIES:Feature Event,Stair Climb
ATTACH;FMTTYPE=image/png:https://halsports.net/wp-content/uploads/2019/10/fight-for-air.png
END:VEVENT
END:VCALENDAR