BEGIN:VCALENDAR
VERSION:2.0
PRODID:-//Hal Sports - ECPv6.15.18//NONSGML v1.0//EN
CALSCALE:GREGORIAN
METHOD:PUBLISH
X-ORIGINAL-URL:https://halsports.net
X-WR-CALDESC:Events for Hal Sports
REFRESH-INTERVAL;VALUE=DURATION:PT1H
X-Robots-Tag:noindex
X-PUBLISHED-TTL:PT1H
BEGIN:VTIMEZONE
TZID:UTC
BEGIN:STANDARD
TZOFFSETFROM:+0000
TZOFFSETTO:+0000
TZNAME:UTC
DTSTART:20190101T000000
END:STANDARD
END:VTIMEZONE
BEGIN:VEVENT
DTSTART;TZID=UTC:20200912T080000
DTEND;TZID=UTC:20200912T120000
DTSTAMP:20260423T044804
CREATED:20200322T155246Z
LAST-MODIFIED:20200322T155246Z
UID:10000446-1599897600-1599912000@halsports.net
SUMMARY:Ned * Ned Half Marathon\, 10K & 5K 2020 - Virtual
DESCRIPTION:https://results.sporthive.com/events/eventid/p>\nVirtual Event
URL:https://halsports.net/event/ned-ned-half-marathon-2020/
CATEGORIES:10K,5K,Feature Event,Half Marathon
ATTACH;FMTTYPE=image/jpeg:https://halsports.net/wp-content/uploads/2019/04/2019_NEDNED-LOGOMASTER_PLAIN.jpg
ORGANIZER;CN="Peak to Peak Endurance Foundation":MAILTO:gavin@peaktopeakendurance.com
END:VEVENT
END:VCALENDAR