BEGIN:VCALENDAR
VERSION:2.0
PRODID:-//Hal Sports - ECPv6.15.18//NONSGML v1.0//EN
CALSCALE:GREGORIAN
METHOD:PUBLISH
X-WR-CALNAME:Hal Sports
X-ORIGINAL-URL:https://halsports.net
X-WR-CALDESC:Events for Hal Sports
REFRESH-INTERVAL;VALUE=DURATION:PT1H
X-Robots-Tag:noindex
X-PUBLISHED-TTL:PT1H
BEGIN:VTIMEZONE
TZID:UTC
BEGIN:STANDARD
TZOFFSETFROM:+0000
TZOFFSETTO:+0000
TZNAME:UTC
DTSTART:20160101T000000
END:STANDARD
END:VTIMEZONE
BEGIN:VEVENT
DTSTART;TZID=UTC:20170604T083000
DTEND;TZID=UTC:20170604T113000
DTSTAMP:20260423T105638
CREATED:20170408T110102Z
LAST-MODIFIED:20170408T110102Z
UID:10000043-1496565000-1496575800@halsports.net
SUMMARY:Heroes of Hope 10K\, 5K & 1 Mile 2017
DESCRIPTION:xoaEuO
URL:https://halsports.net/event/heroes-of-hope-10k-5k-1-mile/
LOCATION:Lutheran Medical Center\, 8300 W 38th Avenue\, Wheat Ridge\, CO\, 80033\, United States
CATEGORIES:1 Mile,10K,5K
ATTACH;FMTTYPE=image/jpeg:https://halsports.net/wp-content/uploads/2017/04/HeroesOfHope_Logo_RGB_Main_Horizontal_Tagline_Anniversary.jpg
END:VEVENT
END:VCALENDAR