BEGIN:VCALENDAR
VERSION:2.0
PRODID:-//Hal Sports - ECPv6.15.18//NONSGML v1.0//EN
CALSCALE:GREGORIAN
METHOD:PUBLISH
X-WR-CALNAME:Hal Sports
X-ORIGINAL-URL:https://halsports.net
X-WR-CALDESC:Events for Hal Sports
REFRESH-INTERVAL;VALUE=DURATION:PT1H
X-Robots-Tag:noindex
X-PUBLISHED-TTL:PT1H
BEGIN:VTIMEZONE
TZID:UTC
BEGIN:STANDARD
TZOFFSETFROM:+0000
TZOFFSETTO:+0000
TZNAME:UTC
DTSTART:20160101T000000
END:STANDARD
END:VTIMEZONE
BEGIN:VEVENT
DTSTART;TZID=UTC:20171022T070000
DTEND;TZID=UTC:20171022T090000
DTSTAMP:20260422T214433
CREATED:20170921T082509Z
LAST-MODIFIED:20170921T082509Z
UID:10000286-1508655600-1508662800@halsports.net
SUMMARY:MBA Opens Doors Foundation 5K Challenge 2017
DESCRIPTION:https://results.sporthive.com/events/6327214467502204672
URL:https://halsports.net/event/computershare-mortgage-solutions-5k-convention-run/
LOCATION:Cherry Creek Dam Road\, Cherry Creek Dam Road\, Greenwood Village \, CO
CATEGORIES:5K,Feature Event
ATTACH;FMTTYPE=image/png:https://halsports.net/wp-content/uploads/2017/09/MBA-5K-Challenge.png
END:VEVENT
BEGIN:VEVENT
DTSTART;TZID=UTC:20171022T070000
DTEND;TZID=UTC:20171022T110000
DTSTAMP:20260422T214433
CREATED:20170814T075741Z
LAST-MODIFIED:20170814T075741Z
UID:10000077-1508655600-1508670000@halsports.net
SUMMARY:Nun Run Half Marathon\, 5K and 1 Mile 2017
DESCRIPTION:https://results.sporthive.com/events/6327233713240153088
URL:https://halsports.net/event/nun-run-half-marathon-5k-1-mile-2017/
LOCATION:DeKoevend Park
CATEGORIES:1 Mile,5K,Feature Event,Half Marathon
ATTACH;FMTTYPE=image/jpeg:https://halsports.net/wp-content/uploads/2017/08/Nun-Run-e1536505612334.jpg
END:VEVENT
END:VCALENDAR