BEGIN:VCALENDAR
VERSION:2.0
PRODID:-//Hal Sports - ECPv6.15.18//NONSGML v1.0//EN
CALSCALE:GREGORIAN
METHOD:PUBLISH
X-ORIGINAL-URL:https://halsports.net
X-WR-CALDESC:Events for Hal Sports
REFRESH-INTERVAL;VALUE=DURATION:PT1H
X-Robots-Tag:noindex
X-PUBLISHED-TTL:PT1H
BEGIN:VTIMEZONE
TZID:UTC
BEGIN:STANDARD
TZOFFSETFROM:+0000
TZOFFSETTO:+0000
TZNAME:UTC
DTSTART:20160101T000000
END:STANDARD
END:VTIMEZONE
BEGIN:VEVENT
DTSTART;TZID=UTC:20171014T094500
DTEND;TZID=UTC:20171014T120000
DTSTAMP:20260422T164620
CREATED:20171014T093736Z
LAST-MODIFIED:20171014T093736Z
UID:10000290-1507974300-1507982400@halsports.net
SUMMARY:The Great Candy Run - Minneapolis 2017
DESCRIPTION:EN60Le
URL:https://halsports.net/event/great-candy-run-minneapolis/
LOCATION:Lake Phalen\, Minneapolis\, MN\, United States
CATEGORIES:5K,Feature Event
ATTACH;FMTTYPE=image/png:https://halsports.net/wp-content/uploads/2017/07/Great-Candy-Run-1.png
END:VEVENT
BEGIN:VEVENT
DTSTART;TZID=UTC:20171014T110000
DTEND;TZID=UTC:20171014T130000
DTSTAMP:20260422T164621
CREATED:20170722T092246Z
LAST-MODIFIED:20170722T092246Z
UID:10000074-1507978800-1507986000@halsports.net
SUMMARY:Run for the Soul 5K 2017
DESCRIPTION:https://results.sporthive.com/events/6323794745801834496
URL:https://halsports.net/event/run-soul-5k/
LOCATION:Clement Park
CATEGORIES:5K,Feature Event
ATTACH;FMTTYPE=image/jpeg:https://halsports.net/wp-content/uploads/2017/07/LogoRunForTheSoul2-1.jpg
END:VEVENT
END:VCALENDAR