BEGIN:VCALENDAR
VERSION:2.0
PRODID:-//Hal Sports - ECPv6.15.18//NONSGML v1.0//EN
CALSCALE:GREGORIAN
METHOD:PUBLISH
X-ORIGINAL-URL:https://halsports.net
X-WR-CALDESC:Events for Hal Sports
REFRESH-INTERVAL;VALUE=DURATION:PT1H
X-Robots-Tag:noindex
X-PUBLISHED-TTL:PT1H
BEGIN:VTIMEZONE
TZID:UTC
BEGIN:STANDARD
TZOFFSETFROM:+0000
TZOFFSETTO:+0000
TZNAME:UTC
DTSTART:20160101T000000
END:STANDARD
END:VTIMEZONE
BEGIN:VEVENT
DTSTART;TZID=UTC:20170924T090000
DTEND;TZID=UTC:20170924T110000
DTSTAMP:20260421T221624
CREATED:20170721T091542Z
LAST-MODIFIED:20170721T091542Z
UID:10000277-1506243600-1506250800@halsports.net
SUMMARY:Hawk Hustle (Ryan Elementary) 5K 2017
DESCRIPTION:https://results.sporthive.com/events/6316088384785424128
URL:https://halsports.net/event/hawk-hustle-ryan-elementary-5k/
LOCATION:Ryan Elementary\, 5851 West 115th Avenue\, Westminster\, CO\, 80020\, United States
CATEGORIES:5K,Feature Event
ATTACH;FMTTYPE=image/png:https://halsports.net/wp-content/uploads/2017/07/Hawk-Hustle.png
END:VEVENT
END:VCALENDAR