BEGIN:VCALENDAR
VERSION:2.0
PRODID:-//Hal Sports - ECPv6.15.18//NONSGML v1.0//EN
CALSCALE:GREGORIAN
METHOD:PUBLISH
X-ORIGINAL-URL:https://halsports.net
X-WR-CALDESC:Events for Hal Sports
REFRESH-INTERVAL;VALUE=DURATION:PT1H
X-Robots-Tag:noindex
X-PUBLISHED-TTL:PT1H
BEGIN:VTIMEZONE
TZID:UTC
BEGIN:STANDARD
TZOFFSETFROM:+0000
TZOFFSETTO:+0000
TZNAME:UTC
DTSTART:20160101T000000
END:STANDARD
END:VTIMEZONE
BEGIN:VEVENT
DTSTART;TZID=UTC:20170916T090000
DTEND;TZID=UTC:20170916T110000
DTSTAMP:20260421T221622
CREATED:20170716T222438Z
LAST-MODIFIED:20170716T222438Z
UID:10000275-1505552400-1505559600@halsports.net
SUMMARY:Race to Cure Sarcoma - Denver 2017
DESCRIPTION:https://results.sporthive.com/events/6314611620399098368
URL:https://halsports.net/event/race-cure-sarcoma-denver-2017/
LOCATION:Cherry Creek Dam Road\, Cherry Creek Dam Road\, Greenwood Village \, CO
CATEGORIES:5K,Feature Event
ATTACH;FMTTYPE=image/png:https://halsports.net/wp-content/uploads/2017/07/sarcoma.png
END:VEVENT
END:VCALENDAR