BEGIN:VCALENDAR
VERSION:2.0
PRODID:-//Hal Sports - ECPv6.15.18//NONSGML v1.0//EN
CALSCALE:GREGORIAN
METHOD:PUBLISH
X-WR-CALNAME:Hal Sports
X-ORIGINAL-URL:https://halsports.net
X-WR-CALDESC:Events for Hal Sports
REFRESH-INTERVAL;VALUE=DURATION:PT1H
X-Robots-Tag:noindex
X-PUBLISHED-TTL:PT1H
BEGIN:VTIMEZONE
TZID:UTC
BEGIN:STANDARD
TZOFFSETFROM:+0000
TZOFFSETTO:+0000
TZNAME:UTC
DTSTART:20160101T000000
END:STANDARD
END:VTIMEZONE
BEGIN:VEVENT
DTSTART;TZID=UTC:20170909T080000
DTEND;TZID=UTC:20170909T120000
DTSTAMP:20260423T170602
CREATED:20170525T213344Z
LAST-MODIFIED:20170525T213344Z
UID:10000265-1504944000-1504958400@halsports.net
SUMMARY:Ned*Ned Half Marathon\,10K & 5K 2017
DESCRIPTION:https://results.sporthive.com/events/6312126999002423040
URL:https://halsports.net/event/nedned-2017/
LOCATION:Nederland\, CO
CATEGORIES:10K,5K,Feature Event,Half Marathon
ATTACH;FMTTYPE=image/png:https://halsports.net/wp-content/uploads/2017/05/2017_nedned-.png
ORGANIZER;CN="Peak to Peak Endurance Foundation":MAILTO:gavin@peaktopeakendurance.com
END:VEVENT
BEGIN:VEVENT
DTSTART;TZID=UTC:20170909T090000
DTEND;TZID=UTC:20170909T110000
DTSTAMP:20260423T170602
CREATED:20170716T092308Z
LAST-MODIFIED:20170716T092308Z
UID:10000273-1504947600-1504954800@halsports.net
SUMMARY:Team Hope 5K - 2017
DESCRIPTION:aIVPH
URL:https://halsports.net/event/team-hope-5k-2017/
LOCATION:Central Park\, Central Park Blvd & MLK Jr. Pkwy\, Denver\, Colorado\, 80238
CATEGORIES:5K,Feature Event
ATTACH;FMTTYPE=image/jpeg:https://halsports.net/wp-content/uploads/2018/06/Team-Hope-Walk-Logo.jpg
END:VEVENT
END:VCALENDAR