BEGIN:VCALENDAR
VERSION:2.0
PRODID:-//Hal Sports - ECPv6.15.18//NONSGML v1.0//EN
CALSCALE:GREGORIAN
METHOD:PUBLISH
X-ORIGINAL-URL:https://halsports.net
X-WR-CALDESC:Events for Hal Sports
REFRESH-INTERVAL;VALUE=DURATION:PT1H
X-Robots-Tag:noindex
X-PUBLISHED-TTL:PT1H
BEGIN:VTIMEZONE
TZID:UTC
BEGIN:STANDARD
TZOFFSETFROM:+0000
TZOFFSETTO:+0000
TZNAME:UTC
DTSTART:20160101T000000
END:STANDARD
END:VTIMEZONE
BEGIN:VEVENT
DTSTART;TZID=UTC:20170904T070000
DTEND;TZID=UTC:20170904T120000
DTSTAMP:20260421T203801
CREATED:20170716T080914Z
LAST-MODIFIED:20170716T080914Z
UID:10000272-1504508400-1504526400@halsports.net
SUMMARY:Labor Day Half Marathon\, 10K & 5K 2017
DESCRIPTION:TXJ3pP
URL:https://halsports.net/event/labor-day-mini-marathon-2017/
LOCATION:Salisbury Equestrian Park\, 11920 N Motsenbocker Road\, Parker\, CO\, 80134\, United States
CATEGORIES:10K,5K,Feature Event,Half Marathon
ATTACH;FMTTYPE=image/png:https://halsports.net/wp-content/uploads/2017/07/Labor-Day-Mini.png
END:VEVENT
BEGIN:VEVENT
DTSTART;TZID=UTC:20170904T080000
DTEND;TZID=UTC:20170904T110000
DTSTAMP:20260421T203801
CREATED:20170814T081216Z
LAST-MODIFIED:20170814T081216Z
UID:10000078-1504512000-1504522800@halsports.net
SUMMARY:FortiTude 10K 2017
DESCRIPTION:vGBPxA
URL:https://halsports.net/event/fortitude-10k-2017/
LOCATION:Colorado
CATEGORIES:10K,Feature Event
ATTACH;FMTTYPE=image/png:https://halsports.net/wp-content/uploads/2017/08/FORTitude-e1502676577258.png
END:VEVENT
END:VCALENDAR