BEGIN:VCALENDAR
VERSION:2.0
PRODID:-//Hal Sports - ECPv6.15.18//NONSGML v1.0//EN
CALSCALE:GREGORIAN
METHOD:PUBLISH
X-ORIGINAL-URL:https://halsports.net
X-WR-CALDESC:Events for Hal Sports
REFRESH-INTERVAL;VALUE=DURATION:PT1H
X-Robots-Tag:noindex
X-PUBLISHED-TTL:PT1H
BEGIN:VTIMEZONE
TZID:UTC
BEGIN:STANDARD
TZOFFSETFROM:+0000
TZOFFSETTO:+0000
TZNAME:UTC
DTSTART:20160101T000000
END:STANDARD
END:VTIMEZONE
BEGIN:VEVENT
DTSTART;TZID=UTC:20170625T080000
DTEND;TZID=UTC:20170625T110000
DTSTAMP:20260422T164623
CREATED:20170501T035936Z
LAST-MODIFIED:20170501T035936Z
UID:10000255-1498377600-1498388400@halsports.net
SUMMARY:Miles for Melanoma 2017
DESCRIPTION:zyeFjF
URL:https://halsports.net/event/miles-for-melanoma-2017/
LOCATION:Central Park\, Central Park Blvd & MLK Jr. Pkwy\, Denver\, Colorado\, 80238
CATEGORIES:5K,Feature Event
ATTACH;FMTTYPE=image/png:https://halsports.net/wp-content/uploads/2017/04/Mile-Melanoma-2017.png
END:VEVENT
END:VCALENDAR