BEGIN:VCALENDAR
VERSION:2.0
PRODID:-//Hal Sports - ECPv6.15.18//NONSGML v1.0//EN
CALSCALE:GREGORIAN
METHOD:PUBLISH
X-ORIGINAL-URL:https://halsports.net
X-WR-CALDESC:Events for Hal Sports
REFRESH-INTERVAL;VALUE=DURATION:PT1H
X-Robots-Tag:noindex
X-PUBLISHED-TTL:PT1H
BEGIN:VTIMEZONE
TZID:UTC
BEGIN:STANDARD
TZOFFSETFROM:+0000
TZOFFSETTO:+0000
TZNAME:UTC
DTSTART:20160101T000000
END:STANDARD
END:VTIMEZONE
BEGIN:VEVENT
DTSTART;TZID=UTC:20170615T180000
DTEND;TZID=UTC:20170615T200000
DTSTAMP:20260422T164616
CREATED:20170316T095528Z
LAST-MODIFIED:20170316T095528Z
UID:10000251-1497549600-1497556800@halsports.net
SUMMARY:FIBArk Tenderfoot Hill Climb 2017
DESCRIPTION:CDF3Tg
URL:https://halsports.net/event/fibark-tenderfoot-hill-climb/
LOCATION:Downtown Salida\, 1st & F Street\, Salida\, CO\, United States
CATEGORIES:Bike Race
ATTACH;FMTTYPE=image/png:https://halsports.net/wp-content/uploads/2017/03/FIBArk-1.png
END:VEVENT
END:VCALENDAR