BEGIN:VCALENDAR
VERSION:2.0
PRODID:-//Hal Sports - ECPv6.15.18//NONSGML v1.0//EN
CALSCALE:GREGORIAN
METHOD:PUBLISH
X-WR-CALNAME:Hal Sports
X-ORIGINAL-URL:https://halsports.net
X-WR-CALDESC:Events for Hal Sports
REFRESH-INTERVAL;VALUE=DURATION:PT1H
X-Robots-Tag:noindex
X-PUBLISHED-TTL:PT1H
BEGIN:VTIMEZONE
TZID:UTC
BEGIN:STANDARD
TZOFFSETFROM:+0000
TZOFFSETTO:+0000
TZNAME:UTC
DTSTART:20160101T000000
END:STANDARD
END:VTIMEZONE
BEGIN:VEVENT
DTSTART;TZID=UTC:20170610T080000
DTEND;TZID=UTC:20170610T170000
DTSTAMP:20260422T214445
CREATED:20170316T091846Z
LAST-MODIFIED:20170316T091846Z
UID:10000249-1497081600-1497114000@halsports.net
SUMMARY:The Heart Run - 2017
DESCRIPTION:szrUHB
URL:https://halsports.net/event/the-heart-run/
LOCATION:Empower Field at Mile High\, 1701 Bryant St\, Denver\, CO 80204\, Denver\, CO\, 80204\, United States
CATEGORIES:5K
ATTACH;FMTTYPE=image/png:https://halsports.net/wp-content/uploads/2017/03/Amer-Heart-Assoc.png
END:VEVENT
BEGIN:VEVENT
DTSTART;TZID=UTC:20170610T083000
DTEND;TZID=UTC:20170610T120000
DTSTAMP:20260422T214445
CREATED:20170316T091405Z
LAST-MODIFIED:20170316T091405Z
UID:10000248-1497083400-1497096000@halsports.net
SUMMARY:Jodi's Race for Awareness 2017
DESCRIPTION:QVqhkg
URL:https://halsports.net/event/jodis-race-for-awareness/
LOCATION:City Park\, 2001 Colorado Blvd\, Denver\, CO\, 80205\, United States
CATEGORIES:1 Mile,5K
ATTACH;FMTTYPE=image/jpeg:https://halsports.net/wp-content/uploads/2017/03/JRA-COCA_Logo-2017.jpg
END:VEVENT
END:VCALENDAR