BEGIN:VCALENDAR
VERSION:2.0
PRODID:-//Hal Sports - ECPv6.15.18//NONSGML v1.0//EN
CALSCALE:GREGORIAN
METHOD:PUBLISH
X-ORIGINAL-URL:https://halsports.net
X-WR-CALDESC:Events for Hal Sports
REFRESH-INTERVAL;VALUE=DURATION:PT1H
X-Robots-Tag:noindex
X-PUBLISHED-TTL:PT1H
BEGIN:VTIMEZONE
TZID:UTC
BEGIN:STANDARD
TZOFFSETFROM:+0000
TZOFFSETTO:+0000
TZNAME:UTC
DTSTART:20160101T000000
END:STANDARD
END:VTIMEZONE
BEGIN:VEVENT
DTSTART;TZID=UTC:20170602T060000
DTEND;TZID=UTC:20170602T100000
DTSTAMP:20260423T011645
CREATED:20170408T105431Z
LAST-MODIFIED:20170408T105431Z
UID:10000053-1496383200-1496397600@halsports.net
SUMMARY:2017 ACSM Annual Meeting Gisolfi 5K Fun Run and Walk Presented by Gatorade
DESCRIPTION:tsnZka
URL:https://halsports.net/event/gisolfi-5k-convention-run/
LOCATION:City Park\, 2001 Colorado Blvd\, Denver\, CO\, 80205\, United States
CATEGORIES:5K
ATTACH;FMTTYPE=image/png:https://halsports.net/wp-content/uploads/2017/04/hals-face-2.png
END:VEVENT
END:VCALENDAR