BEGIN:VCALENDAR
VERSION:2.0
PRODID:-//Hal Sports - ECPv6.15.18//NONSGML v1.0//EN
CALSCALE:GREGORIAN
METHOD:PUBLISH
X-ORIGINAL-URL:https://halsports.net
X-WR-CALDESC:Events for Hal Sports
REFRESH-INTERVAL;VALUE=DURATION:PT1H
X-Robots-Tag:noindex
X-PUBLISHED-TTL:PT1H
BEGIN:VTIMEZONE
TZID:UTC
BEGIN:STANDARD
TZOFFSETFROM:+0000
TZOFFSETTO:+0000
TZNAME:UTC
DTSTART:20160101T000000
END:STANDARD
END:VTIMEZONE
BEGIN:VEVENT
DTSTART;TZID=UTC:20170506T070000
DTEND;TZID=UTC:20170506T150000
DTSTAMP:20260423T030326
CREATED:20170507T011959Z
LAST-MODIFIED:20170507T011959Z
UID:10000256-1494054000-1494082800@halsports.net
SUMMARY:Greenland Trail 50K\, 25K & 8 Mile 2017
DESCRIPTION:cay925
URL:https://halsports.net/event/greenland-trail-50k-25k-8-mile/
LOCATION:Greenland Open Space\, Larkspur\, CO\, 80118\, United States
CATEGORIES:25K,4 Mille,50K,8 Mile
ATTACH;FMTTYPE=image/png:https://halsports.net/wp-content/uploads/2017/03/LogoV2b.png
END:VEVENT
BEGIN:VEVENT
DTSTART;TZID=UTC:20170506T090000
DTEND;TZID=UTC:20170506T120000
DTSTAMP:20260423T030326
CREATED:20170316T010956Z
LAST-MODIFIED:20170316T010956Z
UID:10000032-1494061200-1494072000@halsports.net
SUMMARY:Denver Broncos 7K 2017 - Woodland Park
DESCRIPTION:ktcUEY
URL:https://halsports.net/event/denver-broncos-7k-woodland-park/
LOCATION:Woodland Park High School\, 151 Panther Way\, Woodland Park\, CO\, 80863\, United States
CATEGORIES:7K
ATTACH;FMTTYPE=image/jpeg:https://halsports.net/wp-content/uploads/2017/03/e4c8872c-0598-4865-9eaf-17f27796d8aa_fit_eventheaders_7K_WoodlandParkLOGO.jpg.jpeg
END:VEVENT
BEGIN:VEVENT
DTSTART;TZID=UTC:20170506T093000
DTEND;TZID=UTC:20170506T120000
DTSTAMP:20260423T030326
CREATED:20170316T012252Z
LAST-MODIFIED:20170316T012252Z
UID:10000041-1494063000-1494072000@halsports.net
SUMMARY:Emerge 5K - 2017
DESCRIPTION:w8veoI
URL:https://halsports.net/event/emerge-5k-2017/
LOCATION:Boulder Reservoir\, 5565 N 51st St\,\, Boulder\, CO\, 80301\, United States
CATEGORIES:5K
ATTACH;FMTTYPE=image/jpeg:https://halsports.net/wp-content/uploads/2017/03/3a96c848-9fbe-4da1-b28c-5382baa24819_Emerge_banner_1490x580__large.jpg
END:VEVENT
END:VCALENDAR