BEGIN:VCALENDAR
VERSION:2.0
PRODID:-//Hal Sports - ECPv6.15.18//NONSGML v1.0//EN
CALSCALE:GREGORIAN
METHOD:PUBLISH
X-ORIGINAL-URL:https://halsports.net
X-WR-CALDESC:Events for Hal Sports
REFRESH-INTERVAL;VALUE=DURATION:PT1H
X-Robots-Tag:noindex
X-PUBLISHED-TTL:PT1H
BEGIN:VTIMEZONE
TZID:UTC
BEGIN:STANDARD
TZOFFSETFROM:+0000
TZOFFSETTO:+0000
TZNAME:UTC
DTSTART:20160101T000000
END:STANDARD
END:VTIMEZONE
BEGIN:VEVENT
DTSTART;TZID=UTC:20170305T080000
DTEND;TZID=UTC:20170305T170000
DTSTAMP:20260422T103948
CREATED:20170227T225514Z
LAST-MODIFIED:20170227T225514Z
UID:10000234-1488700800-1488733200@halsports.net
SUMMARY:That Dam Run 13.1 & 5K 2017
DESCRIPTION:QUuHQq
URL:https://halsports.net/event/the-dam-run-13-1-5k/
LOCATION:Cherry Creek Dam Road\, Cherry Creek Dam Road\, Greenwood Village \, CO
CATEGORIES:Default Race
ATTACH;FMTTYPE=image/jpeg:https://halsports.net/wp-content/uploads/2017/02/That-Dam-Run.jpg
END:VEVENT
END:VCALENDAR