BEGIN:VCALENDAR
VERSION:2.0
PRODID:-//Hal Sports - ECPv6.15.18//NONSGML v1.0//EN
CALSCALE:GREGORIAN
METHOD:PUBLISH
X-ORIGINAL-URL:https://halsports.net
X-WR-CALDESC:Events for Hal Sports
REFRESH-INTERVAL;VALUE=DURATION:PT1H
X-Robots-Tag:noindex
X-PUBLISHED-TTL:PT1H
BEGIN:VTIMEZONE
TZID:UTC
BEGIN:STANDARD
TZOFFSETFROM:+0000
TZOFFSETTO:+0000
TZNAME:UTC
DTSTART:20160101T000000
END:STANDARD
END:VTIMEZONE
BEGIN:VEVENT
DTSTART;TZID=UTC:20170218T090000
DTEND;TZID=UTC:20170218T120000
DTSTAMP:20260423T030320
CREATED:20170217T023851Z
LAST-MODIFIED:20170217T023851Z
UID:10000217-1487408400-1487419200@halsports.net
SUMMARY:Snowman Stampede 5 Mile & 10 Mile
DESCRIPTION:TU4GPE
URL:https://halsports.net/event/snowman-stampede-5-mile-10-mile/
LOCATION:Hudson Gardens\, 6115 S Santa Fe Dr\, Littleton\, CO\, 80127\, United States
CATEGORIES:Default Race
ATTACH;FMTTYPE=image/png:https://halsports.net/wp-content/uploads/2017/02/snowmanstampede.png
END:VEVENT
BEGIN:VEVENT
DTSTART;TZID=UTC:20170218T100000
DTEND;TZID=UTC:20170218T120000
DTSTAMP:20260423T030320
CREATED:20170217T035153Z
LAST-MODIFIED:20170217T035153Z
UID:10000219-1487412000-1487419200@halsports.net
SUMMARY:Cupid's Revenge Snowshoe Race 2017
DESCRIPTION:DEktsr
URL:https://halsports.net/event/cupids-revenge-snowshoe-race/
LOCATION:Hideaway Park\, 78821 US Highway 40\, Winter Park\, CO\, United States
CATEGORIES:Default Race
ATTACH;FMTTYPE=image/jpeg:https://halsports.net/wp-content/uploads/2017/02/cupid2.jpg
END:VEVENT
END:VCALENDAR