BEGIN:VCALENDAR
VERSION:2.0
PRODID:-//Hal Sports - ECPv6.15.18//NONSGML v1.0//EN
CALSCALE:GREGORIAN
METHOD:PUBLISH
X-ORIGINAL-URL:https://halsports.net
X-WR-CALDESC:Events for Hal Sports
REFRESH-INTERVAL;VALUE=DURATION:PT1H
X-Robots-Tag:noindex
X-PUBLISHED-TTL:PT1H
BEGIN:VTIMEZONE
TZID:UTC
BEGIN:STANDARD
TZOFFSETFROM:+0000
TZOFFSETTO:+0000
TZNAME:UTC
DTSTART:20160101T000000
END:STANDARD
END:VTIMEZONE
BEGIN:VEVENT
DTSTART;VALUE=DATE:20170205
DTEND;VALUE=DATE:20170206
DTSTAMP:20260422T164521
CREATED:20170209T025432Z
LAST-MODIFIED:20170209T025432Z
UID:10000215-1486252800-1486339199@halsports.net
SUMMARY:Super Bowl 5K
DESCRIPTION:5wohPe
URL:https://halsports.net/event/super-bowl-5k/
LOCATION:Washington Park\, 1700 E. Louisiana Ave.\, Denver\, CO\, 80210\, United States
CATEGORIES:Default Race
ATTACH;FMTTYPE=image/jpeg:https://halsports.net/wp-content/uploads/2017/02/Super-Bowl-5K.jpg
END:VEVENT
END:VCALENDAR